Workbook

Sheet Instrucciones
A2: Ultimo cambio:
A3: 28/Junio/2006: Las macros creadas se pueden ejecutar pulsando los 'botones' correspondientes para rellenar o borrar la Clasificación
A4: 20/Junio/2006: Se crea una macro en la hoja de 'Clasificación' para rellenar esta y sacar la clasificación. La macro se ejecuta con la combinación: Ctrl+Mayus+o. Se amplia con las centesimas el valor de los segundos de vuelo. Se modifica la hoja de toma de datos. Se añade un decimal a los puntos de vuelo y totales.
A7: 24/Mayo/2006: Si se pierde una parte o se aterriza a mas de 100 metros la puntuación es cero. No estaba recogido en el calculo automático, ni en la hojilla de toma de datos. Se incluye hoja datos participante.
A10: Las hojas estan protegidas. Solo se pueden introducir datos en las celdas que no se corresponden a calculos, aquellas que se usan para la toma de datos de los Jueces.
A12: DORSALES: Una vez cerrada la inscripción y sorteados los dorsales, se daran de alta los concursantes según el orden que les correspondió.
A14: Vuelo n: Hay seis hojas, una para cada vuelo de los concursantes. Estan divididas en cuatro minimangas, cada una de diez participantes. La introducción de los datos se hará según se realicen los vuelos, no importando el orden de los dorsales
A15: En cada una de las hojas de vuelos existe una primera 'minimanga' denominada "de repesca" que sólo se usará caso de realizarse ésta. Como de ésta minimanga sólo servirian las puntuaciones que mejoraran la anterior, a los concursantes que no le sirvan los punto obtenidos se sumará 50 a su número de dorsal
A17: Puntuaciones: En esta hoja tendremos el resumen de las puntuaciones de todos los participantes en todas las mangas
A19: Nota: En las filas 101 a 140 (ambas incluidas) de la columna D de las tablas de vuelos están 'escritos' los dorsales del 1 al 40 a los efectos de evitar mensajes en las celdas que, o no se introdujo dato, el dorsal no vuela, etc...
A21: Clasificación: Usar la combinación de teclas "" Control+Mayusculas+o (letra o) "", ejecuta una macro que realiza lo siguiente: En esta hoja COPIAREMOS de la hoja de Puntuaciones, todos los datos de los participantes (desde DORSAL hasta TOTAL FAI), con la opción copy.. Edit/Paste Special/Values. Luego procederemos a su clasificación por la columna de TOTAL FAI.
A23: Estas hojas, aunque están protegidas, no tiene contraseña.

Sheet Control Vuelos
B1: =Dorsales!A1 -> F5J -2013, Nuevo Alastur 24/05/13, Campeonato de Asturias y 2ª de la Liga
B3: Vuelo 1 | K3: Vuelo 4
A4: PUNTO TOMA | B4: MiniM 1 | C4: 0 | D4: MiniM 2 | E4: 0.0069444444 | F4: MiniM 3 | G4: 0.013888889 | H4: MiniM 4 | I4: ---- | J4: PUNTO TOMA | K4: MiniM 1 | L4: 0.0625 | M4: MiniM 2 | N4: 0.069444444 | O4: MiniM 3 | P4: 0.076388889 | Q4: MiniM 4 | R4: ----
B5: Dorsal | C5: Frec. | D5: Dorsal | E5: Frec. | F5: Dorsal | G5: Frec. | H5: Dorsal | I5: Frec. | K5: Dorsal | L5: Frec. | M5: Dorsal | N5: Frec. | O5: Dorsal | P5: Frec. | Q5: Dorsal | R5: Frec.
A6: 1 | B6: 19 | C6: =IF(VLOOKUP(B6,Dorsales!A:E,5,FALSE)=0,"",VLOOKUP(B6,Dorsales!A:E,5)) | D6: 2 | E6: =IF(VLOOKUP(D6,Dorsales!A:E,5,FALSE)=0,"",VLOOKUP(D6,Dorsales!A:E,5)) | F6: 8 | G6: =IF(VLOOKUP(F6,Dorsales!A:E,5,FALSE)=0,"",VLOOKUP(F6,Dorsales!A:E,5)) | I6: =IF(VLOOKUP(H6,Dorsales!A:E,5,FALSE)=0,"",VLOOKUP(H6,Dorsales!A:E,5)) | J6: 1 | K6: 16 | L6: =IF(VLOOKUP(K6,Dorsales!A:E,5,FALSE)=0,"",VLOOKUP(K6,Dorsales!A:E,5)) | M6: 26 | N6: =IF(VLOOKUP(M6,Dorsales!A:E,5,FALSE)=0,"",VLOOKUP(M6,Dorsales!A:E,5)) | O6: 22 | P6: =IF(VLOOKUP(O6,Dorsales!A:E,5,FALSE)=0,"",VLOOKUP(O6,Dorsales!A:E,5)) | R6: =IF(VLOOKUP(Q6,Dorsales!A:E,5,FALSE)=0,"",VLOOKUP(Q6,Dorsales!A:E,5))
A7: 2 | B7: 24 | C7: =IF(VLOOKUP(B7,Dorsales!A:E,5,FALSE)=0,"",VLOOKUP(B7,Dorsales!A:E,5)) | D7: 21 | E7: =IF(VLOOKUP(D7,Dorsales!A:E,5,FALSE)=0,"",VLOOKUP(D7,Dorsales!A:E,5)) | F7: 12 | G7: =IF(VLOOKUP(F7,Dorsales!A:E,5,FALSE)=0,"",VLOOKUP(F7,Dorsales!A:E,5)) | I7: =IF(VLOOKUP(H7,Dorsales!A:E,5,FALSE)=0,"",VLOOKUP(H7,Dorsales!A:E,5)) | J7: 2 | K7: 14 | L7: =IF(VLOOKUP(K7,Dorsales!A:E,5,FALSE)=0,"",VLOOKUP(K7,Dorsales!A:E,5)) | M7: 15 | N7: =IF(VLOOKUP(M7,Dorsales!A:E,5,FALSE)=0,"",VLOOKUP(M7,Dorsales!A:E,5)) | O7: 27 | P7: =IF(VLOOKUP(O7,Dorsales!A:E,5,FALSE)=0,"",VLOOKUP(O7,Dorsales!A:E,5)) | R7: =IF(VLOOKUP(Q7,Dorsales!A:E,5,FALSE)=0,"",VLOOKUP(Q7,Dorsales!A:E,5))
A8: 3 | B8: 16 | C8: =IF(VLOOKUP(B8,Dorsales!A:E,5,FALSE)=0,"",VLOOKUP(B8,Dorsales!A:E,5)) | D8: 11 | E8: =IF(VLOOKUP(D8,Dorsales!A:E,5,FALSE)=0,"",VLOOKUP(D8,Dorsales!A:E,5)) | F8: 5 | G8: =IF(VLOOKUP(F8,Dorsales!A:E,5,FALSE)=0,"",VLOOKUP(F8,Dorsales!A:E,5)) | I8: =IF(VLOOKUP(H8,Dorsales!A:E,5,FALSE)=0,"",VLOOKUP(H8,Dorsales!A:E,5)) | J8: 3 | K8: 5 | L8: =IF(VLOOKUP(K8,Dorsales!A:E,5,FALSE)=0,"",VLOOKUP(K8,Dorsales!A:E,5)) | M8: 12 | N8: =IF(VLOOKUP(M8,Dorsales!A:E,5,FALSE)=0,"",VLOOKUP(M8,Dorsales!A:E,5)) | O8: 19 | P8: =IF(VLOOKUP(O8,Dorsales!A:E,5,FALSE)=0,"",VLOOKUP(O8,Dorsales!A:E,5)) | R8: =IF(VLOOKUP(Q8,Dorsales!A:E,5,FALSE)=0,"",VLOOKUP(Q8,Dorsales!A:E,5))
A9: 4 | B9: 28 | C9: =IF(VLOOKUP(B9,Dorsales!A:E,5,FALSE)=0,"",VLOOKUP(B9,Dorsales!A:E,5)) | D9: 9 | E9: =IF(VLOOKUP(D9,Dorsales!A:E,5,FALSE)=0,"",VLOOKUP(D9,Dorsales!A:E,5)) | F9: 7 | G9: =IF(VLOOKUP(F9,Dorsales!A:E,5,FALSE)=0,"",VLOOKUP(F9,Dorsales!A:E,5)) | I9: =IF(VLOOKUP(H9,Dorsales!A:E,5,FALSE)=0,"",VLOOKUP(H9,Dorsales!A:E,5)) | J9: 4 | K9: 25 | L9: =IF(VLOOKUP(K9,Dorsales!A:E,5,FALSE)=0,"",VLOOKUP(K9,Dorsales!A:E,5)) | M9: 17 | N9: =IF(VLOOKUP(M9,Dorsales!A:E,5,FALSE)=0,"",VLOOKUP(M9,Dorsales!A:E,5)) | O9: 6 | P9: =IF(VLOOKUP(O9,Dorsales!A:E,5,FALSE)=0,"",VLOOKUP(O9,Dorsales!A:E,5)) | R9: =IF(VLOOKUP(Q9,Dorsales!A:E,5,FALSE)=0,"",VLOOKUP(Q9,Dorsales!A:E,5))
A10: 5 | B10: 23 | C10: =IF(VLOOKUP(B10,Dorsales!A:E,5,FALSE)=0,"",VLOOKUP(B10,Dorsales!A:E,5)) | D10: 13 | E10: =IF(VLOOKUP(D10,Dorsales!A:E,5,FALSE)=0,"",VLOOKUP(D10,Dorsales!A:E,5)) | F10: 29 | G10: =IF(VLOOKUP(F10,Dorsales!A:E,5,FALSE)=0,"",VLOOKUP(F10,Dorsales!A:E,5)) | I10: =IF(VLOOKUP(H10,Dorsales!A:E,5,FALSE)=0,"",VLOOKUP(H10,Dorsales!A:E,5)) | J10: 5 | K10: 28 | L10: =IF(VLOOKUP(K10,Dorsales!A:E,5,FALSE)=0,"",VLOOKUP(K10,Dorsales!A:E,5)) | M10: 29 | N10: =IF(VLOOKUP(M10,Dorsales!A:E,5,FALSE)=0,"",VLOOKUP(M10,Dorsales!A:E,5)) | O10: 8 | P10: =IF(VLOOKUP(O10,Dorsales!A:E,5,FALSE)=0,"",VLOOKUP(O10,Dorsales!A:E,5)) | R10: =IF(VLOOKUP(Q10,Dorsales!A:E,5,FALSE)=0,"",VLOOKUP(Q10,Dorsales!A:E,5))
A11: 6 | B11: 1 | C11: =IF(VLOOKUP(B11,Dorsales!A:E,5,FALSE)=0,"",VLOOKUP(B11,Dorsales!A:E,5)) | D11: 6 | E11: =IF(VLOOKUP(D11,Dorsales!A:E,5,FALSE)=0,"",VLOOKUP(D11,Dorsales!A:E,5)) | F11: 17 | G11: =IF(VLOOKUP(F11,Dorsales!A:E,5,FALSE)=0,"",VLOOKUP(F11,Dorsales!A:E,5)) | I11: =IF(VLOOKUP(H11,Dorsales!A:E,5,FALSE)=0,"",VLOOKUP(H11,Dorsales!A:E,5)) | J11: 6 | K11: 2 | L11: =IF(VLOOKUP(K11,Dorsales!A:E,5,FALSE)=0,"",VLOOKUP(K11,Dorsales!A:E,5)) | M11: 3 | N11: =IF(VLOOKUP(M11,Dorsales!A:E,5,FALSE)=0,"",VLOOKUP(M11,Dorsales!A:E,5)) | O11: 11 | P11: =IF(VLOOKUP(O11,Dorsales!A:E,5,FALSE)=0,"",VLOOKUP(O11,Dorsales!A:E,5)) | R11: =IF(VLOOKUP(Q11,Dorsales!A:E,5,FALSE)=0,"",VLOOKUP(Q11,Dorsales!A:E,5))
A12: 7 | B12: 27 | C12: =IF(VLOOKUP(B12,Dorsales!A:E,5,FALSE)=0,"",VLOOKUP(B12,Dorsales!A:E,5)) | D12: 15 | E12: =IF(VLOOKUP(D12,Dorsales!A:E,5,FALSE)=0,"",VLOOKUP(D12,Dorsales!A:E,5)) | F12: 26 | G12: =IF(VLOOKUP(F12,Dorsales!A:E,5,FALSE)=0,"",VLOOKUP(F12,Dorsales!A:E,5)) | I12: =IF(VLOOKUP(H12,Dorsales!A:E,5,FALSE)=0,"",VLOOKUP(H12,Dorsales!A:E,5)) | J12: 7 | K12: 13 | L12: =IF(VLOOKUP(K12,Dorsales!A:E,5,FALSE)=0,"",VLOOKUP(K12,Dorsales!A:E,5)) | M12: 21 | N12: =IF(VLOOKUP(M12,Dorsales!A:E,5,FALSE)=0,"",VLOOKUP(M12,Dorsales!A:E,5)) | O12: 23 | P12: =IF(VLOOKUP(O12,Dorsales!A:E,5,FALSE)=0,"",VLOOKUP(O12,Dorsales!A:E,5)) | R12: =IF(VLOOKUP(Q12,Dorsales!A:E,5,FALSE)=0,"",VLOOKUP(Q12,Dorsales!A:E,5))
A13: 8 | B13: 4 | C13: =IF(VLOOKUP(B13,Dorsales!A:E,5,FALSE)=0,"",VLOOKUP(B13,Dorsales!A:E,5)) | D13: 14 | E13: =IF(VLOOKUP(D13,Dorsales!A:E,5,FALSE)=0,"",VLOOKUP(D13,Dorsales!A:E,5)) | F13: 25 | G13: =IF(VLOOKUP(F13,Dorsales!A:E,5,FALSE)=0,"",VLOOKUP(F13,Dorsales!A:E,5)) | I13: =IF(VLOOKUP(H13,Dorsales!A:E,5,FALSE)=0,"",VLOOKUP(H13,Dorsales!A:E,5)) | J13: 8 | K13: 4 | L13: =IF(VLOOKUP(K13,Dorsales!A:E,5,FALSE)=0,"",VLOOKUP(K13,Dorsales!A:E,5)) | M13: 24 | N13: =IF(VLOOKUP(M13,Dorsales!A:E,5,FALSE)=0,"",VLOOKUP(M13,Dorsales!A:E,5)) | O13: 10 | P13: =IF(VLOOKUP(O13,Dorsales!A:E,5,FALSE)=0,"",VLOOKUP(O13,Dorsales!A:E,5)) | R13: =IF(VLOOKUP(Q13,Dorsales!A:E,5,FALSE)=0,"",VLOOKUP(Q13,Dorsales!A:E,5))
A14: 9 | B14: 10 | C14: =IF(VLOOKUP(B14,Dorsales!A:E,5,FALSE)=0,"",VLOOKUP(B14,Dorsales!A:E,5)) | D14: 3 | E14: =IF(VLOOKUP(D14,Dorsales!A:E,5,FALSE)=0,"",VLOOKUP(D14,Dorsales!A:E,5)) | F14: 22 | G14: =IF(VLOOKUP(F14,Dorsales!A:E,5,FALSE)=0,"",VLOOKUP(F14,Dorsales!A:E,5)) | I14: =IF(VLOOKUP(H14,Dorsales!A:E,5,FALSE)=0,"",VLOOKUP(H14,Dorsales!A:E,5)) | J14: 9 | K14: 1 | L14: =IF(VLOOKUP(K14,Dorsales!A:E,5,FALSE)=0,"",VLOOKUP(K14,Dorsales!A:E,5)) | M14: 9 | N14: =IF(VLOOKUP(M14,Dorsales!A:E,5,FALSE)=0,"",VLOOKUP(M14,Dorsales!A:E,5)) | O14: 7 | P14: =IF(VLOOKUP(O14,Dorsales!A:E,5,FALSE)=0,"",VLOOKUP(O14,Dorsales!A:E,5)) | R14: =IF(VLOOKUP(Q14,Dorsales!A:E,5,FALSE)=0,"",VLOOKUP(Q14,Dorsales!A:E,5))
A15: 10 | C15: =IF(VLOOKUP(B15,Dorsales!A:E,5,FALSE)=0,"",VLOOKUP(B15,Dorsales!A:E,5)) | E15: =IF(VLOOKUP(D15,Dorsales!A:E,5,FALSE)=0,"",VLOOKUP(D15,Dorsales!A:E,5)) | G15: =IF(VLOOKUP(F15,Dorsales!A:E,5,FALSE)=0,"",VLOOKUP(F15,Dorsales!A:E,5)) | I15: =IF(VLOOKUP(H15,Dorsales!A:E,5,FALSE)=0,"",VLOOKUP(H15,Dorsales!A:E,5)) | J15: 10 | L15: =IF(VLOOKUP(K15,Dorsales!A:E,5,FALSE)=0,"",VLOOKUP(K15,Dorsales!A:E,5)) | N15: =IF(VLOOKUP(M15,Dorsales!A:E,5,FALSE)=0,"",VLOOKUP(M15,Dorsales!A:E,5)) | P15: =IF(VLOOKUP(O15,Dorsales!A:E,5,FALSE)=0,"",VLOOKUP(O15,Dorsales!A:E,5)) | R15: =IF(VLOOKUP(Q15,Dorsales!A:E,5,FALSE)=0,"",VLOOKUP(Q15,Dorsales!A:E,5))
B18: Vuelo 2 | K18: Vuelo 5
A19: PUNTO TOMA | B19: MiniM 1 | C19: 0.020833333 | D19: MiniM 2 | E19: 0.027777778 | F19: MiniM 3 | G19: 0.034722222 | H19: MiniM 4 | I19: ---- | J19: PUNTO TOMA | K19: MiniM 1 | L19: 0.083333333 | M19: MiniM 2 | N19: 0.090277778 | O19: MiniM 3 | P19: 0.097222222 | Q19: MiniM 4 | R19: ----
B20: Dorsal | C20: Frec. | D20: Dorsal | E20: Frec. | F20: Dorsal | G20: Frec. | H20: Dorsal | I20: Frec. | K20: Dorsal | L20: Frec. | M20: Dorsal | N20: Frec. | O20: Dorsal | P20: Frec. | Q20: Dorsal | R20: Frec.
A21: 1 | B21: 8 | C21: =IF(VLOOKUP(B21,Dorsales!A:E,5,FALSE)=0,"",VLOOKUP(B21,Dorsales!A:E,5)) | D21: 5 | E21: =IF(VLOOKUP(D21,Dorsales!A:E,5,FALSE)=0,"",VLOOKUP(D21,Dorsales!A:E,5)) | F21: 16 | G21: =IF(VLOOKUP(F21,Dorsales!A:E,5,FALSE)=0,"",VLOOKUP(F21,Dorsales!A:E,5)) | I21: =IF(VLOOKUP(H21,Dorsales!A:E,5,FALSE)=0,"",VLOOKUP(H21,Dorsales!A:E,5)) | J21: 1 | K21: 1 | L21: =IF(VLOOKUP(K21,Dorsales!A:E,5,FALSE)=0,"",VLOOKUP(K21,Dorsales!A:E,5)) | M21: 13 | N21: =IF(VLOOKUP(M21,Dorsales!A:E,5,FALSE)=0,"",VLOOKUP(M21,Dorsales!A:E,5)) | O21: 10 | P21: =IF(VLOOKUP(O21,Dorsales!A:E,5,FALSE)=0,"",VLOOKUP(O21,Dorsales!A:E,5)) | R21: =IF(VLOOKUP(Q21,Dorsales!A:E,5,FALSE)=0,"",VLOOKUP(Q21,Dorsales!A:E,5))
A22: 2 | B22: 19 | C22: =IF(VLOOKUP(B22,Dorsales!A:E,5,FALSE)=0,"",VLOOKUP(B22,Dorsales!A:E,5)) | D22: 13 | E22: =IF(VLOOKUP(D22,Dorsales!A:E,5,FALSE)=0,"",VLOOKUP(D22,Dorsales!A:E,5)) | F22: 7 | G22: =IF(VLOOKUP(F22,Dorsales!A:E,5,FALSE)=0,"",VLOOKUP(F22,Dorsales!A:E,5)) | I22: =IF(VLOOKUP(H22,Dorsales!A:E,5,FALSE)=0,"",VLOOKUP(H22,Dorsales!A:E,5)) | J22: 2 | K22: 7 | L22: =IF(VLOOKUP(K22,Dorsales!A:E,5,FALSE)=0,"",VLOOKUP(K22,Dorsales!A:E,5)) | M22: 8 | N22: =IF(VLOOKUP(M22,Dorsales!A:E,5,FALSE)=0,"",VLOOKUP(M22,Dorsales!A:E,5)) | O22: 5 | P22: =IF(VLOOKUP(O22,Dorsales!A:E,5,FALSE)=0,"",VLOOKUP(O22,Dorsales!A:E,5)) | R22: =IF(VLOOKUP(Q22,Dorsales!A:E,5,FALSE)=0,"",VLOOKUP(Q22,Dorsales!A:E,5))
A23: 3 | B23: 2 | C23: =IF(VLOOKUP(B23,Dorsales!A:E,5,FALSE)=0,"",VLOOKUP(B23,Dorsales!A:E,5)) | D23: 4 | E23: =IF(VLOOKUP(D23,Dorsales!A:E,5,FALSE)=0,"",VLOOKUP(D23,Dorsales!A:E,5)) | F23: 10 | G23: =IF(VLOOKUP(F23,Dorsales!A:E,5,FALSE)=0,"",VLOOKUP(F23,Dorsales!A:E,5)) | I23: =IF(VLOOKUP(H23,Dorsales!A:E,5,FALSE)=0,"",VLOOKUP(H23,Dorsales!A:E,5)) | J23: 3 | K23: 12 | L23: =IF(VLOOKUP(K23,Dorsales!A:E,5,FALSE)=0,"",VLOOKUP(K23,Dorsales!A:E,5)) | M23: 25 | N23: =IF(VLOOKUP(M23,Dorsales!A:E,5,FALSE)=0,"",VLOOKUP(M23,Dorsales!A:E,5)) | O23: 24 | P23: =IF(VLOOKUP(O23,Dorsales!A:E,5,FALSE)=0,"",VLOOKUP(O23,Dorsales!A:E,5)) | R23: =IF(VLOOKUP(Q23,Dorsales!A:E,5,FALSE)=0,"",VLOOKUP(Q23,Dorsales!A:E,5))
A24: 4 | B24: 27 | C24: =IF(VLOOKUP(B24,Dorsales!A:E,5,FALSE)=0,"",VLOOKUP(B24,Dorsales!A:E,5)) | D24: 17 | E24: =IF(VLOOKUP(D24,Dorsales!A:E,5,FALSE)=0,"",VLOOKUP(D24,Dorsales!A:E,5)) | F24: 15 | G24: =IF(VLOOKUP(F24,Dorsales!A:E,5,FALSE)=0,"",VLOOKUP(F24,Dorsales!A:E,5)) | I24: =IF(VLOOKUP(H24,Dorsales!A:E,5,FALSE)=0,"",VLOOKUP(H24,Dorsales!A:E,5)) | J24: 4 | K24: 6 | L24: =IF(VLOOKUP(K24,Dorsales!A:E,5,FALSE)=0,"",VLOOKUP(K24,Dorsales!A:E,5)) | M24: 15 | N24: =IF(VLOOKUP(M24,Dorsales!A:E,5,FALSE)=0,"",VLOOKUP(M24,Dorsales!A:E,5)) | O24: 23 | P24: =IF(VLOOKUP(O24,Dorsales!A:E,5,FALSE)=0,"",VLOOKUP(O24,Dorsales!A:E,5)) | R24: =IF(VLOOKUP(Q24,Dorsales!A:E,5,FALSE)=0,"",VLOOKUP(Q24,Dorsales!A:E,5))
A25: 5 | B25: 11 | C25: =IF(VLOOKUP(B25,Dorsales!A:E,5,FALSE)=0,"",VLOOKUP(B25,Dorsales!A:E,5)) | D25: 22 | E25: =IF(VLOOKUP(D25,Dorsales!A:E,5,FALSE)=0,"",VLOOKUP(D25,Dorsales!A:E,5)) | F25: 14 | G25: =IF(VLOOKUP(F25,Dorsales!A:E,5,FALSE)=0,"",VLOOKUP(F25,Dorsales!A:E,5)) | I25: =IF(VLOOKUP(H25,Dorsales!A:E,5,FALSE)=0,"",VLOOKUP(H25,Dorsales!A:E,5)) | J25: 5 | K25: 26 | L25: =IF(VLOOKUP(K25,Dorsales!A:E,5,FALSE)=0,"",VLOOKUP(K25,Dorsales!A:E,5)) | M25: 2 | N25: =IF(VLOOKUP(M25,Dorsales!A:E,5,FALSE)=0,"",VLOOKUP(M25,Dorsales!A:E,5)) | O25: 9 | P25: =IF(VLOOKUP(O25,Dorsales!A:E,5,FALSE)=0,"",VLOOKUP(O25,Dorsales!A:E,5)) | R25: =IF(VLOOKUP(Q25,Dorsales!A:E,5,FALSE)=0,"",VLOOKUP(Q25,Dorsales!A:E,5))
A26: 6 | B26: 3 | C26: =IF(VLOOKUP(B26,Dorsales!A:E,5,FALSE)=0,"",VLOOKUP(B26,Dorsales!A:E,5)) | D26: 6 | E26: =IF(VLOOKUP(D26,Dorsales!A:E,5,FALSE)=0,"",VLOOKUP(D26,Dorsales!A:E,5)) | F26: 21 | G26: =IF(VLOOKUP(F26,Dorsales!A:E,5,FALSE)=0,"",VLOOKUP(F26,Dorsales!A:E,5)) | I26: =IF(VLOOKUP(H26,Dorsales!A:E,5,FALSE)=0,"",VLOOKUP(H26,Dorsales!A:E,5)) | J26: 6 | K26: 3 | L26: =IF(VLOOKUP(K26,Dorsales!A:E,5,FALSE)=0,"",VLOOKUP(K26,Dorsales!A:E,5)) | M26: 11 | N26: =IF(VLOOKUP(M26,Dorsales!A:E,5,FALSE)=0,"",VLOOKUP(M26,Dorsales!A:E,5)) | O26: 19 | P26: =IF(VLOOKUP(O26,Dorsales!A:E,5,FALSE)=0,"",VLOOKUP(O26,Dorsales!A:E,5)) | R26: =IF(VLOOKUP(Q26,Dorsales!A:E,5,FALSE)=0,"",VLOOKUP(Q26,Dorsales!A:E,5))
A27: 7 | B27: 9 | C27: =IF(VLOOKUP(B27,Dorsales!A:E,5,FALSE)=0,"",VLOOKUP(B27,Dorsales!A:E,5)) | D27: 26 | E27: =IF(VLOOKUP(D27,Dorsales!A:E,5,FALSE)=0,"",VLOOKUP(D27,Dorsales!A:E,5)) | F27: 29 | G27: =IF(VLOOKUP(F27,Dorsales!A:E,5,FALSE)=0,"",VLOOKUP(F27,Dorsales!A:E,5)) | I27: =IF(VLOOKUP(H27,Dorsales!A:E,5,FALSE)=0,"",VLOOKUP(H27,Dorsales!A:E,5)) | J27: 7 | K27: 21 | L27: =IF(VLOOKUP(K27,Dorsales!A:E,5,FALSE)=0,"",VLOOKUP(K27,Dorsales!A:E,5)) | M27: 29 | N27: =IF(VLOOKUP(M27,Dorsales!A:E,5,FALSE)=0,"",VLOOKUP(M27,Dorsales!A:E,5)) | O27: 16 | P27: =IF(VLOOKUP(O27,Dorsales!A:E,5,FALSE)=0,"",VLOOKUP(O27,Dorsales!A:E,5)) | R27: =IF(VLOOKUP(Q27,Dorsales!A:E,5,FALSE)=0,"",VLOOKUP(Q27,Dorsales!A:E,5))
A28: 8 | B28: 28 | C28: =IF(VLOOKUP(B28,Dorsales!A:E,5,FALSE)=0,"",VLOOKUP(B28,Dorsales!A:E,5)) | D28: 23 | E28: =IF(VLOOKUP(D28,Dorsales!A:E,5,FALSE)=0,"",VLOOKUP(D28,Dorsales!A:E,5)) | F28: 24 | G28: =IF(VLOOKUP(F28,Dorsales!A:E,5,FALSE)=0,"",VLOOKUP(F28,Dorsales!A:E,5)) | I28: =IF(VLOOKUP(H28,Dorsales!A:E,5,FALSE)=0,"",VLOOKUP(H28,Dorsales!A:E,5)) | J28: 8 | K28: 28 | L28: =IF(VLOOKUP(K28,Dorsales!A:E,5,FALSE)=0,"",VLOOKUP(K28,Dorsales!A:E,5)) | M28: 4 | N28: =IF(VLOOKUP(M28,Dorsales!A:E,5,FALSE)=0,"",VLOOKUP(M28,Dorsales!A:E,5)) | O28: 14 | P28: =IF(VLOOKUP(O28,Dorsales!A:E,5,FALSE)=0,"",VLOOKUP(O28,Dorsales!A:E,5)) | R28: =IF(VLOOKUP(Q28,Dorsales!A:E,5,FALSE)=0,"",VLOOKUP(Q28,Dorsales!A:E,5))
A29: 9 | B29: 12 | C29: =IF(VLOOKUP(B29,Dorsales!A:E,5,FALSE)=0,"",VLOOKUP(B29,Dorsales!A:E,5)) | D29: 1 | E29: =IF(VLOOKUP(D29,Dorsales!A:E,5,FALSE)=0,"",VLOOKUP(D29,Dorsales!A:E,5)) | F29: 25 | G29: =IF(VLOOKUP(F29,Dorsales!A:E,5,FALSE)=0,"",VLOOKUP(F29,Dorsales!A:E,5)) | I29: =IF(VLOOKUP(H29,Dorsales!A:E,5,FALSE)=0,"",VLOOKUP(H29,Dorsales!A:E,5)) | J29: 9 | K29: 22 | L29: =IF(VLOOKUP(K29,Dorsales!A:E,5,FALSE)=0,"",VLOOKUP(K29,Dorsales!A:E,5)) | M29: 27 | N29: =IF(VLOOKUP(M29,Dorsales!A:E,5,FALSE)=0,"",VLOOKUP(M29,Dorsales!A:E,5)) | O29: 17 | P29: =IF(VLOOKUP(O29,Dorsales!A:E,5,FALSE)=0,"",VLOOKUP(O29,Dorsales!A:E,5)) | R29: =IF(VLOOKUP(Q29,Dorsales!A:E,5,FALSE)=0,"",VLOOKUP(Q29,Dorsales!A:E,5))
A30: 10 | C30: =IF(VLOOKUP(B30,Dorsales!A:E,5,FALSE)=0,"",VLOOKUP(B30,Dorsales!A:E,5)) | E30: =IF(VLOOKUP(D30,Dorsales!A:E,5,FALSE)=0,"",VLOOKUP(D30,Dorsales!A:E,5)) | G30: =IF(VLOOKUP(F30,Dorsales!A:E,5,FALSE)=0,"",VLOOKUP(F30,Dorsales!A:E,5)) | I30: =IF(VLOOKUP(H30,Dorsales!A:E,5,FALSE)=0,"",VLOOKUP(H30,Dorsales!A:E,5)) | J30: 10 | L30: =IF(VLOOKUP(K30,Dorsales!A:E,5,FALSE)=0,"",VLOOKUP(K30,Dorsales!A:E,5)) | N30: =IF(VLOOKUP(M30,Dorsales!A:E,5,FALSE)=0,"",VLOOKUP(M30,Dorsales!A:E,5)) | P30: =IF(VLOOKUP(O30,Dorsales!A:E,5,FALSE)=0,"",VLOOKUP(O30,Dorsales!A:E,5)) | R30: =IF(VLOOKUP(Q30,Dorsales!A:E,5,FALSE)=0,"",VLOOKUP(Q30,Dorsales!A:E,5))
B33: Vuelo 3 | K33: Vuelo 6
A34: PUNTO TOMA | B34: MiniM 1 | C34: 0.041666667 | D34: MiniM 2 | E34: 0.048611111 | F34: MiniM 3 | G34: 0.055555556 | H34: MiniM 4 | J34: PUNTO TOMA | K34: MiniM 1 | L34: 0.10416667 | M34: MiniM 2 | N34: 0.11111111 | O34: MiniM 3 | P34: 0.11805556 | Q34: MiniM 4 | R34: ----
B35: Dorsal | C35: Frec. | D35: Dorsal | E35: Frec. | F35: Dorsal | G35: Frec. | H35: Dorsal | I35: Frec. | K35: Dorsal | L35: Frec. | M35: Dorsal | N35: Frec. | O35: Dorsal | P35: Frec. | Q35: Dorsal | R35: Frec.
A36: 1 | B36: 3 | C36: =IF(VLOOKUP(B36,Dorsales!A:E,5,FALSE)=0,"",VLOOKUP(B36,Dorsales!A:E,5)) | D36: 21 | E36: =IF(VLOOKUP(D36,Dorsales!A:E,5,FALSE)=0,"",VLOOKUP(D36,Dorsales!A:E,5)) | F36: 10 | G36: =IF(VLOOKUP(F36,Dorsales!A:E,5,FALSE)=0,"",VLOOKUP(F36,Dorsales!A:E,5)) | I36: =IF(VLOOKUP(H36,Dorsales!A:E,5,FALSE)=0,"",VLOOKUP(H36,Dorsales!A:E,5)) | J36: 1 | K36: 26 | L36: =IF(VLOOKUP(K36,Dorsales!A:E,5,FALSE)=0,"",VLOOKUP(K36,Dorsales!A:E,5)) | M36: 12 | N36: =IF(VLOOKUP(M36,Dorsales!A:E,5,FALSE)=0,"",VLOOKUP(M36,Dorsales!A:E,5)) | O36: 14 | P36: =IF(VLOOKUP(O36,Dorsales!A:E,5,FALSE)=0,"",VLOOKUP(O36,Dorsales!A:E,5)) | R36: =IF(VLOOKUP(Q36,Dorsales!A:E,5,FALSE)=0,"",VLOOKUP(Q36,Dorsales!A:E,5))
A37: 2 | B37: 23 | C37: =IF(VLOOKUP(B37,Dorsales!A:E,5,FALSE)=0,"",VLOOKUP(B37,Dorsales!A:E,5)) | D37: 28 | E37: =IF(VLOOKUP(D37,Dorsales!A:E,5,FALSE)=0,"",VLOOKUP(D37,Dorsales!A:E,5)) | F37: 2 | G37: =IF(VLOOKUP(F37,Dorsales!A:E,5,FALSE)=0,"",VLOOKUP(F37,Dorsales!A:E,5)) | I37: =IF(VLOOKUP(H37,Dorsales!A:E,5,FALSE)=0,"",VLOOKUP(H37,Dorsales!A:E,5)) | J37: 2 | K37: 8 | L37: =IF(VLOOKUP(K37,Dorsales!A:E,5,FALSE)=0,"",VLOOKUP(K37,Dorsales!A:E,5)) | M37: 25 | N37: =IF(VLOOKUP(M37,Dorsales!A:E,5,FALSE)=0,"",VLOOKUP(M37,Dorsales!A:E,5)) | O37: 17 | P37: =IF(VLOOKUP(O37,Dorsales!A:E,5,FALSE)=0,"",VLOOKUP(O37,Dorsales!A:E,5)) | R37: =IF(VLOOKUP(Q37,Dorsales!A:E,5,FALSE)=0,"",VLOOKUP(Q37,Dorsales!A:E,5))
A38: 3 | B38: 5 | C38: =IF(VLOOKUP(B38,Dorsales!A:E,5,FALSE)=0,"",VLOOKUP(B38,Dorsales!A:E,5)) | D38: 12 | E38: =IF(VLOOKUP(D38,Dorsales!A:E,5,FALSE)=0,"",VLOOKUP(D38,Dorsales!A:E,5)) | F38: 25 | G38: =IF(VLOOKUP(F38,Dorsales!A:E,5,FALSE)=0,"",VLOOKUP(F38,Dorsales!A:E,5)) | I38: =IF(VLOOKUP(H38,Dorsales!A:E,5,FALSE)=0,"",VLOOKUP(H38,Dorsales!A:E,5)) | J38: 3 | K38: 27 | L38: =IF(VLOOKUP(K38,Dorsales!A:E,5,FALSE)=0,"",VLOOKUP(K38,Dorsales!A:E,5)) | M38: 19 | N38: =IF(VLOOKUP(M38,Dorsales!A:E,5,FALSE)=0,"",VLOOKUP(M38,Dorsales!A:E,5)) | O38: 21 | P38: =IF(VLOOKUP(O38,Dorsales!A:E,5,FALSE)=0,"",VLOOKUP(O38,Dorsales!A:E,5)) | R38: =IF(VLOOKUP(Q38,Dorsales!A:E,5,FALSE)=0,"",VLOOKUP(Q38,Dorsales!A:E,5))
A39: 4 | B39: 15 | C39: =IF(VLOOKUP(B39,Dorsales!A:E,5,FALSE)=0,"",VLOOKUP(B39,Dorsales!A:E,5)) | D39: 16 | E39: =IF(VLOOKUP(D39,Dorsales!A:E,5,FALSE)=0,"",VLOOKUP(D39,Dorsales!A:E,5)) | F39: 19 | G39: =IF(VLOOKUP(F39,Dorsales!A:E,5,FALSE)=0,"",VLOOKUP(F39,Dorsales!A:E,5)) | I39: =IF(VLOOKUP(H39,Dorsales!A:E,5,FALSE)=0,"",VLOOKUP(H39,Dorsales!A:E,5)) | J39: 4 | K39: 16 | L39: =IF(VLOOKUP(K39,Dorsales!A:E,5,FALSE)=0,"",VLOOKUP(K39,Dorsales!A:E,5)) | M39: 9 | N39: =IF(VLOOKUP(M39,Dorsales!A:E,5,FALSE)=0,"",VLOOKUP(M39,Dorsales!A:E,5)) | O39: 11 | P39: =IF(VLOOKUP(O39,Dorsales!A:E,5,FALSE)=0,"",VLOOKUP(O39,Dorsales!A:E,5)) | R39: =IF(VLOOKUP(Q39,Dorsales!A:E,5,FALSE)=0,"",VLOOKUP(Q39,Dorsales!A:E,5))
A40: 5 | B40: 27 | C40: =IF(VLOOKUP(B40,Dorsales!A:E,5,FALSE)=0,"",VLOOKUP(B40,Dorsales!A:E,5)) | D40: 6 | E40: =IF(VLOOKUP(D40,Dorsales!A:E,5,FALSE)=0,"",VLOOKUP(D40,Dorsales!A:E,5)) | F40: 7 | G40: =IF(VLOOKUP(F40,Dorsales!A:E,5,FALSE)=0,"",VLOOKUP(F40,Dorsales!A:E,5)) | I40: =IF(VLOOKUP(H40,Dorsales!A:E,5,FALSE)=0,"",VLOOKUP(H40,Dorsales!A:E,5)) | J40: 5 | K40: 3 | L40: =IF(VLOOKUP(K40,Dorsales!A:E,5,FALSE)=0,"",VLOOKUP(K40,Dorsales!A:E,5)) | M40: 6 | N40: =IF(VLOOKUP(M40,Dorsales!A:E,5,FALSE)=0,"",VLOOKUP(M40,Dorsales!A:E,5)) | O40: 29 | P40: =IF(VLOOKUP(O40,Dorsales!A:E,5,FALSE)=0,"",VLOOKUP(O40,Dorsales!A:E,5)) | R40: =IF(VLOOKUP(Q40,Dorsales!A:E,5,FALSE)=0,"",VLOOKUP(Q40,Dorsales!A:E,5))
A41: 6 | B41: 9 | C41: =IF(VLOOKUP(B41,Dorsales!A:E,5,FALSE)=0,"",VLOOKUP(B41,Dorsales!A:E,5)) | D41: 24 | E41: =IF(VLOOKUP(D41,Dorsales!A:E,5,FALSE)=0,"",VLOOKUP(D41,Dorsales!A:E,5)) | F41: 1 | G41: =IF(VLOOKUP(F41,Dorsales!A:E,5,FALSE)=0,"",VLOOKUP(F41,Dorsales!A:E,5)) | I41: =IF(VLOOKUP(H41,Dorsales!A:E,5,FALSE)=0,"",VLOOKUP(H41,Dorsales!A:E,5)) | J41: 6 | K41: 13 | L41: =IF(VLOOKUP(K41,Dorsales!A:E,5,FALSE)=0,"",VLOOKUP(K41,Dorsales!A:E,5)) | M41: 28 | N41: =IF(VLOOKUP(M41,Dorsales!A:E,5,FALSE)=0,"",VLOOKUP(M41,Dorsales!A:E,5)) | O41: 7 | P41: =IF(VLOOKUP(O41,Dorsales!A:E,5,FALSE)=0,"",VLOOKUP(O41,Dorsales!A:E,5)) | R41: =IF(VLOOKUP(Q41,Dorsales!A:E,5,FALSE)=0,"",VLOOKUP(Q41,Dorsales!A:E,5))
A42: 7 | B42: 22 | C42: =IF(VLOOKUP(B42,Dorsales!A:E,5,FALSE)=0,"",VLOOKUP(B42,Dorsales!A:E,5)) | D42: 17 | E42: =IF(VLOOKUP(D42,Dorsales!A:E,5,FALSE)=0,"",VLOOKUP(D42,Dorsales!A:E,5)) | F42: 26 | G42: =IF(VLOOKUP(F42,Dorsales!A:E,5,FALSE)=0,"",VLOOKUP(F42,Dorsales!A:E,5)) | I42: =IF(VLOOKUP(H42,Dorsales!A:E,5,FALSE)=0,"",VLOOKUP(H42,Dorsales!A:E,5)) | J42: 7 | K42: 2 | L42: =IF(VLOOKUP(K42,Dorsales!A:E,5,FALSE)=0,"",VLOOKUP(K42,Dorsales!A:E,5)) | M42: 22 | N42: =IF(VLOOKUP(M42,Dorsales!A:E,5,FALSE)=0,"",VLOOKUP(M42,Dorsales!A:E,5)) | O42: 24 | P42: =IF(VLOOKUP(O42,Dorsales!A:E,5,FALSE)=0,"",VLOOKUP(O42,Dorsales!A:E,5)) | R42: =IF(VLOOKUP(Q42,Dorsales!A:E,5,FALSE)=0,"",VLOOKUP(Q42,Dorsales!A:E,5))
A43: 8 | B43: 13 | C43: =IF(VLOOKUP(B43,Dorsales!A:E,5,FALSE)=0,"",VLOOKUP(B43,Dorsales!A:E,5)) | D43: 8 | E43: =IF(VLOOKUP(D43,Dorsales!A:E,5,FALSE)=0,"",VLOOKUP(D43,Dorsales!A:E,5)) | F43: 11 | G43: =IF(VLOOKUP(F43,Dorsales!A:E,5,FALSE)=0,"",VLOOKUP(F43,Dorsales!A:E,5)) | I43: =IF(VLOOKUP(H43,Dorsales!A:E,5,FALSE)=0,"",VLOOKUP(H43,Dorsales!A:E,5)) | J43: 8 | K43: 1 | L43: =IF(VLOOKUP(K43,Dorsales!A:E,5,FALSE)=0,"",VLOOKUP(K43,Dorsales!A:E,5)) | M43: 4 | N43: =IF(VLOOKUP(M43,Dorsales!A:E,5,FALSE)=0,"",VLOOKUP(M43,Dorsales!A:E,5)) | O43: 5 | P43: =IF(VLOOKUP(O43,Dorsales!A:E,5,FALSE)=0,"",VLOOKUP(O43,Dorsales!A:E,5)) | R43: =IF(VLOOKUP(Q43,Dorsales!A:E,5,FALSE)=0,"",VLOOKUP(Q43,Dorsales!A:E,5))
A44: 9 | B44: 14 | C44: =IF(VLOOKUP(B44,Dorsales!A:E,5,FALSE)=0,"",VLOOKUP(B44,Dorsales!A:E,5)) | D44: 29 | E44: =IF(VLOOKUP(D44,Dorsales!A:E,5,FALSE)=0,"",VLOOKUP(D44,Dorsales!A:E,5)) | F44: 4 | G44: =IF(VLOOKUP(F44,Dorsales!A:E,5,FALSE)=0,"",VLOOKUP(F44,Dorsales!A:E,5)) | I44: =IF(VLOOKUP(H44,Dorsales!A:E,5,FALSE)=0,"",VLOOKUP(H44,Dorsales!A:E,5)) | J44: 9 | K44: 10 | L44: =IF(VLOOKUP(K44,Dorsales!A:E,5,FALSE)=0,"",VLOOKUP(K44,Dorsales!A:E,5)) | M44: 15 | N44: =IF(VLOOKUP(M44,Dorsales!A:E,5,FALSE)=0,"",VLOOKUP(M44,Dorsales!A:E,5)) | O44: 23 | P44: =IF(VLOOKUP(O44,Dorsales!A:E,5,FALSE)=0,"",VLOOKUP(O44,Dorsales!A:E,5)) | R44: =IF(VLOOKUP(Q44,Dorsales!A:E,5,FALSE)=0,"",VLOOKUP(Q44,Dorsales!A:E,5))
A45: 10 | C45: =IF(VLOOKUP(B45,Dorsales!A:E,5,FALSE)=0,"",VLOOKUP(B45,Dorsales!A:E,5)) | E45: =IF(VLOOKUP(D45,Dorsales!A:E,5,FALSE)=0,"",VLOOKUP(D45,Dorsales!A:E,5)) | G45: =IF(VLOOKUP(F45,Dorsales!A:E,5,FALSE)=0,"",VLOOKUP(F45,Dorsales!A:E,5)) | I45: =IF(VLOOKUP(H45,Dorsales!A:E,5,FALSE)=0,"",VLOOKUP(H45,Dorsales!A:E,5)) | J45: 10 | L45: =IF(VLOOKUP(K45,Dorsales!A:E,5,FALSE)=0,"",VLOOKUP(K45,Dorsales!A:E,5)) | N45: =IF(VLOOKUP(M45,Dorsales!A:E,5,FALSE)=0,"",VLOOKUP(M45,Dorsales!A:E,5)) | P45: =IF(VLOOKUP(O45,Dorsales!A:E,5,FALSE)=0,"",VLOOKUP(O45,Dorsales!A:E,5)) | R45: =IF(VLOOKUP(Q45,Dorsales!A:E,5,FALSE)=0,"",VLOOKUP(Q45,Dorsales!A:E,5))
B51: =Dorsales!A1 -> F5J -2013, Nuevo Alastur 24/05/13, Campeonato de Asturias y 2ª de la Liga
B53: Vuelo 1 | K53: Vuelo 4
A54: PUNTO TOMA | B54: MiniM 1 | C54: 0 | D54: MiniM 2 | E54: 0.0069444444 | F54: MiniM 3 | G54: 0.013888889 | H54: MiniM 4 | I54: ---- | J54: PUNTO TOMA | K54: MiniM 1 | L54: 0.0625 | M54: MiniM 2 | N54: 0.069444444 | O54: MiniM 3 | P54: 0.076388889 | Q54: MiniM 4 | R54: ----
B55: Dorsal | C55: Frec. | D55: Dorsal | E55: Frec. | F55: Dorsal | G55: Frec. | H55: Dorsal | I55: Frec. | K55: Dorsal | L55: Frec. | M55: Dorsal | N55: Frec. | O55: Dorsal | P55: Frec. | Q55: Dorsal | R55: Frec.
A56: 1 | B56: 1 | C56: =IF(VLOOKUP(B56,Dorsales!A:E,5,FALSE)=0,"",VLOOKUP(B56,Dorsales!A:E,5)) | D56: 2 | E56: =IF(VLOOKUP(D56,Dorsales!A:E,5,FALSE)=0,"",VLOOKUP(D56,Dorsales!A:E,5)) | G56: =IF(VLOOKUP(F56,Dorsales!A:E,5,FALSE)=0,"",VLOOKUP(F56,Dorsales!A:E,5)) | I56: =IF(VLOOKUP(H56,Dorsales!A:E,5,FALSE)=0,"",VLOOKUP(H56,Dorsales!A:E,5)) | J56: 1 | K56: 5 | L56: =IF(VLOOKUP(K56,Dorsales!A:E,5,FALSE)=0,"",VLOOKUP(K56,Dorsales!A:E,5)) | M56: 7 | N56: =IF(VLOOKUP(M56,Dorsales!A:E,5,FALSE)=0,"",VLOOKUP(M56,Dorsales!A:E,5)) | P56: =IF(VLOOKUP(O56,Dorsales!A:E,5,FALSE)=0,"",VLOOKUP(O56,Dorsales!A:E,5)) | R56: =IF(VLOOKUP(Q56,Dorsales!A:E,5,FALSE)=0,"",VLOOKUP(Q56,Dorsales!A:E,5))
A57: 2 | B57: 3 | C57: =IF(VLOOKUP(B57,Dorsales!A:E,5,FALSE)=0,"",VLOOKUP(B57,Dorsales!A:E,5)) | D57: 4 | E57: =IF(VLOOKUP(D57,Dorsales!A:E,5,FALSE)=0,"",VLOOKUP(D57,Dorsales!A:E,5)) | G57: =IF(VLOOKUP(F57,Dorsales!A:E,5,FALSE)=0,"",VLOOKUP(F57,Dorsales!A:E,5)) | I57: =IF(VLOOKUP(H57,Dorsales!A:E,5,FALSE)=0,"",VLOOKUP(H57,Dorsales!A:E,5)) | J57: 2 | K57: 1 | L57: =IF(VLOOKUP(K57,Dorsales!A:E,5,FALSE)=0,"",VLOOKUP(K57,Dorsales!A:E,5)) | M57: 6 | N57: =IF(VLOOKUP(M57,Dorsales!A:E,5,FALSE)=0,"",VLOOKUP(M57,Dorsales!A:E,5)) | P57: =IF(VLOOKUP(O57,Dorsales!A:E,5,FALSE)=0,"",VLOOKUP(O57,Dorsales!A:E,5)) | R57: =IF(VLOOKUP(Q57,Dorsales!A:E,5,FALSE)=0,"",VLOOKUP(Q57,Dorsales!A:E,5))
A58: 3 | B58: 5 | C58: =IF(VLOOKUP(B58,Dorsales!A:E,5,FALSE)=0,"",VLOOKUP(B58,Dorsales!A:E,5)) | D58: 6 | E58: =IF(VLOOKUP(D58,Dorsales!A:E,5,FALSE)=0,"",VLOOKUP(D58,Dorsales!A:E,5)) | G58: =IF(VLOOKUP(F58,Dorsales!A:E,5,FALSE)=0,"",VLOOKUP(F58,Dorsales!A:E,5)) | I58: =IF(VLOOKUP(H58,Dorsales!A:E,5,FALSE)=0,"",VLOOKUP(H58,Dorsales!A:E,5)) | J58: 3 | K58: 8 | L58: =IF(VLOOKUP(K58,Dorsales!A:E,5,FALSE)=0,"",VLOOKUP(K58,Dorsales!A:E,5)) | M58: 2 | N58: =IF(VLOOKUP(M58,Dorsales!A:E,5,FALSE)=0,"",VLOOKUP(M58,Dorsales!A:E,5)) | P58: =IF(VLOOKUP(O58,Dorsales!A:E,5,FALSE)=0,"",VLOOKUP(O58,Dorsales!A:E,5)) | R58: =IF(VLOOKUP(Q58,Dorsales!A:E,5,FALSE)=0,"",VLOOKUP(Q58,Dorsales!A:E,5))
A59: 4 | B59: 7 | C59: =IF(VLOOKUP(B59,Dorsales!A:E,5,FALSE)=0,"",VLOOKUP(B59,Dorsales!A:E,5)) | D59: 8 | E59: =IF(VLOOKUP(D59,Dorsales!A:E,5,FALSE)=0,"",VLOOKUP(D59,Dorsales!A:E,5)) | G59: =IF(VLOOKUP(F59,Dorsales!A:E,5,FALSE)=0,"",VLOOKUP(F59,Dorsales!A:E,5)) | I59: =IF(VLOOKUP(H59,Dorsales!A:E,5,FALSE)=0,"",VLOOKUP(H59,Dorsales!A:E,5)) | J59: 4 | K59: 4 | L59: =IF(VLOOKUP(K59,Dorsales!A:E,5,FALSE)=0,"",VLOOKUP(K59,Dorsales!A:E,5)) | M59: 3 | N59: =IF(VLOOKUP(M59,Dorsales!A:E,5,FALSE)=0,"",VLOOKUP(M59,Dorsales!A:E,5)) | P59: =IF(VLOOKUP(O59,Dorsales!A:E,5,FALSE)=0,"",VLOOKUP(O59,Dorsales!A:E,5)) | R59: =IF(VLOOKUP(Q59,Dorsales!A:E,5,FALSE)=0,"",VLOOKUP(Q59,Dorsales!A:E,5))
A60: 5 | C60: =IF(VLOOKUP(B60,Dorsales!A:E,5,FALSE)=0,"",VLOOKUP(B60,Dorsales!A:E,5)) | E60: =IF(VLOOKUP(D60,Dorsales!A:E,5,FALSE)=0,"",VLOOKUP(D60,Dorsales!A:E,5)) | G60: =IF(VLOOKUP(F60,Dorsales!A:E,5,FALSE)=0,"",VLOOKUP(F60,Dorsales!A:E,5)) | I60: =IF(VLOOKUP(H60,Dorsales!A:E,5,FALSE)=0,"",VLOOKUP(H60,Dorsales!A:E,5)) | J60: 5 | L60: =IF(VLOOKUP(K60,Dorsales!A:E,5,FALSE)=0,"",VLOOKUP(K60,Dorsales!A:E,5)) | N60: =IF(VLOOKUP(M60,Dorsales!A:E,5,FALSE)=0,"",VLOOKUP(M60,Dorsales!A:E,5)) | P60: =IF(VLOOKUP(O60,Dorsales!A:E,5,FALSE)=0,"",VLOOKUP(O60,Dorsales!A:E,5)) | R60: =IF(VLOOKUP(Q60,Dorsales!A:E,5,FALSE)=0,"",VLOOKUP(Q60,Dorsales!A:E,5))
A61: 6 | C61: =IF(VLOOKUP(B61,Dorsales!A:E,5,FALSE)=0,"",VLOOKUP(B61,Dorsales!A:E,5)) | E61: =IF(VLOOKUP(D61,Dorsales!A:E,5,FALSE)=0,"",VLOOKUP(D61,Dorsales!A:E,5)) | G61: =IF(VLOOKUP(F61,Dorsales!A:E,5,FALSE)=0,"",VLOOKUP(F61,Dorsales!A:E,5)) | I61: =IF(VLOOKUP(H61,Dorsales!A:E,5,FALSE)=0,"",VLOOKUP(H61,Dorsales!A:E,5)) | J61: 6 | L61: =IF(VLOOKUP(K61,Dorsales!A:E,5,FALSE)=0,"",VLOOKUP(K61,Dorsales!A:E,5)) | N61: =IF(VLOOKUP(M61,Dorsales!A:E,5,FALSE)=0,"",VLOOKUP(M61,Dorsales!A:E,5)) | P61: =IF(VLOOKUP(O61,Dorsales!A:E,5,FALSE)=0,"",VLOOKUP(O61,Dorsales!A:E,5)) | R61: =IF(VLOOKUP(Q61,Dorsales!A:E,5,FALSE)=0,"",VLOOKUP(Q61,Dorsales!A:E,5))
A62: 7 | C62: =IF(VLOOKUP(B62,Dorsales!A:E,5,FALSE)=0,"",VLOOKUP(B62,Dorsales!A:E,5)) | E62: =IF(VLOOKUP(D62,Dorsales!A:E,5,FALSE)=0,"",VLOOKUP(D62,Dorsales!A:E,5)) | G62: =IF(VLOOKUP(F62,Dorsales!A:E,5,FALSE)=0,"",VLOOKUP(F62,Dorsales!A:E,5)) | I62: =IF(VLOOKUP(H62,Dorsales!A:E,5,FALSE)=0,"",VLOOKUP(H62,Dorsales!A:E,5)) | J62: 7 | L62: =IF(VLOOKUP(K62,Dorsales!A:E,5,FALSE)=0,"",VLOOKUP(K62,Dorsales!A:E,5)) | N62: =IF(VLOOKUP(M62,Dorsales!A:E,5,FALSE)=0,"",VLOOKUP(M62,Dorsales!A:E,5)) | P62: =IF(VLOOKUP(O62,Dorsales!A:E,5,FALSE)=0,"",VLOOKUP(O62,Dorsales!A:E,5)) | R62: =IF(VLOOKUP(Q62,Dorsales!A:E,5,FALSE)=0,"",VLOOKUP(Q62,Dorsales!A:E,5))
A63: 8 | C63: =IF(VLOOKUP(B63,Dorsales!A:E,5,FALSE)=0,"",VLOOKUP(B63,Dorsales!A:E,5)) | E63: =IF(VLOOKUP(D63,Dorsales!A:E,5,FALSE)=0,"",VLOOKUP(D63,Dorsales!A:E,5)) | G63: =IF(VLOOKUP(F63,Dorsales!A:E,5,FALSE)=0,"",VLOOKUP(F63,Dorsales!A:E,5)) | I63: =IF(VLOOKUP(H63,Dorsales!A:E,5,FALSE)=0,"",VLOOKUP(H63,Dorsales!A:E,5)) | J63: 8 | L63: =IF(VLOOKUP(K63,Dorsales!A:E,5,FALSE)=0,"",VLOOKUP(K63,Dorsales!A:E,5)) | N63: =IF(VLOOKUP(M63,Dorsales!A:E,5,FALSE)=0,"",VLOOKUP(M63,Dorsales!A:E,5)) | P63: =IF(VLOOKUP(O63,Dorsales!A:E,5,FALSE)=0,"",VLOOKUP(O63,Dorsales!A:E,5)) | R63: =IF(VLOOKUP(Q63,Dorsales!A:E,5,FALSE)=0,"",VLOOKUP(Q63,Dorsales!A:E,5))
A64: 9 | C64: =IF(VLOOKUP(B64,Dorsales!A:E,5,FALSE)=0,"",VLOOKUP(B64,Dorsales!A:E,5)) | E64: =IF(VLOOKUP(D64,Dorsales!A:E,5,FALSE)=0,"",VLOOKUP(D64,Dorsales!A:E,5)) | G64: =IF(VLOOKUP(F64,Dorsales!A:E,5,FALSE)=0,"",VLOOKUP(F64,Dorsales!A:E,5)) | I64: =IF(VLOOKUP(H64,Dorsales!A:E,5,FALSE)=0,"",VLOOKUP(H64,Dorsales!A:E,5)) | J64: 9 | L64: =IF(VLOOKUP(K64,Dorsales!A:E,5,FALSE)=0,"",VLOOKUP(K64,Dorsales!A:E,5)) | N64: =IF(VLOOKUP(M64,Dorsales!A:E,5,FALSE)=0,"",VLOOKUP(M64,Dorsales!A:E,5)) | P64: =IF(VLOOKUP(O64,Dorsales!A:E,5,FALSE)=0,"",VLOOKUP(O64,Dorsales!A:E,5)) | R64: =IF(VLOOKUP(Q64,Dorsales!A:E,5,FALSE)=0,"",VLOOKUP(Q64,Dorsales!A:E,5))
A65: 10 | C65: =IF(VLOOKUP(B65,Dorsales!A:E,5,FALSE)=0,"",VLOOKUP(B65,Dorsales!A:E,5)) | E65: =IF(VLOOKUP(D65,Dorsales!A:E,5,FALSE)=0,"",VLOOKUP(D65,Dorsales!A:E,5)) | G65: =IF(VLOOKUP(F65,Dorsales!A:E,5,FALSE)=0,"",VLOOKUP(F65,Dorsales!A:E,5)) | I65: =IF(VLOOKUP(H65,Dorsales!A:E,5,FALSE)=0,"",VLOOKUP(H65,Dorsales!A:E,5)) | J65: 10 | L65: =IF(VLOOKUP(K65,Dorsales!A:E,5,FALSE)=0,"",VLOOKUP(K65,Dorsales!A:E,5)) | N65: =IF(VLOOKUP(M65,Dorsales!A:E,5,FALSE)=0,"",VLOOKUP(M65,Dorsales!A:E,5)) | P65: =IF(VLOOKUP(O65,Dorsales!A:E,5,FALSE)=0,"",VLOOKUP(O65,Dorsales!A:E,5)) | R65: =IF(VLOOKUP(Q65,Dorsales!A:E,5,FALSE)=0,"",VLOOKUP(Q65,Dorsales!A:E,5))
B68: Vuelo 2 | K68: Vuelo 5
A69: PUNTO TOMA | B69: MiniM 1 | C69: 0.020833333 | D69: MiniM 2 | E69: 0.027777778 | F69: MiniM 3 | G69: 0.034722222 | H69: MiniM 4 | I69: ---- | J69: PUNTO TOMA | K69: MiniM 1 | L69: 0.083333333 | M69: MiniM 2 | N69: 0.090277778 | O69: MiniM 3 | P69: 0.097222222 | Q69: MiniM 4 | R69: ----
B70: Dorsal | C70: Frec. | D70: Dorsal | E70: Frec. | F70: Dorsal | G70: Frec. | H70: Dorsal | I70: Frec. | K70: Dorsal | L70: Frec. | M70: Dorsal | N70: Frec. | O70: Dorsal | P70: Frec. | Q70: Dorsal | R70: Frec.
A71: 1 | B71: 3 | C71: =IF(VLOOKUP(B71,Dorsales!A:E,5,FALSE)=0,"",VLOOKUP(B71,Dorsales!A:E,5)) | D71: 7 | E71: =IF(VLOOKUP(D71,Dorsales!A:E,5,FALSE)=0,"",VLOOKUP(D71,Dorsales!A:E,5)) | G71: =IF(VLOOKUP(F71,Dorsales!A:E,5,FALSE)=0,"",VLOOKUP(F71,Dorsales!A:E,5)) | I71: =IF(VLOOKUP(H71,Dorsales!A:E,5,FALSE)=0,"",VLOOKUP(H71,Dorsales!A:E,5)) | J71: 1 | K71: 2 | L71: =IF(VLOOKUP(K71,Dorsales!A:E,5,FALSE)=0,"",VLOOKUP(K71,Dorsales!A:E,5)) | M71: 6 | N71: =IF(VLOOKUP(M71,Dorsales!A:E,5,FALSE)=0,"",VLOOKUP(M71,Dorsales!A:E,5)) | P71: =IF(VLOOKUP(O71,Dorsales!A:E,5,FALSE)=0,"",VLOOKUP(O71,Dorsales!A:E,5)) | R71: =IF(VLOOKUP(Q71,Dorsales!A:E,5,FALSE)=0,"",VLOOKUP(Q71,Dorsales!A:E,5))
A72: 2 | B72: 4 | C72: =IF(VLOOKUP(B72,Dorsales!A:E,5,FALSE)=0,"",VLOOKUP(B72,Dorsales!A:E,5)) | D72: 8 | E72: =IF(VLOOKUP(D72,Dorsales!A:E,5,FALSE)=0,"",VLOOKUP(D72,Dorsales!A:E,5)) | G72: =IF(VLOOKUP(F72,Dorsales!A:E,5,FALSE)=0,"",VLOOKUP(F72,Dorsales!A:E,5)) | I72: =IF(VLOOKUP(H72,Dorsales!A:E,5,FALSE)=0,"",VLOOKUP(H72,Dorsales!A:E,5)) | J72: 2 | K72: 3 | L72: =IF(VLOOKUP(K72,Dorsales!A:E,5,FALSE)=0,"",VLOOKUP(K72,Dorsales!A:E,5)) | M72: 4 | N72: =IF(VLOOKUP(M72,Dorsales!A:E,5,FALSE)=0,"",VLOOKUP(M72,Dorsales!A:E,5)) | P72: =IF(VLOOKUP(O72,Dorsales!A:E,5,FALSE)=0,"",VLOOKUP(O72,Dorsales!A:E,5)) | R72: =IF(VLOOKUP(Q72,Dorsales!A:E,5,FALSE)=0,"",VLOOKUP(Q72,Dorsales!A:E,5))
A73: 3 | B73: 5 | C73: =IF(VLOOKUP(B73,Dorsales!A:E,5,FALSE)=0,"",VLOOKUP(B73,Dorsales!A:E,5)) | D73: 1 | E73: =IF(VLOOKUP(D73,Dorsales!A:E,5,FALSE)=0,"",VLOOKUP(D73,Dorsales!A:E,5)) | G73: =IF(VLOOKUP(F73,Dorsales!A:E,5,FALSE)=0,"",VLOOKUP(F73,Dorsales!A:E,5)) | I73: =IF(VLOOKUP(H73,Dorsales!A:E,5,FALSE)=0,"",VLOOKUP(H73,Dorsales!A:E,5)) | J73: 3 | K73: 8 | L73: =IF(VLOOKUP(K73,Dorsales!A:E,5,FALSE)=0,"",VLOOKUP(K73,Dorsales!A:E,5)) | M73: 1 | N73: =IF(VLOOKUP(M73,Dorsales!A:E,5,FALSE)=0,"",VLOOKUP(M73,Dorsales!A:E,5)) | P73: =IF(VLOOKUP(O73,Dorsales!A:E,5,FALSE)=0,"",VLOOKUP(O73,Dorsales!A:E,5)) | R73: =IF(VLOOKUP(Q73,Dorsales!A:E,5,FALSE)=0,"",VLOOKUP(Q73,Dorsales!A:E,5))
A74: 4 | B74: 6 | C74: =IF(VLOOKUP(B74,Dorsales!A:E,5,FALSE)=0,"",VLOOKUP(B74,Dorsales!A:E,5)) | D74: 2 | E74: =IF(VLOOKUP(D74,Dorsales!A:E,5,FALSE)=0,"",VLOOKUP(D74,Dorsales!A:E,5)) | G74: =IF(VLOOKUP(F74,Dorsales!A:E,5,FALSE)=0,"",VLOOKUP(F74,Dorsales!A:E,5)) | I74: =IF(VLOOKUP(H74,Dorsales!A:E,5,FALSE)=0,"",VLOOKUP(H74,Dorsales!A:E,5)) | J74: 4 | K74: 5 | L74: =IF(VLOOKUP(K74,Dorsales!A:E,5,FALSE)=0,"",VLOOKUP(K74,Dorsales!A:E,5)) | M74: 7 | N74: =IF(VLOOKUP(M74,Dorsales!A:E,5,FALSE)=0,"",VLOOKUP(M74,Dorsales!A:E,5)) | P74: =IF(VLOOKUP(O74,Dorsales!A:E,5,FALSE)=0,"",VLOOKUP(O74,Dorsales!A:E,5)) | R74: =IF(VLOOKUP(Q74,Dorsales!A:E,5,FALSE)=0,"",VLOOKUP(Q74,Dorsales!A:E,5))
A75: 5 | E75: =IF(VLOOKUP(D75,Dorsales!A:E,5,FALSE)=0,"",VLOOKUP(D75,Dorsales!A:E,5)) | G75: =IF(VLOOKUP(F75,Dorsales!A:E,5,FALSE)=0,"",VLOOKUP(F75,Dorsales!A:E,5)) | I75: =IF(VLOOKUP(H75,Dorsales!A:E,5,FALSE)=0,"",VLOOKUP(H75,Dorsales!A:E,5)) | J75: 5 | L75: =IF(VLOOKUP(K75,Dorsales!A:E,5,FALSE)=0,"",VLOOKUP(K75,Dorsales!A:E,5)) | N75: =IF(VLOOKUP(M75,Dorsales!A:E,5,FALSE)=0,"",VLOOKUP(M75,Dorsales!A:E,5)) | P75: =IF(VLOOKUP(O75,Dorsales!A:E,5,FALSE)=0,"",VLOOKUP(O75,Dorsales!A:E,5)) | R75: =IF(VLOOKUP(Q75,Dorsales!A:E,5,FALSE)=0,"",VLOOKUP(Q75,Dorsales!A:E,5))
A76: 6 | E76: =IF(VLOOKUP(D76,Dorsales!A:E,5,FALSE)=0,"",VLOOKUP(D76,Dorsales!A:E,5)) | G76: =IF(VLOOKUP(F76,Dorsales!A:E,5,FALSE)=0,"",VLOOKUP(F76,Dorsales!A:E,5)) | I76: =IF(VLOOKUP(H76,Dorsales!A:E,5,FALSE)=0,"",VLOOKUP(H76,Dorsales!A:E,5)) | J76: 6 | L76: =IF(VLOOKUP(K76,Dorsales!A:E,5,FALSE)=0,"",VLOOKUP(K76,Dorsales!A:E,5)) | N76: =IF(VLOOKUP(M76,Dorsales!A:E,5,FALSE)=0,"",VLOOKUP(M76,Dorsales!A:E,5)) | P76: =IF(VLOOKUP(O76,Dorsales!A:E,5,FALSE)=0,"",VLOOKUP(O76,Dorsales!A:E,5)) | R76: =IF(VLOOKUP(Q76,Dorsales!A:E,5,FALSE)=0,"",VLOOKUP(Q76,Dorsales!A:E,5))
A77: 7 | E77: =IF(VLOOKUP(D77,Dorsales!A:E,5,FALSE)=0,"",VLOOKUP(D77,Dorsales!A:E,5)) | G77: =IF(VLOOKUP(F77,Dorsales!A:E,5,FALSE)=0,"",VLOOKUP(F77,Dorsales!A:E,5)) | I77: =IF(VLOOKUP(H77,Dorsales!A:E,5,FALSE)=0,"",VLOOKUP(H77,Dorsales!A:E,5)) | J77: 7 | L77: =IF(VLOOKUP(K77,Dorsales!A:E,5,FALSE)=0,"",VLOOKUP(K77,Dorsales!A:E,5)) | N77: =IF(VLOOKUP(M77,Dorsales!A:E,5,FALSE)=0,"",VLOOKUP(M77,Dorsales!A:E,5)) | P77: =IF(VLOOKUP(O77,Dorsales!A:E,5,FALSE)=0,"",VLOOKUP(O77,Dorsales!A:E,5)) | R77: =IF(VLOOKUP(Q77,Dorsales!A:E,5,FALSE)=0,"",VLOOKUP(Q77,Dorsales!A:E,5))
A78: 8 | E78: =IF(VLOOKUP(D78,Dorsales!A:E,5,FALSE)=0,"",VLOOKUP(D78,Dorsales!A:E,5)) | G78: =IF(VLOOKUP(F78,Dorsales!A:E,5,FALSE)=0,"",VLOOKUP(F78,Dorsales!A:E,5)) | I78: =IF(VLOOKUP(H78,Dorsales!A:E,5,FALSE)=0,"",VLOOKUP(H78,Dorsales!A:E,5)) | J78: 8 | L78: =IF(VLOOKUP(K78,Dorsales!A:E,5,FALSE)=0,"",VLOOKUP(K78,Dorsales!A:E,5)) | N78: =IF(VLOOKUP(M78,Dorsales!A:E,5,FALSE)=0,"",VLOOKUP(M78,Dorsales!A:E,5)) | P78: =IF(VLOOKUP(O78,Dorsales!A:E,5,FALSE)=0,"",VLOOKUP(O78,Dorsales!A:E,5)) | R78: =IF(VLOOKUP(Q78,Dorsales!A:E,5,FALSE)=0,"",VLOOKUP(Q78,Dorsales!A:E,5))
A79: 9 | E79: =IF(VLOOKUP(D79,Dorsales!A:E,5,FALSE)=0,"",VLOOKUP(D79,Dorsales!A:E,5)) | G79: =IF(VLOOKUP(F79,Dorsales!A:E,5,FALSE)=0,"",VLOOKUP(F79,Dorsales!A:E,5)) | I79: =IF(VLOOKUP(H79,Dorsales!A:E,5,FALSE)=0,"",VLOOKUP(H79,Dorsales!A:E,5)) | J79: 9 | L79: =IF(VLOOKUP(K79,Dorsales!A:E,5,FALSE)=0,"",VLOOKUP(K79,Dorsales!A:E,5)) | N79: =IF(VLOOKUP(M79,Dorsales!A:E,5,FALSE)=0,"",VLOOKUP(M79,Dorsales!A:E,5)) | P79: =IF(VLOOKUP(O79,Dorsales!A:E,5,FALSE)=0,"",VLOOKUP(O79,Dorsales!A:E,5)) | R79: =IF(VLOOKUP(Q79,Dorsales!A:E,5,FALSE)=0,"",VLOOKUP(Q79,Dorsales!A:E,5))
A80: 10 | C80: =IF(VLOOKUP(B80,Dorsales!A:E,5,FALSE)=0,"",VLOOKUP(B80,Dorsales!A:E,5)) | E80: =IF(VLOOKUP(D80,Dorsales!A:E,5,FALSE)=0,"",VLOOKUP(D80,Dorsales!A:E,5)) | G80: =IF(VLOOKUP(F80,Dorsales!A:E,5,FALSE)=0,"",VLOOKUP(F80,Dorsales!A:E,5)) | I80: =IF(VLOOKUP(H80,Dorsales!A:E,5,FALSE)=0,"",VLOOKUP(H80,Dorsales!A:E,5)) | J80: 10 | L80: =IF(VLOOKUP(K80,Dorsales!A:E,5,FALSE)=0,"",VLOOKUP(K80,Dorsales!A:E,5)) | N80: =IF(VLOOKUP(M80,Dorsales!A:E,5,FALSE)=0,"",VLOOKUP(M80,Dorsales!A:E,5)) | P80: =IF(VLOOKUP(O80,Dorsales!A:E,5,FALSE)=0,"",VLOOKUP(O80,Dorsales!A:E,5)) | R80: =IF(VLOOKUP(Q80,Dorsales!A:E,5,FALSE)=0,"",VLOOKUP(Q80,Dorsales!A:E,5))
B83: Vuelo 3 | K83: Vuelo 6
A84: PUNTO TOMA | B84: MiniM 1 | C84: 0.041666667 | D84: MiniM 2 | E84: 0.048611111 | F84: MiniM 3 | G84: 0.055555556 | H84: MiniM 4 | J84: PUNTO TOMA | K84: MiniM 1 | L84: 0.10416667 | M84: MiniM 2 | N84: 0.11111111 | O84: MiniM 3 | P84: 0.11805556 | Q84: MiniM 4 | R84: ----
B85: Dorsal | C85: Frec. | D85: Dorsal | E85: Frec. | F85: Dorsal | G85: Frec. | H85: Dorsal | I85: Frec. | K85: Dorsal | L85: Frec. | M85: Dorsal | N85: Frec. | O85: Dorsal | P85: Frec. | Q85: Dorsal | R85: Frec.
A86: 1 | B86: 4 | C86: =IF(VLOOKUP(B86,Dorsales!A:E,5,FALSE)=0,"",VLOOKUP(B86,Dorsales!A:E,5)) | D86: 6 | E86: =IF(VLOOKUP(D86,Dorsales!A:E,5,FALSE)=0,"",VLOOKUP(D86,Dorsales!A:E,5)) | G86: =IF(VLOOKUP(F86,Dorsales!A:E,5,FALSE)=0,"",VLOOKUP(F86,Dorsales!A:E,5)) | I86: =IF(VLOOKUP(H86,Dorsales!A:E,5,FALSE)=0,"",VLOOKUP(H86,Dorsales!A:E,5)) | J86: 1 | K86: 5 | L86: =IF(VLOOKUP(K86,Dorsales!A:E,5,FALSE)=0,"",VLOOKUP(K86,Dorsales!A:E,5)) | M86: 4 | N86: =IF(VLOOKUP(M86,Dorsales!A:E,5,FALSE)=0,"",VLOOKUP(M86,Dorsales!A:E,5)) | P86: =IF(VLOOKUP(O86,Dorsales!A:E,5,FALSE)=0,"",VLOOKUP(O86,Dorsales!A:E,5)) | R86: =IF(VLOOKUP(Q86,Dorsales!A:E,5,FALSE)=0,"",VLOOKUP(Q86,Dorsales!A:E,5))
A87: 2 | B87: 2 | C87: =IF(VLOOKUP(B87,Dorsales!A:E,5,FALSE)=0,"",VLOOKUP(B87,Dorsales!A:E,5)) | D87: 7 | E87: =IF(VLOOKUP(D87,Dorsales!A:E,5,FALSE)=0,"",VLOOKUP(D87,Dorsales!A:E,5)) | G87: =IF(VLOOKUP(F87,Dorsales!A:E,5,FALSE)=0,"",VLOOKUP(F87,Dorsales!A:E,5)) | I87: =IF(VLOOKUP(H87,Dorsales!A:E,5,FALSE)=0,"",VLOOKUP(H87,Dorsales!A:E,5)) | J87: 2 | K87: 1 | L87: =IF(VLOOKUP(K87,Dorsales!A:E,5,FALSE)=0,"",VLOOKUP(K87,Dorsales!A:E,5)) | M87: 7 | N87: =IF(VLOOKUP(M87,Dorsales!A:E,5,FALSE)=0,"",VLOOKUP(M87,Dorsales!A:E,5)) | P87: =IF(VLOOKUP(O87,Dorsales!A:E,5,FALSE)=0,"",VLOOKUP(O87,Dorsales!A:E,5)) | R87: =IF(VLOOKUP(Q87,Dorsales!A:E,5,FALSE)=0,"",VLOOKUP(Q87,Dorsales!A:E,5))
A88: 3 | B88: 3 | C88: =IF(VLOOKUP(B88,Dorsales!A:E,5,FALSE)=0,"",VLOOKUP(B88,Dorsales!A:E,5)) | D88: 8 | E88: =IF(VLOOKUP(D88,Dorsales!A:E,5,FALSE)=0,"",VLOOKUP(D88,Dorsales!A:E,5)) | G88: =IF(VLOOKUP(F88,Dorsales!A:E,5,FALSE)=0,"",VLOOKUP(F88,Dorsales!A:E,5)) | I88: =IF(VLOOKUP(H88,Dorsales!A:E,5,FALSE)=0,"",VLOOKUP(H88,Dorsales!A:E,5)) | J88: 3 | K88: 2 | L88: =IF(VLOOKUP(K88,Dorsales!A:E,5,FALSE)=0,"",VLOOKUP(K88,Dorsales!A:E,5)) | M88: 3 | N88: =IF(VLOOKUP(M88,Dorsales!A:E,5,FALSE)=0,"",VLOOKUP(M88,Dorsales!A:E,5)) | P88: =IF(VLOOKUP(O88,Dorsales!A:E,5,FALSE)=0,"",VLOOKUP(O88,Dorsales!A:E,5)) | R88: =IF(VLOOKUP(Q88,Dorsales!A:E,5,FALSE)=0,"",VLOOKUP(Q88,Dorsales!A:E,5))
A89: 4 | B89: 1 | C89: =IF(VLOOKUP(B89,Dorsales!A:E,5,FALSE)=0,"",VLOOKUP(B89,Dorsales!A:E,5)) | D89: 5 | E89: =IF(VLOOKUP(D89,Dorsales!A:E,5,FALSE)=0,"",VLOOKUP(D89,Dorsales!A:E,5)) | G89: =IF(VLOOKUP(F89,Dorsales!A:E,5,FALSE)=0,"",VLOOKUP(F89,Dorsales!A:E,5)) | I89: =IF(VLOOKUP(H89,Dorsales!A:E,5,FALSE)=0,"",VLOOKUP(H89,Dorsales!A:E,5)) | J89: 4 | K89: 6 | L89: =IF(VLOOKUP(K89,Dorsales!A:E,5,FALSE)=0,"",VLOOKUP(K89,Dorsales!A:E,5)) | M89: 8 | N89: =IF(VLOOKUP(M89,Dorsales!A:E,5,FALSE)=0,"",VLOOKUP(M89,Dorsales!A:E,5)) | P89: =IF(VLOOKUP(O89,Dorsales!A:E,5,FALSE)=0,"",VLOOKUP(O89,Dorsales!A:E,5)) | R89: =IF(VLOOKUP(Q89,Dorsales!A:E,5,FALSE)=0,"",VLOOKUP(Q89,Dorsales!A:E,5))
A90: 5 | C90: =IF(VLOOKUP(B90,Dorsales!A:E,5,FALSE)=0,"",VLOOKUP(B90,Dorsales!A:E,5)) | E90: =IF(VLOOKUP(D90,Dorsales!A:E,5,FALSE)=0,"",VLOOKUP(D90,Dorsales!A:E,5)) | G90: =IF(VLOOKUP(F90,Dorsales!A:E,5,FALSE)=0,"",VLOOKUP(F90,Dorsales!A:E,5)) | I90: =IF(VLOOKUP(H90,Dorsales!A:E,5,FALSE)=0,"",VLOOKUP(H90,Dorsales!A:E,5)) | J90: 5 | L90: =IF(VLOOKUP(K90,Dorsales!A:E,5,FALSE)=0,"",VLOOKUP(K90,Dorsales!A:E,5)) | N90: =IF(VLOOKUP(M90,Dorsales!A:E,5,FALSE)=0,"",VLOOKUP(M90,Dorsales!A:E,5)) | P90: =IF(VLOOKUP(O90,Dorsales!A:E,5,FALSE)=0,"",VLOOKUP(O90,Dorsales!A:E,5)) | R90: =IF(VLOOKUP(Q90,Dorsales!A:E,5,FALSE)=0,"",VLOOKUP(Q90,Dorsales!A:E,5))
A91: 6 | C91: =IF(VLOOKUP(B91,Dorsales!A:E,5,FALSE)=0,"",VLOOKUP(B91,Dorsales!A:E,5)) | E91: =IF(VLOOKUP(D91,Dorsales!A:E,5,FALSE)=0,"",VLOOKUP(D91,Dorsales!A:E,5)) | G91: =IF(VLOOKUP(F91,Dorsales!A:E,5,FALSE)=0,"",VLOOKUP(F91,Dorsales!A:E,5)) | I91: =IF(VLOOKUP(H91,Dorsales!A:E,5,FALSE)=0,"",VLOOKUP(H91,Dorsales!A:E,5)) | J91: 6 | L91: =IF(VLOOKUP(K91,Dorsales!A:E,5,FALSE)=0,"",VLOOKUP(K91,Dorsales!A:E,5)) | N91: =IF(VLOOKUP(M91,Dorsales!A:E,5,FALSE)=0,"",VLOOKUP(M91,Dorsales!A:E,5)) | P91: =IF(VLOOKUP(O91,Dorsales!A:E,5,FALSE)=0,"",VLOOKUP(O91,Dorsales!A:E,5)) | R91: =IF(VLOOKUP(Q91,Dorsales!A:E,5,FALSE)=0,"",VLOOKUP(Q91,Dorsales!A:E,5))
A92: 7 | C92: =IF(VLOOKUP(B92,Dorsales!A:E,5,FALSE)=0,"",VLOOKUP(B92,Dorsales!A:E,5)) | E92: =IF(VLOOKUP(D92,Dorsales!A:E,5,FALSE)=0,"",VLOOKUP(D92,Dorsales!A:E,5)) | G92: =IF(VLOOKUP(F92,Dorsales!A:E,5,FALSE)=0,"",VLOOKUP(F92,Dorsales!A:E,5)) | I92: =IF(VLOOKUP(H92,Dorsales!A:E,5,FALSE)=0,"",VLOOKUP(H92,Dorsales!A:E,5)) | J92: 7 | L92: =IF(VLOOKUP(K92,Dorsales!A:E,5,FALSE)=0,"",VLOOKUP(K92,Dorsales!A:E,5)) | N92: =IF(VLOOKUP(M92,Dorsales!A:E,5,FALSE)=0,"",VLOOKUP(M92,Dorsales!A:E,5)) | P92: =IF(VLOOKUP(O92,Dorsales!A:E,5,FALSE)=0,"",VLOOKUP(O92,Dorsales!A:E,5)) | R92: =IF(VLOOKUP(Q92,Dorsales!A:E,5,FALSE)=0,"",VLOOKUP(Q92,Dorsales!A:E,5))
A93: 8 | C93: =IF(VLOOKUP(B93,Dorsales!A:E,5,FALSE)=0,"",VLOOKUP(B93,Dorsales!A:E,5)) | E93: =IF(VLOOKUP(D93,Dorsales!A:E,5,FALSE)=0,"",VLOOKUP(D93,Dorsales!A:E,5)) | G93: =IF(VLOOKUP(F93,Dorsales!A:E,5,FALSE)=0,"",VLOOKUP(F93,Dorsales!A:E,5)) | I93: =IF(VLOOKUP(H93,Dorsales!A:E,5,FALSE)=0,"",VLOOKUP(H93,Dorsales!A:E,5)) | J93: 8 | L93: =IF(VLOOKUP(K93,Dorsales!A:E,5,FALSE)=0,"",VLOOKUP(K93,Dorsales!A:E,5)) | N93: =IF(VLOOKUP(M93,Dorsales!A:E,5,FALSE)=0,"",VLOOKUP(M93,Dorsales!A:E,5)) | P93: =IF(VLOOKUP(O93,Dorsales!A:E,5,FALSE)=0,"",VLOOKUP(O93,Dorsales!A:E,5)) | R93: =IF(VLOOKUP(Q93,Dorsales!A:E,5,FALSE)=0,"",VLOOKUP(Q93,Dorsales!A:E,5))
A94: 9 | C94: =IF(VLOOKUP(B94,Dorsales!A:E,5,FALSE)=0,"",VLOOKUP(B94,Dorsales!A:E,5)) | E94: =IF(VLOOKUP(D94,Dorsales!A:E,5,FALSE)=0,"",VLOOKUP(D94,Dorsales!A:E,5)) | G94: =IF(VLOOKUP(F94,Dorsales!A:E,5,FALSE)=0,"",VLOOKUP(F94,Dorsales!A:E,5)) | I94: =IF(VLOOKUP(H94,Dorsales!A:E,5,FALSE)=0,"",VLOOKUP(H94,Dorsales!A:E,5)) | J94: 9 | L94: =IF(VLOOKUP(K94,Dorsales!A:E,5,FALSE)=0,"",VLOOKUP(K94,Dorsales!A:E,5)) | N94: =IF(VLOOKUP(M94,Dorsales!A:E,5,FALSE)=0,"",VLOOKUP(M94,Dorsales!A:E,5)) | P94: =IF(VLOOKUP(O94,Dorsales!A:E,5,FALSE)=0,"",VLOOKUP(O94,Dorsales!A:E,5)) | R94: =IF(VLOOKUP(Q94,Dorsales!A:E,5,FALSE)=0,"",VLOOKUP(Q94,Dorsales!A:E,5))
A95: 10 | C95: =IF(VLOOKUP(B95,Dorsales!A:E,5,FALSE)=0,"",VLOOKUP(B95,Dorsales!A:E,5)) | E95: =IF(VLOOKUP(D95,Dorsales!A:E,5,FALSE)=0,"",VLOOKUP(D95,Dorsales!A:E,5)) | G95: =IF(VLOOKUP(F95,Dorsales!A:E,5,FALSE)=0,"",VLOOKUP(F95,Dorsales!A:E,5)) | I95: =IF(VLOOKUP(H95,Dorsales!A:E,5,FALSE)=0,"",VLOOKUP(H95,Dorsales!A:E,5)) | J95: 10 | L95: =IF(VLOOKUP(K95,Dorsales!A:E,5,FALSE)=0,"",VLOOKUP(K95,Dorsales!A:E,5)) | N95: =IF(VLOOKUP(M95,Dorsales!A:E,5,FALSE)=0,"",VLOOKUP(M95,Dorsales!A:E,5)) | P95: =IF(VLOOKUP(O95,Dorsales!A:E,5,FALSE)=0,"",VLOOKUP(O95,Dorsales!A:E,5)) | R95: =IF(VLOOKUP(Q95,Dorsales!A:E,5,FALSE)=0,"",VLOOKUP(Q95,Dorsales!A:E,5))

Sheet Dorsales
A1: F5J -2013, Nuevo Alastur 24/05/13, Campeonato de Asturias y 2ª de la Liga
A2: DORSAL | B2: Nombre | C2: Licencia | D2: Ambito* | E2: FREC. 1 | F2: FREC ALT | G2: Club/Federación | H2: Teléfono/E-mail
A3: 1 | B3: Miguel de la Torre
A4: 2 | B4: José Antonio Papin
A5: 3 | B5: José Antonio Orviz
A6: 4 | B6: Luis Antonio Presol
A7: 5 | B7: Alejandro Gil
A8: 6
A9: 7
A10: 8
A11: 9
A12: 10
A13: 11
A14: 12
A15: 13
A16: 14
A17: 15
A18: 16
A19: 17
... A42: 40
A43: 0 | B43: -------
B45: (*) 'N' las licencias de carácter Nacional y 'A' las de carácter autonómico

Sheet Vuelo 1
D1: Vuelo 1 | G1: MINIMANGA DE 'RE-FLIGHT' | P1: =IF((F7*60+G7)>Instrucciones!C14,0,IF(F7>=Instrucciones!B10,((Instrucciones!B10*60*2)-F7*60-G7),F7*60+G7)) -> 0 | AZ1: =IF(Dorsales!B3<>0,Dorsales!A3,"") -> 1
C2: Concursante | D2: Juez | E2: DORSAL* | F2: minutos | G2: segundos | H2: P.Vuelo | I2: m.Toma | J2: P.Toma | K2: P.Reales | L2: P.FAI | AZ2: =IF(Dorsales!B9<>0,Dorsales!A4,"")
A3: 7 | B3: 510 | C3: =VLOOKUP(E3,Dorsales!A:I,2,FALSE) -> ------- | J3: =IF(H3<30,0,IF(I3=0,0,IF(I3>15,0,32-I3*2))) -> 0 | K3: =IF(I3>100,0,H3+J3) -> 0 | L3: =IF(K3=0,0,K3/K14*1000) -> 0 | AZ3: =IF(Dorsales!B8<>0,Dorsales!A5,"")
A4: 7 | B4: 510 | C4: =VLOOKUP(E4,Dorsales!A:I,2,FALSE) -> ------- | J4: =IF(H4<30,0,IF(I4=0,0,IF(I4>15,0,32-I4*2))) -> 0 | K4: =IF(I4>100,0,H4+J4) -> 0 | L4: =IF(K4=0,0,K4/K14*1000) -> 0 | AZ4: =IF(Dorsales!B16<>0,Dorsales!A6,"")
A5: 7 | B5: 510 | C5: =VLOOKUP(E5,Dorsales!A:I,2,FALSE) -> ------- | J5: =IF(H5<30,0,IF(I5=0,0,IF(I5>15,0,32-I5*2))) -> 0 | K5: =IF(I5>100,0,H5+J5) -> 0 | L5: =IF(K5=0,0,K5/K14*1000) -> 0 | AZ5: =IF(Dorsales!B10<>0,Dorsales!A7,"")
A6: 7 | B6: 510 | C6: =VLOOKUP(E6,Dorsales!A:I,2,FALSE) -> ------- | J6: =IF(H6<30,0,IF(I6=0,0,IF(I6>15,0,32-I6*2))) -> 0 | K6: =IF(I6>100,0,H6+J6) -> 0 | L6: =IF(K6=0,0,K6/K14*1000) -> 0 | AZ6: =IF(Dorsales!B18<>0,Dorsales!A8,"")
A7: 7 | B7: 510 | C7: =VLOOKUP(E7,Dorsales!A:I,2,FALSE) -> ------- | J7: =IF(H7<30,0,IF(I7=0,0,IF(I7>15,0,32-I7*2))) -> 0 | K7: =IF(I7>100,0,H7+J7) -> 0 | L7: =IF(K7=0,0,K7/K14*1000) -> 0 | AZ7: =IF(Dorsales!B12<>0,Dorsales!A9,"")
A8: 7 | B8: 510 | C8: =VLOOKUP(E8,Dorsales!A:I,2,FALSE) -> ------- | J8: =IF(H8<30,0,IF(I8=0,0,IF(I8>15,0,32-I8*2))) -> 0 | K8: =IF(I8>100,0,H8+J8) -> 0 | L8: =IF(K8=0,0,K8/K14*1000) -> 0 | AZ8: =IF(Dorsales!B20<>0,Dorsales!A10,"")
A9: 7 | B9: 510 | C9: =VLOOKUP(E9,Dorsales!A:I,2,FALSE) -> ------- | H9: =IF((F9*60+G9)>B9,0,IF(F9>=A9,((A9*60*2)-F9*60-G9),F9*60+G9)) -> 0 | J9: =IF(H9<30,0,IF(I9=0,0,IF(I9>15,0,32-I9*2))) -> 0 | K9: =IF(I9>100,0,H9+J9) -> 0 | L9: =IF(K9=0,0,K9/K14*1000) -> 0 | AZ9: =IF(Dorsales!B7<>0,Dorsales!A11,"") -> 9
A10: 7 | B10: 510 | C10: =VLOOKUP(E10,Dorsales!A:I,2,FALSE) -> ------- | H10: =IF((F10*60+G10)>B10,0,IF(F10>=A10,((A10*60*2)-F10*60-G10),F10*60+G10)) -> 0 | J10: =IF(H10<30,0,IF(I10=0,0,IF(I10>15,0,32-I10*2))) -> 0 | K10: =IF(I10>100,0,H10+J10) -> 0 | L10: =IF(K10=0,0,K10/K14*1000) -> 0 | AZ10: =IF(Dorsales!B11<>0,Dorsales!A12,"")
A11: 7 | B11: 510 | C11: =VLOOKUP(E11,Dorsales!A:I,2,FALSE) -> ------- | H11: =IF((F11*60+G11)>B11,0,IF(F11>=A11,((A11*60*2)-F11*60-G11),F11*60+G11)) -> 0 | J11: =IF(H11<30,0,IF(I11=0,0,IF(I11>15,0,32-I11*2))) -> 0 | K11: =IF(I11>100,0,H11+J11) -> 0 | L11: =IF(K11=0,0,K11/K14*1000) -> 0 | AZ11: =IF(Dorsales!B23<>0,Dorsales!A13,"")
A12: 7 | B12: 510 | C12: =VLOOKUP(E12,Dorsales!A:I,2,FALSE) -> ------- | H12: =IF((F12*60+G12)>B12,0,IF(F12>=A12,((A12*60*2)-F12*60-G12),F12*60+G12)) -> 0 | J12: =IF(H12<30,0,IF(I12=0,0,IF(I12>15,0,32-I12*2))) -> 0 | K12: =IF(I12>100,0,H12+J12) -> 0 | L12: =IF(K12=0,0,K12/K14*1000) -> 0 | AZ12: =IF(Dorsales!#REF!<>0,Dorsales!A14,"") -> #REF!
D13: *A los dorsales cuya puntuacion no sea la valida se les sumara 50 | AZ13: =IF(Dorsales!#REF!<>0,Dorsales!A15,"") -> #REF!
D14: Tiempo de Vuelo | F14: =A3 -> 7 | H14: Max. Ptos.Reales | K14: =MAX(K3:K12) -> 0 | AZ14: =IF(Dorsales!#REF!<>0,Dorsales!A16,"") -> #REF!
AZ15: =IF(Dorsales!#REF!<>0,Dorsales!A17,"") -> #REF!
AZ16: =IF(Dorsales!#REF!<>0,Dorsales!A18,"") -> #REF!
AZ17: =IF(Dorsales!#REF!<>0,Dorsales!A19,"") -> #REF!
AZ18: =IF(Dorsales!#REF!<>0,Dorsales!A20,"") -> #REF!
D19: Vuelo 1 | G19: MINIMANGA 1 | AZ19: =IF(Dorsales!#REF!<>0,Dorsales!A21,"") -> #REF!
C20: Concursante | D20: Juez | E20: DORSAL | F20: minutos | G20: segundos | H20: P.Vuelo | I20: m.Toma | J20: P.Toma | K20: P.Reales | L20: P.FAI | AZ20: =IF(Dorsales!#REF!<>0,Dorsales!A22,"") -> #REF!
A21: 7 | B21: 510 | C21: =VLOOKUP(E21,Dorsales!A:I,2,FALSE) -> Miguel de la Torre | D21: 1 | E21: 1 | F21: 5 | G21: 17.57 | H21: =IF((F21*60+G21)>B21,0,IF(F21>=A21,((A21*60*2)-F21*60-G21),F21*60+G21)) -> 317.57 | I21: 12 | J21: =IF(H21<30,0,IF(I21=0,0,IF(I21>15,0,32-I21*2))) -> 8 | K21: =IF(I21>100,0,H21+J21) -> 325.57 | L21: =IF(K21=0,0,K21/K32*1000) -> 756.71718 | AZ21: =IF(Dorsales!#REF!<>0,Dorsales!A23,"") -> #REF!
A22: 7 | B22: 510 | C22: =VLOOKUP(E22,Dorsales!A:I,2,FALSE) -> José Antonio Papin | D22: 2 | E22: 2 | F22: 6 | G22: 7.91 | H22: =IF((F22*60+G22)>B22,0,IF(F22>=A22,((A22*60*2)-F22*60-G22),F22*60+G22)) -> 367.91 | I22: 6 | J22: =IF(H22<30,0,IF(I22=0,0,IF(I22>15,0,32-I22*2))) -> 20 | K22: =IF(I22>100,0,H22+J22) -> 387.91 | L22: =IF(K22=0,0,K22/K32*1000) -> 901.61305 | AZ22: =IF(Dorsales!B25<>0,Dorsales!A24,"")
A23: 7 | B23: 510 | C23: =VLOOKUP(E23,Dorsales!A:I,2,FALSE) -> José Antonio Orviz | D23: 3 | E23: 3 | F23: 6 | G23: 56.24 | H23: =IF((F23*60+G23)>B23,0,IF(F23>=A23,((A23*60*2)-F23*60-G23),F23*60+G23)) -> 416.24 | I23: 9 | J23: =IF(H23<30,0,IF(I23=0,0,IF(I23>15,0,32-I23*2))) -> 14 | K23: =IF(I23>100,0,H23+J23) -> 430.24 | L23: =IF(K23=0,0,K23/K32*1000) -> 1000 | AZ23: =IF(Dorsales!B26<>0,Dorsales!A25,"")
A24: 7 | B24: 510 | C24: =VLOOKUP(E24,Dorsales!A:I,2,FALSE) -> Luis Antonio Presol | D24: 4 | E24: 4 | F24: 4 | G24: 37.81 | H24: =IF((F24*60+G24)>B24,0,IF(F24>=A24,((A24*60*2)-F24*60-G24),F24*60+G24)) -> 277.81 | I24: 5 | J24: =IF(H24<30,0,IF(I24=0,0,IF(I24>15,0,32-I24*2))) -> 22 | K24: =IF(I24>100,0,H24+J24) -> 299.81 | L24: =IF(K24=0,0,K24/K32*1000) -> 696.84362 | AZ24: =IF(Dorsales!B26<>0,Dorsales!A26,"")
A25: 7 | B25: 510 | C25: =VLOOKUP(E25,Dorsales!A:I,2,FALSE) -> Alejandro Gil | D25: 5 | E25: 5 | F25: 5 | G25: 45.85 | H25: =IF((F25*60+G25)>B25,0,IF(F25>=A25,((A25*60*2)-F25*60-G25),F25*60+G25)) -> 345.85 | I25: 10 | J25: =IF(H25<30,0,IF(I25=0,0,IF(I25>15,0,32-I25*2))) -> 12 | K25: =IF(I25>100,0,H25+J25) -> 357.85 | L25: =IF(K25=0,0,K25/K32*1000) -> 831.74507 | AZ25: =IF(Dorsales!B27<>0,Dorsales!A27,"")
A26: 7 | B26: 510 | C26: =VLOOKUP(E26,Dorsales!A:I,2,FALSE) -> ------- | D26: 6 | H26: =IF((F26*60+G26)>B26,0,IF(F26>=A26,((A26*60*2)-F26*60-G26),F26*60+G26)) -> 0 | J26: =IF(H26<30,0,IF(I26=0,0,IF(I26>15,0,32-I26*2))) -> 0 | K26: =IF(I26>100,0,H26+J26) -> 0 | L26: =IF(K26=0,0,K26/K32*1000) -> 0 | AZ26: =IF(Dorsales!B28<>0,Dorsales!A28,"")
A27: 7 | B27: 510 | C27: =VLOOKUP(E27,Dorsales!A:I,2,FALSE) -> ------- | D27: 7 | H27: =IF((F27*60+G27)>B27,0,IF(F27>=A27,((A27*60*2)-F27*60-G27),F27*60+G27)) -> 0 | J27: =IF(H27<30,0,IF(I27=0,0,IF(I27>15,0,32-I27*2))) -> 0 | K27: =IF(I27>100,0,H27+J27) -> 0 | L27: =IF(K27=0,0,K27/K32*1000) -> 0 | AZ27: =IF(Dorsales!B29<>0,Dorsales!A29,"")
A28: 7 | B28: 510 | C28: =VLOOKUP(E28,Dorsales!A:I,2,FALSE) -> ------- | D28: 8 | H28: =IF((F28*60+G28)>B28,0,IF(F28>=A28,((A28*60*2)-F28*60-G28),F28*60+G28)) -> 0 | J28: =IF(H28<30,0,IF(I28=0,0,IF(I28>15,0,32-I28*2))) -> 0 | K28: =IF(I28>100,0,H28+J28) -> 0 | L28: =IF(K28=0,0,K28/K32*1000) -> 0 | AZ28: =IF(Dorsales!B30<>0,Dorsales!A30,"")
A29: 7 | B29: 510 | C29: =VLOOKUP(E29,Dorsales!A:I,2,FALSE) -> ------- | D29: 9 | H29: =IF((F29*60+G29)>B29,0,IF(F29>=A29,((A29*60*2)-F29*60-G29),F29*60+G29)) -> 0 | J29: =IF(H29<30,0,IF(I29=0,0,IF(I29>15,0,32-I29*2))) -> 0 | K29: =IF(I29>100,0,H29+J29) -> 0 | L29: =IF(K29=0,0,K29/K32*1000) -> 0 | AZ29: =IF(Dorsales!B31<>0,Dorsales!A31,"")
A30: 7 | B30: 510 | C30: =VLOOKUP(E30,Dorsales!A:I,2,FALSE) -> ------- | H30: =IF((F30*60+G30)>B30,0,IF(F30>=A30,((A30*60*2)-F30*60-G30),F30*60+G30)) -> 0 | J30: =IF(H30<30,0,IF(I30=0,0,IF(I30>15,0,32-I30*2))) -> 0 | K30: =IF(I30>100,0,H30+J30) -> 0 | L30: =IF(K30=0,0,K30/K32*1000) -> 0
D32: Tiempo de Vuelo | F32: =A21 -> 7 | H32: Max. Ptos.Reales | K32: =MAX(K21:K30) -> 430.24
D39: Vuelo 1 | G39: MINIMANGA 2
C40: Concursante | D40: Juez | E40: DORSAL | F40: minutos | G40: segundos | H40: P.Vuelo | I40: m.Toma | J40: P.Toma | K40: P.Reales | L40: P.FAI
A41: 7 | B41: 510 | C41: =VLOOKUP(E41,Dorsales!A:I,2,FALSE) -> ------- | D41: 1 | H41: =IF((F41*60+G41)>B41,0,IF(F41>=A41,((A41*60*2)-F41*60-G41),F41*60+G41)) -> 0 | J41: =IF(H41<30,0,IF(I41=0,0,IF(I41>15,0,32-I41*2))) -> 0 | K41: =IF(I41>100,0,H41+J41) -> 0 | L41: =IF(K41=0,0,K41/K52*1000) -> 0
A42: 7 | B42: 510 | C42: =VLOOKUP(E42,Dorsales!A:I,2,FALSE) -> ------- | D42: 2 | H42: =IF((F42*60+G42)>B42,0,IF(F42>=A42,((A42*60*2)-F42*60-G42),F42*60+G42)) -> 0 | J42: =IF(H42<30,0,IF(I42=0,0,IF(I42>15,0,32-I42*2))) -> 0 | K42: =IF(I42>100,0,H42+J42) -> 0 | L42: =IF(K42=0,0,K42/K52*1000) -> 0
A43: 7 | B43: 510 | C43: =VLOOKUP(E43,Dorsales!A:I,2,FALSE) -> ------- | D43: 3 | H43: =IF((F43*60+G43)>B43,0,IF(F43>=A43,((A43*60*2)-F43*60-G43),F43*60+G43)) -> 0 | J43: =IF(H43<30,0,IF(I43=0,0,IF(I43>15,0,32-I43*2))) -> 0 | K43: =IF(I43>100,0,H43+J43) -> 0 | L43: =IF(K43=0,0,K43/K52*1000) -> 0
A44: 7 | B44: 510 | C44: =VLOOKUP(E44,Dorsales!A:I,2,FALSE) -> ------- | D44: 4 | H44: =IF((F44*60+G44)>B44,0,IF(F44>=A44,((A44*60*2)-F44*60-G44),F44*60+G44)) -> 0 | J44: =IF(H44<30,0,IF(I44=0,0,IF(I44>15,0,32-I44*2))) -> 0 | K44: =IF(I44>100,0,H44+J44) -> 0 | L44: =IF(K44=0,0,K44/K52*1000) -> 0 | AZ44: =IF(Dorsales!B46<>0,Dorsales!A46,"")
A45: 7 | B45: 510 | C45: =VLOOKUP(E45,Dorsales!A:I,2,FALSE) -> ------- | D45: 5 | H45: =IF((F45*60+G45)>B45,0,IF(F45>=A45,((A45*60*2)-F45*60-G45),F45*60+G45)) -> 0 | J45: =IF(H45<30,0,IF(I45=0,0,IF(I45>15,0,32-I45*2))) -> 0 | K45: =IF(I45>100,0,H45+J45) -> 0 | L45: =IF(K45=0,0,K45/K52*1000) -> 0 | AZ45: =IF(Dorsales!B47<>0,Dorsales!A47,"")
A46: 7 | B46: 510 | C46: =VLOOKUP(E46,Dorsales!A:I,2,FALSE) -> ------- | D46: 6 | H46: =IF((F46*60+G46)>B46,0,IF(F46>=A46,((A46*60*2)-F46*60-G46),F46*60+G46)) -> 0 | J46: =IF(H46<30,0,IF(I46=0,0,IF(I46>15,0,32-I46*2))) -> 0 | K46: =IF(I46>100,0,H46+J46) -> 0 | L46: =IF(K46=0,0,K46/K52*1000) -> 0 | AZ46: =IF(Dorsales!B29<>0,Dorsales!A29,"")
A47: 7 | B47: 510 | C47: =VLOOKUP(E47,Dorsales!A:I,2,FALSE) -> ------- | D47: 7 | H47: =IF((F47*60+G47)>B47,0,IF(F47>=A47,((A47*60*2)-F47*60-G47),F47*60+G47)) -> 0 | J47: =IF(H47<30,0,IF(I47=0,0,IF(I47>15,0,32-I47*2))) -> 0 | K47: =IF(I47>100,0,H47+J47) -> 0 | L47: =IF(K47=0,0,K47/K52*1000) -> 0 | AZ47: =IF(Dorsales!B30<>0,Dorsales!A30,"")
A48: 7 | B48: 510 | C48: =VLOOKUP(E48,Dorsales!A:I,2,FALSE) -> ------- | D48: 8 | H48: =IF((F48*60+G48)>B48,0,IF(F48>=A48,((A48*60*2)-F48*60-G48),F48*60+G48)) -> 0 | J48: =IF(H48<30,0,IF(I48=0,0,IF(I48>15,0,32-I48*2))) -> 0 | K48: =IF(I48>100,0,H48+J48) -> 0 | L48: =IF(K48=0,0,K48/K52*1000) -> 0
A49: 7 | B49: 510 | C49: =VLOOKUP(E49,Dorsales!A:I,2,FALSE) -> ------- | D49: 9 | H49: =IF((F49*60+G49)>B49,0,IF(F49>=A49,((A49*60*2)-F49*60-G49),F49*60+G49)) -> 0 | J49: =IF(H49<30,0,IF(I49=0,0,IF(I49>15,0,32-I49*2))) -> 0 | K49: =IF(I49>100,0,H49+J49) -> 0 | L49: =IF(K49=0,0,K49/K52*1000) -> 0
A50: 7 | B50: 510 | C50: =VLOOKUP(E50,Dorsales!A:I,2,FALSE) -> ------- | H50: =IF((F50*60+G50)>B50,0,IF(F50>=A50,((A50*60*2)-F50*60-G50),F50*60+G50)) -> 0 | J50: =IF(H50<30,0,IF(I50=0,0,IF(I50>15,0,32-I50*2))) -> 0 | K50: =IF(I50>100,0,H50+J50) -> 0 | L50: =IF(K50=0,0,K50/K52*1000) -> 0
D52: Tiempo de Vuelo | F52: =A41 -> 7 | H52: Max. Ptos.Reales | K52: =MAX(K41:K50) -> 0
D59: Vuelo 1 | G59: MINIMANGA 3
C60: Concursante | D60: Juez | E60: DORSAL | F60: minutos | G60: segundos | H60: P.Vuelo | I60: m.Toma | J60: P.Toma | K60: P.Reales | L60: P.FAI
A61: 7 | B61: 510 | C61: =VLOOKUP(E61,Dorsales!A:I,2,FALSE) -> ------- | D61: 1 | H61: =IF((F61*60+G61)>B61,0,IF(F61>=A61,((A61*60*2)-F61*60-G61),F61*60+G61)) -> 0 | J61: =IF(H61<30,0,IF(I61=0,0,IF(I61>15,0,32-I61*2))) -> 0 | K61: =IF(I61>100,0,H61+J61) -> 0 | L61: =IF(K61=0,0,K61/K72*1000) -> 0
A62: 7 | B62: 510 | C62: =VLOOKUP(E62,Dorsales!A:I,2,FALSE) -> ------- | D62: 2 | H62: =IF((F62*60+G62)>B62,0,IF(F62>=A62,((A62*60*2)-F62*60-G62),F62*60+G62)) -> 0 | J62: =IF(H62<30,0,IF(I62=0,0,IF(I62>15,0,32-I62*2))) -> 0 | K62: =IF(I62>100,0,H62+J62) -> 0 | L62: =IF(K62=0,0,K62/K72*1000) -> 0
A63: 7 | B63: 510 | C63: =VLOOKUP(E63,Dorsales!A:I,2,FALSE) -> ------- | D63: 3 | H63: =IF((F63*60+G63)>B63,0,IF(F63>=A63,((A63*60*2)-F63*60-G63),F63*60+G63)) -> 0 | J63: =IF(H63<30,0,IF(I63=0,0,IF(I63>15,0,32-I63*2))) -> 0 | K63: =IF(I63>100,0,H63+J63) -> 0 | L63: =IF(K63=0,0,K63/K72*1000) -> 0
A64: 7 | B64: 510 | C64: =VLOOKUP(E64,Dorsales!A:I,2,FALSE) -> ------- | D64: 4 | H64: =IF((F64*60+G64)>B64,0,IF(F64>=A64,((A64*60*2)-F64*60-G64),F64*60+G64)) -> 0 | J64: =IF(H64<30,0,IF(I64=0,0,IF(I64>15,0,32-I64*2))) -> 0 | K64: =IF(I64>100,0,H64+J64) -> 0 | L64: =IF(K64=0,0,K64/K72*1000) -> 0
A65: 7 | B65: 510 | C65: =VLOOKUP(E65,Dorsales!A:I,2,FALSE) -> ------- | D65: 5 | H65: =IF((F65*60+G65)>B65,0,IF(F65>=A65,((A65*60*2)-F65*60-G65),F65*60+G65)) -> 0 | J65: =IF(H65<30,0,IF(I65=0,0,IF(I65>15,0,32-I65*2))) -> 0 | K65: =IF(I65>100,0,H65+J65) -> 0 | L65: =IF(K65=0,0,K65/K72*1000) -> 0
A66: 7 | B66: 510 | C66: =VLOOKUP(E66,Dorsales!A:I,2,FALSE) -> ------- | D66: 6 | H66: =IF((F66*60+G66)>B66,0,IF(F66>=A66,((A66*60*2)-F66*60-G66),F66*60+G66)) -> 0 | J66: =IF(H66<30,0,IF(I66=0,0,IF(I66>15,0,32-I66*2))) -> 0 | K66: =IF(I66>100,0,H66+J66) -> 0 | L66: =IF(K66=0,0,K66/K72*1000) -> 0
A67: 7 | B67: 510 | C67: =VLOOKUP(E67,Dorsales!A:I,2,FALSE) -> ------- | D67: 7 | H67: =IF((F67*60+G67)>B67,0,IF(F67>=A67,((A67*60*2)-F67*60-G67),F67*60+G67)) -> 0 | J67: =IF(H67<30,0,IF(I67=0,0,IF(I67>15,0,32-I67*2))) -> 0 | K67: =IF(I67>100,0,H67+J67) -> 0 | L67: =IF(K67=0,0,K67/K72*1000) -> 0
A68: 7 | B68: 510 | C68: =VLOOKUP(E68,Dorsales!A:I,2,FALSE) -> ------- | D68: 8 | H68: =IF((F68*60+G68)>B68,0,IF(F68>=A68,((A68*60*2)-F68*60-G68),F68*60+G68)) -> 0 | J68: =IF(H68<30,0,IF(I68=0,0,IF(I68>15,0,32-I68*2))) -> 0 | K68: =IF(I68>100,0,H68+J68) -> 0 | L68: =IF(K68=0,0,K68/K72*1000) -> 0
A69: 7 | B69: 510 | C69: =VLOOKUP(E69,Dorsales!A:I,2,FALSE) -> ------- | D69: 9 | H69: =IF((F69*60+G69)>B69,0,IF(F69>=A69,((A69*60*2)-F69*60-G69),F69*60+G69)) -> 0 | J69: =IF(H69<30,0,IF(I69=0,0,IF(I69>15,0,32-I69*2))) -> 0 | K69: =IF(I69>100,0,H69+J69) -> 0 | L69: =IF(K69=0,0,K69/K72*1000) -> 0
A70: 7 | B70: 510 | C70: =VLOOKUP(E70,Dorsales!A:I,2,FALSE) -> ------- | H70: =IF((F70*60+G70)>B70,0,IF(F70>=A70,((A70*60*2)-F70*60-G70),F70*60+G70)) -> 0 | J70: =IF(H70<30,0,IF(I70=0,0,IF(I70>15,0,32-I70*2))) -> 0 | K70: =IF(I70>100,0,H70+J70) -> 0 | L70: =IF(K70=0,0,K70/K72*1000) -> 0
D72: Tiempo de Vuelo | F72: =A61 -> 7 | H72: Max. Ptos.Reales | K72: =MAX(K61:K70) -> 0
D79: Vuelo 1 | G79: MINIMANGA 4
C80: Concursante | D80: Juez | E80: DORSAL | F80: minutos | G80: segundos | H80: P.Vuelo | I80: m.Toma | J80: P.Toma | K80: P.Reales | L80: P.FAI
A81: 7 | B81: 510 | C81: =VLOOKUP(E81,Dorsales!A:I,2,FALSE) -> ------- | H81: =IF((F81*60+G81)>B81,0,IF(F81>=A81,((A81*60*2)-F81*60-G81),F81*60+G81)) -> 0 | J81: =IF(H81<30,0,IF(I81=0,0,IF(I81>15,0,32-I81*2))) -> 0 | K81: =IF(I81>100,0,H81+J81) -> 0 | L81: =IF(K81=0,0,K81/K92*1000) -> 0
A82: 7 | B82: 510 | C82: =VLOOKUP(E82,Dorsales!A:I,2,FALSE) -> ------- | H82: =IF((F82*60+G82)>B82,0,IF(F82>=A82,((A82*60*2)-F82*60-G82),F82*60+G82)) -> 0 | J82: =IF(H82<30,0,IF(I82=0,0,IF(I82>15,0,32-I82*2))) -> 0 | K82: =IF(I82>100,0,H82+J82) -> 0 | L82: =IF(K82=0,0,K82/K92*1000) -> 0
A83: 7 | B83: 510 | C83: =VLOOKUP(E83,Dorsales!A:I,2,FALSE) -> ------- | H83: =IF((F83*60+G83)>B83,0,IF(F83>=A83,((A83*60*2)-F83*60-G83),F83*60+G83)) -> 0 | J83: =IF(H83<30,0,IF(I83=0,0,IF(I83>15,0,32-I83*2))) -> 0 | K83: =IF(I83>100,0,H83+J83) -> 0 | L83: =IF(K83=0,0,K83/K92*1000) -> 0
A84: 7 | B84: 510 | C84: =VLOOKUP(E84,Dorsales!A:I,2,FALSE) -> ------- | H84: =IF((F84*60+G84)>B84,0,IF(F84>=A84,((A84*60*2)-F84*60-G84),F84*60+G84)) -> 0 | J84: =IF(H84<30,0,IF(I84=0,0,IF(I84>15,0,32-I84*2))) -> 0 | K84: =IF(I84>100,0,H84+J84) -> 0 | L84: =IF(K84=0,0,K84/K92*1000) -> 0
A85: 7 | B85: 510 | C85: =VLOOKUP(E85,Dorsales!A:I,2,FALSE) -> ------- | H85: =IF((F85*60+G85)>B85,0,IF(F85>=A85,((A85*60*2)-F85*60-G85),F85*60+G85)) -> 0 | J85: =IF(H85<30,0,IF(I85=0,0,IF(I85>15,0,32-I85*2))) -> 0 | K85: =IF(I85>100,0,H85+J85) -> 0 | L85: =IF(K85=0,0,K85/K92*1000) -> 0
A86: 7 | B86: 510 | C86: =VLOOKUP(E86,Dorsales!A:I,2,FALSE) -> ------- | H86: =IF((F86*60+G86)>B86,0,IF(F86>=A86,((A86*60*2)-F86*60-G86),F86*60+G86)) -> 0 | J86: =IF(H86<30,0,IF(I86=0,0,IF(I86>15,0,32-I86*2))) -> 0 | K86: =IF(I86>100,0,H86+J86) -> 0 | L86: =IF(K86=0,0,K86/K92*1000) -> 0
A87: 7 | B87: 510 | C87: =VLOOKUP(E87,Dorsales!A:I,2,FALSE) -> ------- | H87: =IF((F87*60+G87)>B87,0,IF(F87>=A87,((A87*60*2)-F87*60-G87),F87*60+G87)) -> 0 | J87: =IF(H87<30,0,IF(I87=0,0,IF(I87>15,0,32-I87*2))) -> 0 | K87: =IF(I87>100,0,H87+J87) -> 0 | L87: =IF(K87=0,0,K87/K92*1000) -> 0
A88: 7 | B88: 510 | C88: =VLOOKUP(E88,Dorsales!A:I,2,FALSE) -> ------- | H88: =IF((F88*60+G88)>B88,0,IF(F88>=A88,((A88*60*2)-F88*60-G88),F88*60+G88)) -> 0 | J88: =IF(H88<30,0,IF(I88=0,0,IF(I88>15,0,32-I88*2))) -> 0 | K88: =IF(I88>100,0,H88+J88) -> 0 | L88: =IF(K88=0,0,K88/K92*1000) -> 0
A89: 7 | B89: 510 | C89: =VLOOKUP(E89,Dorsales!A:I,2,FALSE) -> ------- | H89: =IF((F89*60+G89)>B89,0,IF(F89>=A89,((A89*60*2)-F89*60-G89),F89*60+G89)) -> 0 | J89: =IF(H89<30,0,IF(I89=0,0,IF(I89>15,0,32-I89*2))) -> 0 | K89: =IF(I89>100,0,H89+J89) -> 0 | L89: =IF(K89=0,0,K89/K92*1000) -> 0
A90: 7 | B90: 510 | C90: =VLOOKUP(E90,Dorsales!A:I,2,FALSE) -> ------- | H90: =IF((F90*60+G90)>B90,0,IF(F90>=A90,((A90*60*2)-F90*60-G90),F90*60+G90)) -> 0 | J90: =IF(H90<30,0,IF(I90=0,0,IF(I90>15,0,32-I90*2))) -> 0 | K90: =IF(I90>100,0,H90+J90) -> 0 | L90: =IF(K90=0,0,K90/K92*1000) -> 0
D92: Tiempo de Vuelo | F92: =A81 -> 7 | H92: Max. Ptos.Reales | K92: =MAX(K81:K90) -> 0
E101: 1
E102: 2
E103: 3
E104: 4
E105: 5
E106: 6
E107: 7
E108: 8
E109: 9
E110: 10
E111: 11
E112: 12
... E140: 40

Sheet Vuelo 2
D1: Vuelo 2 | G1: MINIMANGA DE 'RE-FLIGHT' | P1: =IF((F7*60+G7)>Instrucciones!C14,0,IF(F7>=Instrucciones!B10,((Instrucciones!B10*60*2)-F7*60-G7),F7*60+G7)) -> 0
C2: Concursante | D2: Juez | E2: DORSAL* | F2: minutos | G2: segundos | H2: P.Vuelo | I2: m.Toma | J2: P.Toma | K2: P.Reales | L2: P.FAI
A3: 7 | B3: 510 | C3: =VLOOKUP(E3,Dorsales!A:I,2,FALSE) -> ------- | D3: 1 | H3: =IF((F3*60+G3)>B3,0,IF(F3>=A3,((A3*60*2)-F3*60-G3),F3*60+G3)) -> 0 | J3: =IF(H3<30,0,IF(I3=0,0,IF(I3>15,0,32-I3*2))) -> 0 | K3: =IF(I3>100,0,H3+J3) -> 0 | L3: =IF(K3=0,0,K3/K14*1000) -> 0
A4: 7 | B4: 510 | C4: =VLOOKUP(E4,Dorsales!A:I,2,FALSE) -> ------- | D4: 2 | H4: =IF((F4*60+G4)>B4,0,IF(F4>=A4,((A4*60*2)-F4*60-G4),F4*60+G4)) -> 0 | J4: =IF(H4<30,0,IF(I4=0,0,IF(I4>15,0,32-I4*2))) -> 0 | K4: =IF(I4>100,0,H4+J4) -> 0 | L4: =IF(K4=0,0,K4/K14*1000) -> 0
A5: 7 | B5: 510 | C5: =VLOOKUP(E5,Dorsales!A:I,2,FALSE) -> ------- | D5: 3 | H5: =IF((F5*60+G5)>B5,0,IF(F5>=A5,((A5*60*2)-F5*60-G5),F5*60+G5)) -> 0 | J5: =IF(H5<30,0,IF(I5=0,0,IF(I5>15,0,32-I5*2))) -> 0 | K5: =IF(I5>100,0,H5+J5) -> 0 | L5: =IF(K5=0,0,K5/K14*1000) -> 0
A6: 7 | B6: 510 | C6: =VLOOKUP(E6,Dorsales!A:I,2,FALSE) -> ------- | D6: 4 | H6: =IF((F6*60+G6)>B6,0,IF(F6>=A6,((A6*60*2)-F6*60-G6),F6*60+G6)) -> 0 | J6: =IF(H6<30,0,IF(I6=0,0,IF(I6>15,0,32-I6*2))) -> 0 | K6: =IF(I6>100,0,H6+J6) -> 0 | L6: =IF(K6=0,0,K6/K14*1000) -> 0
A7: 7 | B7: 510 | C7: =VLOOKUP(E7,Dorsales!A:I,2,FALSE) -> ------- | D7: 5 | H7: =IF((F7*60+G7)>B7,0,IF(F7>=A7,((A7*60*2)-F7*60-G7),F7*60+G7)) -> 0 | J7: =IF(H7<30,0,IF(I7=0,0,IF(I7>15,0,32-I7*2))) -> 0 | K7: =IF(I7>100,0,H7+J7) -> 0 | L7: =IF(K7=0,0,K7/K14*1000) -> 0
A8: 7 | B8: 510 | C8: =VLOOKUP(E8,Dorsales!A:I,2,FALSE) -> ------- | D8: 6 | H8: =IF((F8*60+G8)>B8,0,IF(F8>=A8,((A8*60*2)-F8*60-G8),F8*60+G8)) -> 0 | J8: =IF(H8<30,0,IF(I8=0,0,IF(I8>15,0,32-I8*2))) -> 0 | K8: =IF(I8>100,0,H8+J8) -> 0 | L8: =IF(K8=0,0,K8/K14*1000) -> 0
A9: 7 | B9: 510 | C9: =VLOOKUP(E9,Dorsales!A:I,2,FALSE) -> ------- | D9: 7 | H9: =IF((F9*60+G9)>B9,0,IF(F9>=A9,((A9*60*2)-F9*60-G9),F9*60+G9)) -> 0 | J9: =IF(H9<30,0,IF(I9=0,0,IF(I9>15,0,32-I9*2))) -> 0 | K9: =IF(I9>100,0,H9+J9) -> 0 | L9: =IF(K9=0,0,K9/K14*1000) -> 0
A10: 7 | B10: 510 | C10: =VLOOKUP(E10,Dorsales!A:I,2,FALSE) -> ------- | D10: 8 | H10: =IF((F10*60+G10)>B10,0,IF(F10>=A10,((A10*60*2)-F10*60-G10),F10*60+G10)) -> 0 | J10: =IF(H10<30,0,IF(I10=0,0,IF(I10>15,0,32-I10*2))) -> 0 | K10: =IF(I10>100,0,H10+J10) -> 0 | L10: =IF(K10=0,0,K10/K14*1000) -> 0
A11: 7 | B11: 510 | C11: =VLOOKUP(E11,Dorsales!A:I,2,FALSE) -> ------- | D11: 9 | H11: =IF((F11*60+G11)>B11,0,IF(F11>=A11,((A11*60*2)-F11*60-G11),F11*60+G11)) -> 0 | J11: =IF(H11<30,0,IF(I11=0,0,IF(I11>15,0,32-I11*2))) -> 0 | K11: =IF(I11>100,0,H11+J11) -> 0 | L11: =IF(K11=0,0,K11/K14*1000) -> 0
A12: 7 | B12: 510 | C12: =VLOOKUP(E12,Dorsales!A:I,2,FALSE) -> ------- | H12: =IF((F12*60+G12)>B12,0,IF(F12>=A12,((A12*60*2)-F12*60-G12),F12*60+G12)) -> 0 | J12: =IF(H12<30,0,IF(I12=0,0,IF(I12>15,0,32-I12*2))) -> 0 | K12: =IF(I12>100,0,H12+J12) -> 0 | L12: =IF(K12=0,0,K12/K14*1000) -> 0
D13: *A los dorsales cuya puntuacion no sea la valida se les sumara 50
D14: Tiempo de Vuelo | F14: =A3 -> 7 | H14: Max. Ptos.Reales | K14: =MAX(K3:K12) -> 0
D19: Vuelo 2 | G19: MINIMANGA 1
C20: Concursante | D20: Juez | E20: DORSAL | F20: minutos | G20: segundos | H20: P.Vuelo | I20: m.Toma | J20: P.Toma | K20: P.Reales | L20: P.FAI
A21: 7 | B21: 510 | C21: =VLOOKUP(E21,Dorsales!A:I,2,FALSE) -> Miguel de la Torre | D21: 1 | E21: 1 | F21: 5 | G21: 14.3 | H21: =IF((F21*60+G21)>B21,0,IF(F21>=A21,((A21*60*2)-F21*60-G21),F21*60+G21)) -> 314.3 | J21: =IF(H21<30,0,IF(I21=0,0,IF(I21>15,0,32-I21*2))) -> 0 | K21: =IF(I21>100,0,H21+J21) -> 314.3 | L21: =IF(K21=0,0,K21/K32*1000) -> 960.72138
A22: 7 | B22: 510 | C22: =VLOOKUP(E22,Dorsales!A:I,2,FALSE) -> José Antonio Papin | D22: 2 | E22: 2 | F22: 5 | G22: 27.15 | H22: =IF((F22*60+G22)>B22,0,IF(F22>=A22,((A22*60*2)-F22*60-G22),F22*60+G22)) -> 327.15 | J22: =IF(H22<30,0,IF(I22=0,0,IF(I22>15,0,32-I22*2))) -> 0 | K22: =IF(I22>100,0,H22+J22) -> 327.15 | L22: =IF(K22=0,0,K22/K32*1000) -> 1000
A23: 7 | B23: 510 | C23: =VLOOKUP(E23,Dorsales!A:I,2,FALSE) -> José Antonio Orviz | D23: 3 | E23: 3 | F23: 4 | G23: 53.6 | H23: =IF((F23*60+G23)>B23,0,IF(F23>=A23,((A23*60*2)-F23*60-G23),F23*60+G23)) -> 293.6 | I23: 6 | J23: =IF(H23<30,0,IF(I23=0,0,IF(I23>15,0,32-I23*2))) -> 20 | K23: =IF(I23>100,0,H23+J23) -> 313.6 | L23: =IF(K23=0,0,K23/K32*1000) -> 958.58169
A24: 7 | B24: 510 | C24: =VLOOKUP(E24,Dorsales!A:I,2,FALSE) -> Luis Antonio Presol | D24: 4 | E24: 4 | F24: 4 | G24: 57.72 | H24: =IF((F24*60+G24)>B24,0,IF(F24>=A24,((A24*60*2)-F24*60-G24),F24*60+G24)) -> 297.72 | I24: 4 | J24: =IF(H24<30,0,IF(I24=0,0,IF(I24>15,0,32-I24*2))) -> 24 | K24: =IF(I24>100,0,H24+J24) -> 321.72 | L24: =IF(K24=0,0,K24/K32*1000) -> 983.40211
A25: 7 | B25: 510 | C25: =VLOOKUP(E25,Dorsales!A:I,2,FALSE) -> Alejandro Gil | D25: 5 | E25: 5 | F25: 4 | G25: 19.28 | H25: =IF((F25*60+G25)>B25,0,IF(F25>=A25,((A25*60*2)-F25*60-G25),F25*60+G25)) -> 259.28 | J25: =IF(H25<30,0,IF(I25=0,0,IF(I25>15,0,32-I25*2))) -> 0 | K25: =IF(I25>100,0,H25+J25) -> 259.28 | L25: =IF(K25=0,0,K25/K32*1000) -> 792.54165
A26: 7 | B26: 510 | C26: =VLOOKUP(E26,Dorsales!A:I,2,FALSE) -> ------- | D26: 6 | H26: =IF((F26*60+G26)>B26,0,IF(F26>=A26,((A26*60*2)-F26*60-G26),F26*60+G26)) -> 0 | J26: =IF(H26<30,0,IF(I26=0,0,IF(I26>15,0,32-I26*2))) -> 0 | K26: =IF(I26>100,0,H26+J26) -> 0 | L26: =IF(K26=0,0,K26/K32*1000) -> 0
A27: 7 | B27: 510 | C27: =VLOOKUP(E27,Dorsales!A:I,2,FALSE) -> ------- | D27: 7 | H27: =IF((F27*60+G27)>B27,0,IF(F27>=A27,((A27*60*2)-F27*60-G27),F27*60+G27)) -> 0 | J27: =IF(H27<30,0,IF(I27=0,0,IF(I27>15,0,32-I27*2))) -> 0 | K27: =IF(I27>100,0,H27+J27) -> 0 | L27: =IF(K27=0,0,K27/K32*1000) -> 0
A28: 7 | B28: 510 | C28: =VLOOKUP(E28,Dorsales!A:I,2,FALSE) -> ------- | D28: 8 | H28: =IF((F28*60+G28)>B28,0,IF(F28>=A28,((A28*60*2)-F28*60-G28),F28*60+G28)) -> 0 | J28: =IF(H28<30,0,IF(I28=0,0,IF(I28>15,0,32-I28*2))) -> 0 | K28: =IF(I28>100,0,H28+J28) -> 0 | L28: =IF(K28=0,0,K28/K32*1000) -> 0
A29: 7 | B29: 510 | C29: =VLOOKUP(E29,Dorsales!A:I,2,FALSE) -> ------- | D29: 9 | H29: =IF((F29*60+G29)>B29,0,IF(F29>=A29,((A29*60*2)-F29*60-G29),F29*60+G29)) -> 0 | J29: =IF(H29<30,0,IF(I29=0,0,IF(I29>15,0,32-I29*2))) -> 0 | K29: =IF(I29>100,0,H29+J29) -> 0 | L29: =IF(K29=0,0,K29/K32*1000) -> 0
A30: 7 | B30: 510 | C30: =VLOOKUP(E30,Dorsales!A:I,2,FALSE) -> ------- | H30: =IF((F30*60+G30)>B30,0,IF(F30>=A30,((A30*60*2)-F30*60-G30),F30*60+G30)) -> 0 | J30: =IF(H30<30,0,IF(I30=0,0,IF(I30>15,0,32-I30*2))) -> 0 | K30: =IF(I30>100,0,H30+J30) -> 0 | L30: =IF(K30=0,0,K30/K32*1000) -> 0
D32: Tiempo de Vuelo | F32: =A21 -> 7 | H32: Max. Ptos.Reales | K32: =MAX(K21:K30) -> 327.15
D39: Vuelo 2 | G39: MINIMANGA 2
C40: Concursante | D40: Juez | E40: DORSAL | F40: minutos | G40: segundos | H40: P.Vuelo | I40: m.Toma | J40: P.Toma | K40: P.Reales | L40: P.FAI
A41: 7 | B41: 510 | C41: =VLOOKUP(E41,Dorsales!A:I,2,FALSE) -> ------- | D41: 1 | H41: =IF((F41*60+G41)>B41,0,IF(F41>=A41,((A41*60*2)-F41*60-G41),F41*60+G41)) -> 0 | J41: =IF(H41<30,0,IF(I41=0,0,IF(I41>15,0,32-I41*2))) -> 0 | K41: =IF(I41>100,0,H41+J41) -> 0 | L41: =IF(K41=0,0,K41/K52*1000) -> 0
A42: 7 | B42: 510 | C42: =VLOOKUP(E42,Dorsales!A:I,2,FALSE) -> ------- | D42: 2 | H42: =IF((F42*60+G42)>B42,0,IF(F42>=A42,((A42*60*2)-F42*60-G42),F42*60+G42)) -> 0 | J42: =IF(H42<30,0,IF(I42=0,0,IF(I42>15,0,32-I42*2))) -> 0 | K42: =IF(I42>100,0,H42+J42) -> 0 | L42: =IF(K42=0,0,K42/K52*1000) -> 0
A43: 7 | B43: 510 | C43: =VLOOKUP(E43,Dorsales!A:I,2,FALSE) -> ------- | D43: 3 | H43: =IF((F43*60+G43)>B43,0,IF(F43>=A43,((A43*60*2)-F43*60-G43),F43*60+G43)) -> 0 | J43: =IF(H43<30,0,IF(I43=0,0,IF(I43>15,0,32-I43*2))) -> 0 | K43: =IF(I43>100,0,H43+J43) -> 0 | L43: =IF(K43=0,0,K43/K52*1000) -> 0
A44: 7 | B44: 510 | C44: =VLOOKUP(E44,Dorsales!A:I,2,FALSE) -> ------- | D44: 4 | H44: =IF((F44*60+G44)>B44,0,IF(F44>=A44,((A44*60*2)-F44*60-G44),F44*60+G44)) -> 0 | J44: =IF(H44<30,0,IF(I44=0,0,IF(I44>15,0,32-I44*2))) -> 0 | K44: =IF(I44>100,0,H44+J44) -> 0 | L44: =IF(K44=0,0,K44/K52*1000) -> 0
A45: 7 | B45: 510 | C45: =VLOOKUP(E45,Dorsales!A:I,2,FALSE) -> ------- | D45: 5 | H45: =IF((F45*60+G45)>B45,0,IF(F45>=A45,((A45*60*2)-F45*60-G45),F45*60+G45)) -> 0 | J45: =IF(H45<30,0,IF(I45=0,0,IF(I45>15,0,32-I45*2))) -> 0 | K45: =IF(I45>100,0,H45+J45) -> 0 | L45: =IF(K45=0,0,K45/K52*1000) -> 0
A46: 7 | B46: 510 | C46: =VLOOKUP(E46,Dorsales!A:I,2,FALSE) -> ------- | D46: 6 | H46: =IF((F46*60+G46)>B46,0,IF(F46>=A46,((A46*60*2)-F46*60-G46),F46*60+G46)) -> 0 | J46: =IF(H46<30,0,IF(I46=0,0,IF(I46>15,0,32-I46*2))) -> 0 | K46: =IF(I46>100,0,H46+J46) -> 0 | L46: =IF(K46=0,0,K46/K52*1000) -> 0
A47: 7 | B47: 510 | C47: =VLOOKUP(E47,Dorsales!A:I,2,FALSE) -> ------- | D47: 7 | H47: =IF((F47*60+G47)>B47,0,IF(F47>=A47,((A47*60*2)-F47*60-G47),F47*60+G47)) -> 0 | J47: =IF(H47<30,0,IF(I47=0,0,IF(I47>15,0,32-I47*2))) -> 0 | K47: =IF(I47>100,0,H47+J47) -> 0 | L47: =IF(K47=0,0,K47/K52*1000) -> 0
A48: 7 | B48: 510 | C48: =VLOOKUP(E48,Dorsales!A:I,2,FALSE) -> ------- | D48: 8 | H48: =IF((F48*60+G48)>B48,0,IF(F48>=A48,((A48*60*2)-F48*60-G48),F48*60+G48)) -> 0 | J48: =IF(H48<30,0,IF(I48=0,0,IF(I48>15,0,32-I48*2))) -> 0 | K48: =IF(I48>100,0,H48+J48) -> 0 | L48: =IF(K48=0,0,K48/K52*1000) -> 0
A49: 7 | B49: 510 | C49: =VLOOKUP(E49,Dorsales!A:I,2,FALSE) -> ------- | D49: 9 | H49: =IF((F49*60+G49)>B49,0,IF(F49>=A49,((A49*60*2)-F49*60-G49),F49*60+G49)) -> 0 | J49: =IF(H49<30,0,IF(I49=0,0,IF(I49>15,0,32-I49*2))) -> 0 | K49: =IF(I49>100,0,H49+J49) -> 0 | L49: =IF(K49=0,0,K49/K52*1000) -> 0
A50: 7 | B50: 510 | C50: =VLOOKUP(E50,Dorsales!A:I,2,FALSE) -> ------- | H50: =IF((F50*60+G50)>B50,0,IF(F50>=A50,((A50*60*2)-F50*60-G50),F50*60+G50)) -> 0 | J50: =IF(H50<30,0,IF(I50=0,0,IF(I50>15,0,32-I50*2))) -> 0 | K50: =IF(I50>100,0,H50+J50) -> 0 | L50: =IF(K50=0,0,K50/K52*1000) -> 0
D52: Tiempo de Vuelo | F52: =A41 -> 7 | H52: Max. Ptos.Reales | K52: =MAX(K41:K50) -> 0
D59: Vuelo 2 | G59: MINIMANGA 3
C60: Concursante | D60: Juez | E60: DORSAL | F60: minutos | G60: segundos | H60: P.Vuelo | I60: m.Toma | J60: P.Toma | K60: P.Reales | L60: P.FAI
A61: 7 | B61: 510 | C61: =VLOOKUP(E61,Dorsales!A:I,2,FALSE) -> ------- | D61: 1 | H61: =IF((F61*60+G61)>B61,0,IF(F61>=A61,((A61*60*2)-F61*60-G61),F61*60+G61)) -> 0 | J61: =IF(H61<30,0,IF(I61=0,0,IF(I61>15,0,32-I61*2))) -> 0 | K61: =IF(I61>100,0,H61+J61) -> 0 | L61: =IF(K61=0,0,K61/K72*1000) -> 0
A62: 7 | B62: 510 | C62: =VLOOKUP(E62,Dorsales!A:I,2,FALSE) -> ------- | D62: 2 | H62: =IF((F62*60+G62)>B62,0,IF(F62>=A62,((A62*60*2)-F62*60-G62),F62*60+G62)) -> 0 | J62: =IF(H62<30,0,IF(I62=0,0,IF(I62>15,0,32-I62*2))) -> 0 | K62: =IF(I62>100,0,H62+J62) -> 0 | L62: =IF(K62=0,0,K62/K72*1000) -> 0
A63: 7 | B63: 510 | C63: =VLOOKUP(E63,Dorsales!A:I,2,FALSE) -> ------- | D63: 3 | H63: =IF((F63*60+G63)>B63,0,IF(F63>=A63,((A63*60*2)-F63*60-G63),F63*60+G63)) -> 0 | J63: =IF(H63<30,0,IF(I63=0,0,IF(I63>15,0,32-I63*2))) -> 0 | K63: =IF(I63>100,0,H63+J63) -> 0 | L63: =IF(K63=0,0,K63/K72*1000) -> 0
A64: 7 | B64: 510 | C64: =VLOOKUP(E64,Dorsales!A:I,2,FALSE) -> ------- | D64: 4 | H64: =IF((F64*60+G64)>B64,0,IF(F64>=A64,((A64*60*2)-F64*60-G64),F64*60+G64)) -> 0 | J64: =IF(H64<30,0,IF(I64=0,0,IF(I64>15,0,32-I64*2))) -> 0 | K64: =IF(I64>100,0,H64+J64) -> 0 | L64: =IF(K64=0,0,K64/K72*1000) -> 0
A65: 7 | B65: 510 | C65: =VLOOKUP(E65,Dorsales!A:I,2,FALSE) -> ------- | D65: 5 | H65: =IF((F65*60+G65)>B65,0,IF(F65>=A65,((A65*60*2)-F65*60-G65),F65*60+G65)) -> 0 | J65: =IF(H65<30,0,IF(I65=0,0,IF(I65>15,0,32-I65*2))) -> 0 | K65: =IF(I65>100,0,H65+J65) -> 0 | L65: =IF(K65=0,0,K65/K72*1000) -> 0
A66: 7 | B66: 510 | C66: =VLOOKUP(E66,Dorsales!A:I,2,FALSE) -> ------- | D66: 6 | H66: =IF((F66*60+G66)>B66,0,IF(F66>=A66,((A66*60*2)-F66*60-G66),F66*60+G66)) -> 0 | J66: =IF(H66<30,0,IF(I66=0,0,IF(I66>15,0,32-I66*2))) -> 0 | K66: =IF(I66>100,0,H66+J66) -> 0 | L66: =IF(K66=0,0,K66/K72*1000) -> 0
A67: 7 | B67: 510 | C67: =VLOOKUP(E67,Dorsales!A:I,2,FALSE) -> ------- | D67: 7 | H67: =IF((F67*60+G67)>B67,0,IF(F67>=A67,((A67*60*2)-F67*60-G67),F67*60+G67)) -> 0 | J67: =IF(H67<30,0,IF(I67=0,0,IF(I67>15,0,32-I67*2))) -> 0 | K67: =IF(I67>100,0,H67+J67) -> 0 | L67: =IF(K67=0,0,K67/K72*1000) -> 0
A68: 7 | B68: 510 | C68: =VLOOKUP(E68,Dorsales!A:I,2,FALSE) -> ------- | D68: 8 | H68: =IF((F68*60+G68)>B68,0,IF(F68>=A68,((A68*60*2)-F68*60-G68),F68*60+G68)) -> 0 | J68: =IF(H68<30,0,IF(I68=0,0,IF(I68>15,0,32-I68*2))) -> 0 | K68: =IF(I68>100,0,H68+J68) -> 0 | L68: =IF(K68=0,0,K68/K72*1000) -> 0
A69: 7 | B69: 510 | C69: =VLOOKUP(E69,Dorsales!A:I,2,FALSE) -> ------- | D69: 9 | H69: =IF((F69*60+G69)>B69,0,IF(F69>=A69,((A69*60*2)-F69*60-G69),F69*60+G69)) -> 0 | J69: =IF(H69<30,0,IF(I69=0,0,IF(I69>15,0,32-I69*2))) -> 0 | K69: =IF(I69>100,0,H69+J69) -> 0 | L69: =IF(K69=0,0,K69/K72*1000) -> 0
A70: 7 | B70: 510 | C70: =VLOOKUP(E70,Dorsales!A:I,2,FALSE) -> ------- | H70: =IF((F70*60+G70)>B70,0,IF(F70>=A70,((A70*60*2)-F70*60-G70),F70*60+G70)) -> 0 | J70: =IF(H70<30,0,IF(I70=0,0,IF(I70>15,0,32-I70*2))) -> 0 | K70: =IF(I70>100,0,H70+J70) -> 0 | L70: =IF(K70=0,0,K70/K72*1000) -> 0
D72: Tiempo de Vuelo | F72: =A61 -> 7 | H72: Max. Ptos.Reales | K72: =MAX(K61:K70) -> 0
D79: Vuelo 2 | G79: MINIMANGA 4
C80: Concursante | D80: Juez | E80: DORSAL | F80: minutos | G80: segundos | H80: P.Vuelo | I80: m.Toma | J80: P.Toma | K80: P.Reales | L80: P.FAI
A81: 7 | B81: 510 | C81: =VLOOKUP(E81,Dorsales!A:I,2,FALSE) -> ------- | H81: =IF((F81*60+G81)>B81,0,IF(F81>=A81,((A81*60*2)-F81*60-G81),F81*60+G81)) -> 0 | J81: =IF(H81<30,0,IF(I81=0,0,IF(I81>15,0,32-I81*2))) -> 0 | K81: =IF(I81>100,0,H81+J81) -> 0 | L81: =IF(K81=0,0,K81/K92*1000) -> 0
A82: 7 | B82: 510 | C82: =VLOOKUP(E82,Dorsales!A:I,2,FALSE) -> ------- | H82: =IF((F82*60+G82)>B82,0,IF(F82>=A82,((A82*60*2)-F82*60-G82),F82*60+G82)) -> 0 | J82: =IF(H82<30,0,IF(I82=0,0,IF(I82>15,0,32-I82*2))) -> 0 | K82: =IF(I82>100,0,H82+J82) -> 0 | L82: =IF(K82=0,0,K82/K92*1000) -> 0
A83: 7 | B83: 510 | C83: =VLOOKUP(E83,Dorsales!A:I,2,FALSE) -> ------- | H83: =IF((F83*60+G83)>B83,0,IF(F83>=A83,((A83*60*2)-F83*60-G83),F83*60+G83)) -> 0 | J83: =IF(H83<30,0,IF(I83=0,0,IF(I83>15,0,32-I83*2))) -> 0 | K83: =IF(I83>100,0,H83+J83) -> 0 | L83: =IF(K83=0,0,K83/K92*1000) -> 0
A84: 7 | B84: 510 | C84: =VLOOKUP(E84,Dorsales!A:I,2,FALSE) -> ------- | H84: =IF((F84*60+G84)>B84,0,IF(F84>=A84,((A84*60*2)-F84*60-G84),F84*60+G84)) -> 0 | J84: =IF(H84<30,0,IF(I84=0,0,IF(I84>15,0,32-I84*2))) -> 0 | K84: =IF(I84>100,0,H84+J84) -> 0 | L84: =IF(K84=0,0,K84/K92*1000) -> 0
A85: 7 | B85: 510 | C85: =VLOOKUP(E85,Dorsales!A:I,2,FALSE) -> ------- | H85: =IF((F85*60+G85)>B85,0,IF(F85>=A85,((A85*60*2)-F85*60-G85),F85*60+G85)) -> 0 | J85: =IF(H85<30,0,IF(I85=0,0,IF(I85>15,0,32-I85*2))) -> 0 | K85: =IF(I85>100,0,H85+J85) -> 0 | L85: =IF(K85=0,0,K85/K92*1000) -> 0
A86: 7 | B86: 510 | C86: =VLOOKUP(E86,Dorsales!A:I,2,FALSE) -> ------- | H86: =IF((F86*60+G86)>B86,0,IF(F86>=A86,((A86*60*2)-F86*60-G86),F86*60+G86)) -> 0 | J86: =IF(H86<30,0,IF(I86=0,0,IF(I86>15,0,32-I86*2))) -> 0 | K86: =IF(I86>100,0,H86+J86) -> 0 | L86: =IF(K86=0,0,K86/K92*1000) -> 0
A87: 7 | B87: 510 | C87: =VLOOKUP(E87,Dorsales!A:I,2,FALSE) -> ------- | H87: =IF((F87*60+G87)>B87,0,IF(F87>=A87,((A87*60*2)-F87*60-G87),F87*60+G87)) -> 0 | J87: =IF(H87<30,0,IF(I87=0,0,IF(I87>15,0,32-I87*2))) -> 0 | K87: =IF(I87>100,0,H87+J87) -> 0 | L87: =IF(K87=0,0,K87/K92*1000) -> 0
A88: 7 | B88: 510 | C88: =VLOOKUP(E88,Dorsales!A:I,2,FALSE) -> ------- | H88: =IF((F88*60+G88)>B88,0,IF(F88>=A88,((A88*60*2)-F88*60-G88),F88*60+G88)) -> 0 | J88: =IF(H88<30,0,IF(I88=0,0,IF(I88>15,0,32-I88*2))) -> 0 | K88: =IF(I88>100,0,H88+J88) -> 0 | L88: =IF(K88=0,0,K88/K92*1000) -> 0
A89: 7 | B89: 510 | C89: =VLOOKUP(E89,Dorsales!A:I,2,FALSE) -> ------- | H89: =IF((F89*60+G89)>B89,0,IF(F89>=A89,((A89*60*2)-F89*60-G89),F89*60+G89)) -> 0 | J89: =IF(H89<30,0,IF(I89=0,0,IF(I89>15,0,32-I89*2))) -> 0 | K89: =IF(I89>100,0,H89+J89) -> 0 | L89: =IF(K89=0,0,K89/K92*1000) -> 0
A90: 7 | B90: 510 | C90: =VLOOKUP(E90,Dorsales!A:I,2,FALSE) -> ------- | H90: =IF((F90*60+G90)>B90,0,IF(F90>=A90,((A90*60*2)-F90*60-G90),F90*60+G90)) -> 0 | J90: =IF(H90<30,0,IF(I90=0,0,IF(I90>15,0,32-I90*2))) -> 0 | K90: =IF(I90>100,0,H90+J90) -> 0 | L90: =IF(K90=0,0,K90/K92*1000) -> 0
D92: Tiempo de Vuelo | F92: =A81 -> 7 | H92: Max. Ptos.Reales | K92: =MAX(K81:K90) -> 0
E101: 1
E102: 2
E103: 3
E104: 4
E105: 5
E106: 6
E107: 7
E108: 8
E109: 9
E110: 10
E111: 11
E112: 12
... E140: 40

Sheet Vuelo 3
D1: Vuelo 3 | G1: MINIMANGA DE 'RE-FLIGHT' | P1: =IF((F7*60+G7)>Instrucciones!C14,0,IF(F7>=Instrucciones!B10,((Instrucciones!B10*60*2)-F7*60-G7),F7*60+G7)) -> 0
C2: Concursante | D2: Juez | E2: DORSAL* | F2: minutos | G2: segundos | H2: P.Vuelo | I2: m.Toma | J2: P.Toma | K2: P.Reales | L2: P.FAI
A3: 7 | B3: 510 | C3: =VLOOKUP(E3,Dorsales!A:I,2,FALSE) -> ------- | H3: =IF((F3*60+G3)>B3,0,IF(F3>=A3,((A3*60*2)-F3*60-G3),F3*60+G3)) -> 0 | J3: =IF(H3<30,0,IF(I3=0,0,IF(I3>15,0,32-I3*2))) -> 0 | K3: =IF(I3>100,0,H3+J3) -> 0 | L3: =IF(K3=0,0,K3/K14*1000) -> 0
A4: 7 | B4: 510 | C4: =VLOOKUP(E4,Dorsales!A:I,2,FALSE) -> ------- | H4: =IF((F4*60+G4)>B4,0,IF(F4>=A4,((A4*60*2)-F4*60-G4),F4*60+G4)) -> 0 | J4: =IF(H4<30,0,IF(I4=0,0,IF(I4>15,0,32-I4*2))) -> 0 | K4: =IF(I4>100,0,H4+J4) -> 0 | L4: =IF(K4=0,0,K4/K14*1000) -> 0
A5: 7 | B5: 510 | C5: =VLOOKUP(E5,Dorsales!A:I,2,FALSE) -> ------- | H5: =IF((F5*60+G5)>B5,0,IF(F5>=A5,((A5*60*2)-F5*60-G5),F5*60+G5)) -> 0 | J5: =IF(H5<30,0,IF(I5=0,0,IF(I5>15,0,32-I5*2))) -> 0 | K5: =IF(I5>100,0,H5+J5) -> 0 | L5: =IF(K5=0,0,K5/K14*1000) -> 0
A6: 7 | B6: 510 | C6: =VLOOKUP(E6,Dorsales!A:I,2,FALSE) -> ------- | H6: =IF((F6*60+G6)>B6,0,IF(F6>=A6,((A6*60*2)-F6*60-G6),F6*60+G6)) -> 0 | J6: =IF(H6<30,0,IF(I6=0,0,IF(I6>15,0,32-I6*2))) -> 0 | K6: =IF(I6>100,0,H6+J6) -> 0 | L6: =IF(K6=0,0,K6/K14*1000) -> 0
A7: 7 | B7: 510 | C7: =VLOOKUP(E7,Dorsales!A:I,2,FALSE) -> ------- | H7: =IF((F7*60+G7)>B7,0,IF(F7>=A7,((A7*60*2)-F7*60-G7),F7*60+G7)) -> 0 | J7: =IF(H7<30,0,IF(I7=0,0,IF(I7>15,0,32-I7*2))) -> 0 | K7: =IF(I7>100,0,H7+J7) -> 0 | L7: =IF(K7=0,0,K7/K14*1000) -> 0
A8: 7 | B8: 510 | C8: =VLOOKUP(E8,Dorsales!A:I,2,FALSE) -> ------- | H8: =IF((F8*60+G8)>B8,0,IF(F8>=A8,((A8*60*2)-F8*60-G8),F8*60+G8)) -> 0 | J8: =IF(H8<30,0,IF(I8=0,0,IF(I8>15,0,32-I8*2))) -> 0 | K8: =IF(I8>100,0,H8+J8) -> 0 | L8: =IF(K8=0,0,K8/K14*1000) -> 0
A9: 7 | B9: 510 | C9: =VLOOKUP(E9,Dorsales!A:I,2,FALSE) -> ------- | H9: =IF((F9*60+G9)>B9,0,IF(F9>=A9,((A9*60*2)-F9*60-G9),F9*60+G9)) -> 0 | J9: =IF(H9<30,0,IF(I9=0,0,IF(I9>15,0,32-I9*2))) -> 0 | K9: =IF(I9>100,0,H9+J9) -> 0 | L9: =IF(K9=0,0,K9/K14*1000) -> 0
A10: 7 | B10: 510 | C10: =VLOOKUP(E10,Dorsales!A:I,2,FALSE) -> ------- | H10: =IF((F10*60+G10)>B10,0,IF(F10>=A10,((A10*60*2)-F10*60-G10),F10*60+G10)) -> 0 | J10: =IF(H10<30,0,IF(I10=0,0,IF(I10>15,0,32-I10*2))) -> 0 | K10: =IF(I10>100,0,H10+J10) -> 0 | L10: =IF(K10=0,0,K10/K14*1000) -> 0
A11: 7 | B11: 510 | C11: =VLOOKUP(E11,Dorsales!A:I,2,FALSE) -> ------- | H11: =IF((F11*60+G11)>B11,0,IF(F11>=A11,((A11*60*2)-F11*60-G11),F11*60+G11)) -> 0 | J11: =IF(H11<30,0,IF(I11=0,0,IF(I11>15,0,32-I11*2))) -> 0 | K11: =IF(I11>100,0,H11+J11) -> 0 | L11: =IF(K11=0,0,K11/K14*1000) -> 0
A12: 7 | B12: 510 | C12: =VLOOKUP(E12,Dorsales!A:I,2,FALSE) -> ------- | H12: =IF((F12*60+G12)>B12,0,IF(F12>=A12,((A12*60*2)-F12*60-G12),F12*60+G12)) -> 0 | J12: =IF(H12<30,0,IF(I12=0,0,IF(I12>15,0,32-I12*2))) -> 0 | K12: =IF(I12>100,0,H12+J12) -> 0 | L12: =IF(K12=0,0,K12/K14*1000) -> 0
D13: *A los dorsales cuya puntuacion no sea la valida se les sumara 50
D14: Tiempo de Vuelo | F14: =A3 -> 7 | H14: Max. Ptos.Reales | K14: =MAX(K3:K12) -> 0
D19: Vuelo 3 | G19: MINIMANGA 1
C20: Concursante | D20: Juez | E20: DORSAL | F20: minutos | G20: segundos | H20: P.Vuelo | I20: m.Toma | J20: P.Toma | K20: P.Reales | L20: P.FAI
A21: 7 | B21: 510 | C21: =VLOOKUP(E21,Dorsales!A:I,2,FALSE) -> Miguel de la Torre | D21: 1 | E21: 1 | F21: 5 | G21: 29.5 | H21: =IF((F21*60+G21)>B21,0,IF(F21>=A21,((A21*60*2)-F21*60-G21),F21*60+G21)) -> 329.5 | I21: 3 | J21: =IF(H21<30,0,IF(I21=0,0,IF(I21>15,0,32-I21*2))) -> 26 | K21: =IF(I21>100,0,H21+J21) -> 355.5 | L21: =IF(K21=0,0,K21/K32*1000) -> 999.63445
A22: 7 | B22: 510 | C22: =VLOOKUP(E22,Dorsales!A:I,2,FALSE) -> José Antonio Papin | D22: 2 | E22: 2 | F22: 4 | G22: 0.15 | H22: =IF((F22*60+G22)>B22,0,IF(F22>=A22,((A22*60*2)-F22*60-G22),F22*60+G22)) -> 240.15 | I22: 2 | J22: =IF(H22<30,0,IF(I22=0,0,IF(I22>15,0,32-I22*2))) -> 28 | K22: =IF(I22>100,0,H22+J22) -> 268.15 | L22: =IF(K22=0,0,K22/K32*1000) -> 754.014
A23: 7 | B23: 510 | C23: =VLOOKUP(E23,Dorsales!A:I,2,FALSE) -> José Antonio Orviz | D23: 3 | E23: 3 | F23: 5 | G23: 0.07 | H23: =IF((F23*60+G23)>B23,0,IF(F23>=A23,((A23*60*2)-F23*60-G23),F23*60+G23)) -> 300.07 | I23: 1 | J23: =IF(H23<30,0,IF(I23=0,0,IF(I23>15,0,32-I23*2))) -> 30 | K23: =IF(I23>100,0,H23+J23) -> 330.07 | L23: =IF(K23=0,0,K23/K32*1000) -> 928.12755
A24: 7 | B24: 510 | C24: =VLOOKUP(E24,Dorsales!A:I,2,FALSE) -> Luis Antonio Presol | D24: 4 | E24: 4 | F24: 5 | G24: 27.63 | H24: =IF((F24*60+G24)>B24,0,IF(F24>=A24,((A24*60*2)-F24*60-G24),F24*60+G24)) -> 327.63 | I24: 2 | J24: =IF(H24<30,0,IF(I24=0,0,IF(I24>15,0,32-I24*2))) -> 28 | K24: =IF(I24>100,0,H24+J24) -> 355.63 | L24: =IF(K24=0,0,K24/K32*1000) -> 1000
A25: 7 | B25: 510 | C25: =VLOOKUP(E25,Dorsales!A:I,2,FALSE) -> Alejandro Gil | D25: 5 | E25: 5 | F25: 3 | G25: 31.47 | H25: =IF((F25*60+G25)>B25,0,IF(F25>=A25,((A25*60*2)-F25*60-G25),F25*60+G25)) -> 211.47 | J25: =IF(H25<30,0,IF(I25=0,0,IF(I25>15,0,32-I25*2))) -> 0 | K25: =IF(I25>100,0,H25+J25) -> 211.47 | L25: =IF(K25=0,0,K25/K32*1000) -> 594.63487
A26: 7 | B26: 510 | C26: =VLOOKUP(E26,Dorsales!A:I,2,FALSE) -> ------- | D26: 6 | H26: =IF((F26*60+G26)>B26,0,IF(F26>=A26,((A26*60*2)-F26*60-G26),F26*60+G26)) -> 0 | J26: =IF(H26<30,0,IF(I26=0,0,IF(I26>15,0,32-I26*2))) -> 0 | K26: =IF(I26>100,0,H26+J26) -> 0 | L26: =IF(K26=0,0,K26/K32*1000) -> 0
A27: 7 | B27: 510 | C27: =VLOOKUP(E27,Dorsales!A:I,2,FALSE) -> ------- | D27: 7 | H27: =IF((F27*60+G27)>B27,0,IF(F27>=A27,((A27*60*2)-F27*60-G27),F27*60+G27)) -> 0 | J27: =IF(H27<30,0,IF(I27=0,0,IF(I27>15,0,32-I27*2))) -> 0 | K27: =IF(I27>100,0,H27+J27) -> 0 | L27: =IF(K27=0,0,K27/K32*1000) -> 0
A28: 7 | B28: 510 | C28: =VLOOKUP(E28,Dorsales!A:I,2,FALSE) -> ------- | D28: 8 | H28: =IF((F28*60+G28)>B28,0,IF(F28>=A28,((A28*60*2)-F28*60-G28),F28*60+G28)) -> 0 | J28: =IF(H28<30,0,IF(I28=0,0,IF(I28>15,0,32-I28*2))) -> 0 | K28: =IF(I28>100,0,H28+J28) -> 0 | L28: =IF(K28=0,0,K28/K32*1000) -> 0
A29: 7 | B29: 510 | C29: =VLOOKUP(E29,Dorsales!A:I,2,FALSE) -> ------- | D29: 9 | H29: =IF((F29*60+G29)>B29,0,IF(F29>=A29,((A29*60*2)-F29*60-G29),F29*60+G29)) -> 0 | J29: =IF(H29<30,0,IF(I29=0,0,IF(I29>15,0,32-I29*2))) -> 0 | K29: =IF(I29>100,0,H29+J29) -> 0 | L29: =IF(K29=0,0,K29/K32*1000) -> 0
A30: 7 | B30: 510 | C30: =VLOOKUP(E30,Dorsales!A:I,2,FALSE) -> ------- | H30: =IF((F30*60+G30)>B30,0,IF(F30>=A30,((A30*60*2)-F30*60-G30),F30*60+G30)) -> 0 | J30: =IF(H30<30,0,IF(I30=0,0,IF(I30>15,0,32-I30*2))) -> 0 | K30: =IF(I30>100,0,H30+J30) -> 0 | L30: =IF(K30=0,0,K30/K32*1000) -> 0
D32: Tiempo de Vuelo | F32: =A21 -> 7 | H32: Max. Ptos.Reales | K32: =MAX(K21:K30) -> 355.63
D39: Vuelo 3 | G39: MINIMANGA 2
C40: Concursante | D40: Juez | E40: DORSAL | F40: minutos | G40: segundos | H40: P.Vuelo | I40: m.Toma | J40: P.Toma | K40: P.Reales | L40: P.FAI
A41: 7 | B41: 510 | C41: =VLOOKUP(E41,Dorsales!A:I,2,FALSE) -> ------- | D41: 1 | H41: =IF((F41*60+G41)>B41,0,IF(F41>=A41,((A41*60*2)-F41*60-G41),F41*60+G41)) -> 0 | J41: =IF(H41<30,0,IF(I41=0,0,IF(I41>15,0,32-I41*2))) -> 0 | K41: =IF(I41>100,0,H41+J41) -> 0 | L41: =IF(K41=0,0,K41/K52*1000) -> 0
A42: 7 | B42: 510 | C42: =VLOOKUP(E42,Dorsales!A:I,2,FALSE) -> ------- | D42: 2 | H42: =IF((F42*60+G42)>B42,0,IF(F42>=A42,((A42*60*2)-F42*60-G42),F42*60+G42)) -> 0 | J42: =IF(H42<30,0,IF(I42=0,0,IF(I42>15,0,32-I42*2))) -> 0 | K42: =IF(I42>100,0,H42+J42) -> 0 | L42: =IF(K42=0,0,K42/K52*1000) -> 0
A43: 7 | B43: 510 | C43: =VLOOKUP(E43,Dorsales!A:I,2,FALSE) -> ------- | D43: 3 | H43: =IF((F43*60+G43)>B43,0,IF(F43>=A43,((A43*60*2)-F43*60-G43),F43*60+G43)) -> 0 | J43: =IF(H43<30,0,IF(I43=0,0,IF(I43>15,0,32-I43*2))) -> 0 | K43: =IF(I43>100,0,H43+J43) -> 0 | L43: =IF(K43=0,0,K43/K52*1000) -> 0
A44: 7 | B44: 510 | C44: =VLOOKUP(E44,Dorsales!A:I,2,FALSE) -> ------- | D44: 4 | H44: =IF((F44*60+G44)>B44,0,IF(F44>=A44,((A44*60*2)-F44*60-G44),F44*60+G44)) -> 0 | J44: =IF(H44<30,0,IF(I44=0,0,IF(I44>15,0,32-I44*2))) -> 0 | K44: =IF(I44>100,0,H44+J44) -> 0 | L44: =IF(K44=0,0,K44/K52*1000) -> 0
A45: 7 | B45: 510 | C45: =VLOOKUP(E45,Dorsales!A:I,2,FALSE) -> ------- | D45: 5 | H45: =IF((F45*60+G45)>B45,0,IF(F45>=A45,((A45*60*2)-F45*60-G45),F45*60+G45)) -> 0 | J45: =IF(H45<30,0,IF(I45=0,0,IF(I45>15,0,32-I45*2))) -> 0 | K45: =IF(I45>100,0,H45+J45) -> 0 | L45: =IF(K45=0,0,K45/K52*1000) -> 0
A46: 7 | B46: 510 | C46: =VLOOKUP(E46,Dorsales!A:I,2,FALSE) -> ------- | D46: 6 | H46: =IF((F46*60+G46)>B46,0,IF(F46>=A46,((A46*60*2)-F46*60-G46),F46*60+G46)) -> 0 | J46: =IF(H46<30,0,IF(I46=0,0,IF(I46>15,0,32-I46*2))) -> 0 | K46: =IF(I46>100,0,H46+J46) -> 0 | L46: =IF(K46=0,0,K46/K52*1000) -> 0
A47: 7 | B47: 510 | C47: =VLOOKUP(E47,Dorsales!A:I,2,FALSE) -> ------- | D47: 7 | H47: =IF((F47*60+G47)>B47,0,IF(F47>=A47,((A47*60*2)-F47*60-G47),F47*60+G47)) -> 0 | J47: =IF(H47<30,0,IF(I47=0,0,IF(I47>15,0,32-I47*2))) -> 0 | K47: =IF(I47>100,0,H47+J47) -> 0 | L47: =IF(K47=0,0,K47/K52*1000) -> 0
A48: 7 | B48: 510 | C48: =VLOOKUP(E48,Dorsales!A:I,2,FALSE) -> ------- | D48: 8 | H48: =IF((F48*60+G48)>B48,0,IF(F48>=A48,((A48*60*2)-F48*60-G48),F48*60+G48)) -> 0 | J48: =IF(H48<30,0,IF(I48=0,0,IF(I48>15,0,32-I48*2))) -> 0 | K48: =IF(I48>100,0,H48+J48) -> 0 | L48: =IF(K48=0,0,K48/K52*1000) -> 0
A49: 7 | B49: 510 | C49: =VLOOKUP(E49,Dorsales!A:I,2,FALSE) -> ------- | D49: 9 | H49: =IF((F49*60+G49)>B49,0,IF(F49>=A49,((A49*60*2)-F49*60-G49),F49*60+G49)) -> 0 | J49: =IF(H49<30,0,IF(I49=0,0,IF(I49>15,0,32-I49*2))) -> 0 | K49: =IF(I49>100,0,H49+J49) -> 0 | L49: =IF(K49=0,0,K49/K52*1000) -> 0
A50: 7 | B50: 510 | C50: =VLOOKUP(E50,Dorsales!A:I,2,FALSE) -> ------- | H50: =IF((F50*60+G50)>B50,0,IF(F50>=A50,((A50*60*2)-F50*60-G50),F50*60+G50)) -> 0 | J50: =IF(H50<30,0,IF(I50=0,0,IF(I50>15,0,32-I50*2))) -> 0 | K50: =IF(I50>100,0,H50+J50) -> 0 | L50: =IF(K50=0,0,K50/K52*1000) -> 0
D52: Tiempo de Vuelo | F52: =A41 -> 7 | H52: Max. Ptos.Reales | K52: =MAX(K41:K50) -> 0
D59: Vuelo 3 | G59: MINIMANGA 3
C60: Concursante | D60: Juez | E60: DORSAL | F60: minutos | G60: segundos | H60: P.Vuelo | I60: m.Toma | J60: P.Toma | K60: P.Reales | L60: P.FAI
A61: 7 | B61: 510 | C61: =VLOOKUP(E61,Dorsales!A:I,2,FALSE) -> ------- | D61: 1 | H61: =IF((F61*60+G61)>B61,0,IF(F61>=A61,((A61*60*2)-F61*60-G61),F61*60+G61)) -> 0 | J61: =IF(H61<30,0,IF(I61=0,0,IF(I61>15,0,32-I61*2))) -> 0 | K61: =IF(I61>100,0,H61+J61) -> 0 | L61: =IF(K61=0,0,K61/K72*1000) -> 0
A62: 7 | B62: 510 | C62: =VLOOKUP(E62,Dorsales!A:I,2,FALSE) -> ------- | D62: 2 | H62: =IF((F62*60+G62)>B62,0,IF(F62>=A62,((A62*60*2)-F62*60-G62),F62*60+G62)) -> 0 | J62: =IF(H62<30,0,IF(I62=0,0,IF(I62>15,0,32-I62*2))) -> 0 | K62: =IF(I62>100,0,H62+J62) -> 0 | L62: =IF(K62=0,0,K62/K72*1000) -> 0
A63: 7 | B63: 510 | C63: =VLOOKUP(E63,Dorsales!A:I,2,FALSE) -> ------- | D63: 3 | H63: =IF((F63*60+G63)>B63,0,IF(F63>=A63,((A63*60*2)-F63*60-G63),F63*60+G63)) -> 0 | J63: =IF(H63<30,0,IF(I63=0,0,IF(I63>15,0,32-I63*2))) -> 0 | K63: =IF(I63>100,0,H63+J63) -> 0 | L63: =IF(K63=0,0,K63/K72*1000) -> 0
A64: 7 | B64: 510 | C64: =VLOOKUP(E64,Dorsales!A:I,2,FALSE) -> ------- | D64: 4 | H64: =IF((F64*60+G64)>B64,0,IF(F64>=A64,((A64*60*2)-F64*60-G64),F64*60+G64)) -> 0 | J64: =IF(H64<30,0,IF(I64=0,0,IF(I64>15,0,32-I64*2))) -> 0 | K64: =IF(I64>100,0,H64+J64) -> 0 | L64: =IF(K64=0,0,K64/K72*1000) -> 0
A65: 7 | B65: 510 | C65: =VLOOKUP(E65,Dorsales!A:I,2,FALSE) -> ------- | D65: 5 | H65: =IF((F65*60+G65)>B65,0,IF(F65>=A65,((A65*60*2)-F65*60-G65),F65*60+G65)) -> 0 | J65: =IF(H65<30,0,IF(I65=0,0,IF(I65>15,0,32-I65*2))) -> 0 | K65: =IF(I65>100,0,H65+J65) -> 0 | L65: =IF(K65=0,0,K65/K72*1000) -> 0
A66: 7 | B66: 510 | C66: =VLOOKUP(E66,Dorsales!A:I,2,FALSE) -> ------- | D66: 6 | H66: =IF((F66*60+G66)>B66,0,IF(F66>=A66,((A66*60*2)-F66*60-G66),F66*60+G66)) -> 0 | J66: =IF(H66<30,0,IF(I66=0,0,IF(I66>15,0,32-I66*2))) -> 0 | K66: =IF(I66>100,0,H66+J66) -> 0 | L66: =IF(K66=0,0,K66/K72*1000) -> 0
A67: 7 | B67: 510 | C67: =VLOOKUP(E67,Dorsales!A:I,2,FALSE) -> ------- | D67: 7 | H67: =IF((F67*60+G67)>B67,0,IF(F67>=A67,((A67*60*2)-F67*60-G67),F67*60+G67)) -> 0 | J67: =IF(H67<30,0,IF(I67=0,0,IF(I67>15,0,32-I67*2))) -> 0 | K67: =IF(I67>100,0,H67+J67) -> 0 | L67: =IF(K67=0,0,K67/K72*1000) -> 0
A68: 7 | B68: 510 | C68: =VLOOKUP(E68,Dorsales!A:I,2,FALSE) -> ------- | D68: 8 | H68: =IF((F68*60+G68)>B68,0,IF(F68>=A68,((A68*60*2)-F68*60-G68),F68*60+G68)) -> 0 | J68: =IF(H68<30,0,IF(I68=0,0,IF(I68>15,0,32-I68*2))) -> 0 | K68: =IF(I68>100,0,H68+J68) -> 0 | L68: =IF(K68=0,0,K68/K72*1000) -> 0
A69: 7 | B69: 510 | C69: =VLOOKUP(E69,Dorsales!A:I,2,FALSE) -> ------- | D69: 9 | H69: =IF((F69*60+G69)>B69,0,IF(F69>=A69,((A69*60*2)-F69*60-G69),F69*60+G69)) -> 0 | J69: =IF(H69<30,0,IF(I69=0,0,IF(I69>15,0,32-I69*2))) -> 0 | K69: =IF(I69>100,0,H69+J69) -> 0 | L69: =IF(K69=0,0,K69/K72*1000) -> 0
A70: 7 | B70: 510 | C70: =VLOOKUP(E70,Dorsales!A:I,2,FALSE) -> ------- | H70: =IF((F70*60+G70)>B70,0,IF(F70>=A70,((A70*60*2)-F70*60-G70),F70*60+G70)) -> 0 | J70: =IF(H70<30,0,IF(I70=0,0,IF(I70>15,0,32-I70*2))) -> 0 | K70: =IF(I70>100,0,H70+J70) -> 0 | L70: =IF(K70=0,0,K70/K72*1000) -> 0
D72: Tiempo de Vuelo | F72: =A61 -> 7 | H72: Max. Ptos.Reales | K72: =MAX(K61:K70) -> 0
D79: Vuelo 3 | G79: MINIMANGA 4
C80: Concursante | D80: Juez | E80: DORSAL | F80: minutos | G80: segundos | H80: P.Vuelo | I80: m.Toma | J80: P.Toma | K80: P.Reales | L80: P.FAI
A81: 7 | B81: 510 | C81: =VLOOKUP(E81,Dorsales!A:I,2,FALSE) -> ------- | H81: =IF((F81*60+G81)>B81,0,IF(F81>=A81,((A81*60*2)-F81*60-G81),F81*60+G81)) -> 0 | J81: =IF(H81<30,0,IF(I81=0,0,IF(I81>15,0,32-I81*2))) -> 0 | K81: =IF(I81>100,0,H81+J81) -> 0 | L81: =IF(K81=0,0,K81/K92*1000) -> 0
A82: 7 | B82: 510 | C82: =VLOOKUP(E82,Dorsales!A:I,2,FALSE) -> ------- | H82: =IF((F82*60+G82)>B82,0,IF(F82>=A82,((A82*60*2)-F82*60-G82),F82*60+G82)) -> 0 | J82: =IF(H82<30,0,IF(I82=0,0,IF(I82>15,0,32-I82*2))) -> 0 | K82: =IF(I82>100,0,H82+J82) -> 0 | L82: =IF(K82=0,0,K82/K92*1000) -> 0
A83: 7 | B83: 510 | C83: =VLOOKUP(E83,Dorsales!A:I,2,FALSE) -> ------- | H83: =IF((F83*60+G83)>B83,0,IF(F83>=A83,((A83*60*2)-F83*60-G83),F83*60+G83)) -> 0 | J83: =IF(H83<30,0,IF(I83=0,0,IF(I83>15,0,32-I83*2))) -> 0 | K83: =IF(I83>100,0,H83+J83) -> 0 | L83: =IF(K83=0,0,K83/K92*1000) -> 0
A84: 7 | B84: 510 | C84: =VLOOKUP(E84,Dorsales!A:I,2,FALSE) -> ------- | H84: =IF((F84*60+G84)>B84,0,IF(F84>=A84,((A84*60*2)-F84*60-G84),F84*60+G84)) -> 0 | J84: =IF(H84<30,0,IF(I84=0,0,IF(I84>15,0,32-I84*2))) -> 0 | K84: =IF(I84>100,0,H84+J84) -> 0 | L84: =IF(K84=0,0,K84/K92*1000) -> 0
A85: 7 | B85: 510 | C85: =VLOOKUP(E85,Dorsales!A:I,2,FALSE) -> ------- | H85: =IF((F85*60+G85)>B85,0,IF(F85>=A85,((A85*60*2)-F85*60-G85),F85*60+G85)) -> 0 | J85: =IF(H85<30,0,IF(I85=0,0,IF(I85>15,0,32-I85*2))) -> 0 | K85: =IF(I85>100,0,H85+J85) -> 0 | L85: =IF(K85=0,0,K85/K92*1000) -> 0
A86: 7 | B86: 510 | C86: =VLOOKUP(E86,Dorsales!A:I,2,FALSE) -> ------- | H86: =IF((F86*60+G86)>B86,0,IF(F86>=A86,((A86*60*2)-F86*60-G86),F86*60+G86)) -> 0 | J86: =IF(H86<30,0,IF(I86=0,0,IF(I86>15,0,32-I86*2))) -> 0 | K86: =IF(I86>100,0,H86+J86) -> 0 | L86: =IF(K86=0,0,K86/K92*1000) -> 0
A87: 7 | B87: 510 | C87: =VLOOKUP(E87,Dorsales!A:I,2,FALSE) -> ------- | H87: =IF((F87*60+G87)>B87,0,IF(F87>=A87,((A87*60*2)-F87*60-G87),F87*60+G87)) -> 0 | J87: =IF(H87<30,0,IF(I87=0,0,IF(I87>15,0,32-I87*2))) -> 0 | K87: =IF(I87>100,0,H87+J87) -> 0 | L87: =IF(K87=0,0,K87/K92*1000) -> 0
A88: 7 | B88: 510 | C88: =VLOOKUP(E88,Dorsales!A:I,2,FALSE) -> ------- | H88: =IF((F88*60+G88)>B88,0,IF(F88>=A88,((A88*60*2)-F88*60-G88),F88*60+G88)) -> 0 | J88: =IF(H88<30,0,IF(I88=0,0,IF(I88>15,0,32-I88*2))) -> 0 | K88: =IF(I88>100,0,H88+J88) -> 0 | L88: =IF(K88=0,0,K88/K92*1000) -> 0
A89: 7 | B89: 510 | C89: =VLOOKUP(E89,Dorsales!A:I,2,FALSE) -> ------- | H89: =IF((F89*60+G89)>B89,0,IF(F89>=A89,((A89*60*2)-F89*60-G89),F89*60+G89)) -> 0 | J89: =IF(H89<30,0,IF(I89=0,0,IF(I89>15,0,32-I89*2))) -> 0 | K89: =IF(I89>100,0,H89+J89) -> 0 | L89: =IF(K89=0,0,K89/K92*1000) -> 0
A90: 7 | B90: 510 | C90: =VLOOKUP(E90,Dorsales!A:I,2,FALSE) -> ------- | H90: =IF((F90*60+G90)>B90,0,IF(F90>=A90,((A90*60*2)-F90*60-G90),F90*60+G90)) -> 0 | J90: =IF(H90<30,0,IF(I90=0,0,IF(I90>15,0,32-I90*2))) -> 0 | K90: =IF(I90>100,0,H90+J90) -> 0 | L90: =IF(K90=0,0,K90/K92*1000) -> 0
D92: Tiempo de Vuelo | F92: =A81 -> 7 | H92: Max. Ptos.Reales | K92: =MAX(K81:K90) -> 0
E101: 1
E102: 2
E103: 3
E104: 4
E105: 5
E106: 6
E107: 7
E108: 8
E109: 9
E110: 10
E111: 11
E112: 12
... E140: 40

Sheet Vuelo 4
D1: Vuelo 4 | G1: MINIMANGA DE 'RE-FLIGHT' | P1: =IF((F7*60+G7)>Instrucciones!C14,0,IF(F7>=Instrucciones!B10,((Instrucciones!B10*60*2)-F7*60-G7),F7*60+G7)) -> 0
C2: Concursante | D2: Juez | E2: DORSAL* | F2: minutos | G2: segundos | H2: P.Vuelo | I2: m.Toma | J2: P.Toma | K2: P.Reales | L2: P.FAI
A3: 7 | B3: 510 | C3: =VLOOKUP(E3,Dorsales!A:I,2,FALSE) -> ------- | H3: =IF((F3*60+G3)>B3,0,IF(F3>=A3,((A3*60*2)-F3*60-G3),F3*60+G3)) -> 0 | J3: =IF(H3<30,0,IF(I3=0,0,IF(I3>15,0,32-I3*2))) -> 0 | K3: =IF(I3>100,0,H3+J3) -> 0 | L3: =IF(K3=0,0,K3/K14*1000) -> 0
A4: 7 | B4: 510 | C4: =VLOOKUP(E4,Dorsales!A:I,2,FALSE) -> ------- | H4: =IF((F4*60+G4)>B4,0,IF(F4>=A4,((A4*60*2)-F4*60-G4),F4*60+G4)) -> 0 | J4: =IF(H4<30,0,IF(I4=0,0,IF(I4>15,0,32-I4*2))) -> 0 | K4: =IF(I4>100,0,H4+J4) -> 0 | L4: =IF(K4=0,0,K4/K14*1000) -> 0
A5: 7 | B5: 510 | C5: =VLOOKUP(E5,Dorsales!A:I,2,FALSE) -> ------- | H5: =IF((F5*60+G5)>B5,0,IF(F5>=A5,((A5*60*2)-F5*60-G5),F5*60+G5)) -> 0 | J5: =IF(H5<30,0,IF(I5=0,0,IF(I5>15,0,32-I5*2))) -> 0 | K5: =IF(I5>100,0,H5+J5) -> 0 | L5: =IF(K5=0,0,K5/K14*1000) -> 0
A6: 7 | B6: 510 | C6: =VLOOKUP(E6,Dorsales!A:I,2,FALSE) -> ------- | H6: =IF((F6*60+G6)>B6,0,IF(F6>=A6,((A6*60*2)-F6*60-G6),F6*60+G6)) -> 0 | J6: =IF(H6<30,0,IF(I6=0,0,IF(I6>15,0,32-I6*2))) -> 0 | K6: =IF(I6>100,0,H6+J6) -> 0 | L6: =IF(K6=0,0,K6/K14*1000) -> 0
A7: 7 | B7: 510 | C7: =VLOOKUP(E7,Dorsales!A:I,2,FALSE) -> ------- | H7: =IF((F7*60+G7)>B7,0,IF(F7>=A7,((A7*60*2)-F7*60-G7),F7*60+G7)) -> 0 | J7: =IF(H7<30,0,IF(I7=0,0,IF(I7>15,0,32-I7*2))) -> 0 | K7: =IF(I7>100,0,H7+J7) -> 0 | L7: =IF(K7=0,0,K7/K14*1000) -> 0
A8: 7 | B8: 510 | C8: =VLOOKUP(E8,Dorsales!A:I,2,FALSE) -> ------- | H8: =IF((F8*60+G8)>B8,0,IF(F8>=A8,((A8*60*2)-F8*60-G8),F8*60+G8)) -> 0 | J8: =IF(H8<30,0,IF(I8=0,0,IF(I8>15,0,32-I8*2))) -> 0 | K8: =IF(I8>100,0,H8+J8) -> 0 | L8: =IF(K8=0,0,K8/K14*1000) -> 0
A9: 7 | B9: 510 | C9: =VLOOKUP(E9,Dorsales!A:I,2,FALSE) -> ------- | H9: =IF((F9*60+G9)>B9,0,IF(F9>=A9,((A9*60*2)-F9*60-G9),F9*60+G9)) -> 0 | J9: =IF(H9<30,0,IF(I9=0,0,IF(I9>15,0,32-I9*2))) -> 0 | K9: =IF(I9>100,0,H9+J9) -> 0 | L9: =IF(K9=0,0,K9/K14*1000) -> 0
A10: 7 | B10: 510 | C10: =VLOOKUP(E10,Dorsales!A:I,2,FALSE) -> ------- | H10: =IF((F10*60+G10)>B10,0,IF(F10>=A10,((A10*60*2)-F10*60-G10),F10*60+G10)) -> 0 | J10: =IF(H10<30,0,IF(I10=0,0,IF(I10>15,0,32-I10*2))) -> 0 | K10: =IF(I10>100,0,H10+J10) -> 0 | L10: =IF(K10=0,0,K10/K14*1000) -> 0
A11: 7 | B11: 510 | C11: =VLOOKUP(E11,Dorsales!A:I,2,FALSE) -> ------- | H11: =IF((F11*60+G11)>B11,0,IF(F11>=A11,((A11*60*2)-F11*60-G11),F11*60+G11)) -> 0 | J11: =IF(H11<30,0,IF(I11=0,0,IF(I11>15,0,32-I11*2))) -> 0 | K11: =IF(I11>100,0,H11+J11) -> 0 | L11: =IF(K11=0,0,K11/K14*1000) -> 0
A12: 7 | B12: 510 | C12: =VLOOKUP(E12,Dorsales!A:I,2,FALSE) -> ------- | H12: =IF((F12*60+G12)>B12,0,IF(F12>=A12,((A12*60*2)-F12*60-G12),F12*60+G12)) -> 0 | J12: =IF(H12<30,0,IF(I12=0,0,IF(I12>15,0,32-I12*2))) -> 0 | K12: =IF(I12>100,0,H12+J12) -> 0 | L12: =IF(K12=0,0,K12/K14*1000) -> 0
D13: *A los dorsales cuya puntuacion no sea la valida se les sumara 50
D14: Tiempo de Vuelo | F14: =A3 -> 7 | H14: Max. Ptos.Reales | K14: =MAX(K3:K12) -> 0
D19: Vuelo 4 | G19: MINIMANGA 1
C20: Concursante | D20: Juez | E20: DORSAL | F20: minutos | G20: segundos | H20: P.Vuelo | I20: m.Toma | J20: P.Toma | K20: P.Reales | L20: P.FAI
A21: 7 | B21: 510 | C21: =VLOOKUP(E21,Dorsales!A:I,2,FALSE) -> Miguel de la Torre | D21: 1 | E21: 1 | F21: 7 | G21: 3.19 | H21: =IF((F21*60+G21)>B21,0,IF(F21>=A21,((A21*60*2)-F21*60-G21),F21*60+G21)) -> 416.81 | I21: 3 | J21: =IF(H21<30,0,IF(I21=0,0,IF(I21>15,0,32-I21*2))) -> 26 | K21: =IF(I21>100,0,H21+J21) -> 442.81 | L21: =IF(K21=0,0,K21/K32*1000) -> 990.95893
A22: 7 | B22: 510 | C22: =VLOOKUP(E22,Dorsales!A:I,2,FALSE) -> José Antonio Papin | D22: 2 | E22: 2 | F22: 7 | G22: 1.97 | H22: =IF((F22*60+G22)>B22,0,IF(F22>=A22,((A22*60*2)-F22*60-G22),F22*60+G22)) -> 418.03 | I22: 5 | J22: =IF(H22<30,0,IF(I22=0,0,IF(I22>15,0,32-I22*2))) -> 22 | K22: =IF(I22>100,0,H22+J22) -> 440.03 | L22: =IF(K22=0,0,K22/K32*1000) -> 984.73761
A23: 7 | B23: 510 | C23: =VLOOKUP(E23,Dorsales!A:I,2,FALSE) -> José Antonio Orviz | D23: 3 | E23: 3 | F23: 7 | G23: 1.15 | H23: =IF((F23*60+G23)>B23,0,IF(F23>=A23,((A23*60*2)-F23*60-G23),F23*60+G23)) -> 418.85 | I23: 2 | J23: =IF(H23<30,0,IF(I23=0,0,IF(I23>15,0,32-I23*2))) -> 28 | K23: =IF(I23>100,0,H23+J23) -> 446.85 | L23: =IF(K23=0,0,K23/K32*1000) -> 1000
A24: 7 | B24: 510 | C24: =VLOOKUP(E24,Dorsales!A:I,2,FALSE) -> Luis Antonio Presol | D24: 4 | E24: 4 | F24: 7 | G24: 12.56 | H24: =IF((F24*60+G24)>B24,0,IF(F24>=A24,((A24*60*2)-F24*60-G24),F24*60+G24)) -> 407.44 | I24: 1 | J24: =IF(H24<30,0,IF(I24=0,0,IF(I24>15,0,32-I24*2))) -> 30 | K24: =IF(I24>100,0,H24+J24) -> 437.44 | L24: =IF(K24=0,0,K24/K32*1000) -> 978.94148
A25: 7 | B25: 510 | C25: =VLOOKUP(E25,Dorsales!A:I,2,FALSE) -> Alejandro Gil | D25: 5 | E25: 5 | F25: 6 | G25: 53.24 | H25: =IF((F25*60+G25)>B25,0,IF(F25>=A25,((A25*60*2)-F25*60-G25),F25*60+G25)) -> 413.24 | I25: 15 | J25: =IF(H25<30,0,IF(I25=0,0,IF(I25>15,0,32-I25*2))) -> 2 | K25: =IF(I25>100,0,H25+J25) -> 415.24 | L25: =IF(K25=0,0,K25/K32*1000) -> 929.26038
A26: 7 | B26: 510 | C26: =VLOOKUP(E26,Dorsales!A:I,2,FALSE) -> ------- | D26: 6 | H26: =IF((F26*60+G26)>B26,0,IF(F26>=A26,((A26*60*2)-F26*60-G26),F26*60+G26)) -> 0 | J26: =IF(H26<30,0,IF(I26=0,0,IF(I26>15,0,32-I26*2))) -> 0 | K26: =IF(I26>100,0,H26+J26) -> 0 | L26: =IF(K26=0,0,K26/K32*1000) -> 0
A27: 7 | B27: 510 | C27: =VLOOKUP(E27,Dorsales!A:I,2,FALSE) -> ------- | D27: 7 | H27: =IF((F27*60+G27)>B27,0,IF(F27>=A27,((A27*60*2)-F27*60-G27),F27*60+G27)) -> 0 | J27: =IF(H27<30,0,IF(I27=0,0,IF(I27>15,0,32-I27*2))) -> 0 | K27: =IF(I27>100,0,H27+J27) -> 0 | L27: =IF(K27=0,0,K27/K32*1000) -> 0
A28: 7 | B28: 510 | C28: =VLOOKUP(E28,Dorsales!A:I,2,FALSE) -> ------- | D28: 8 | H28: =IF((F28*60+G28)>B28,0,IF(F28>=A28,((A28*60*2)-F28*60-G28),F28*60+G28)) -> 0 | J28: =IF(H28<30,0,IF(I28=0,0,IF(I28>15,0,32-I28*2))) -> 0 | K28: =IF(I28>100,0,H28+J28) -> 0 | L28: =IF(K28=0,0,K28/K32*1000) -> 0
A29: 7 | B29: 510 | C29: =VLOOKUP(E29,Dorsales!A:I,2,FALSE) -> ------- | D29: 9 | H29: =IF((F29*60+G29)>B29,0,IF(F29>=A29,((A29*60*2)-F29*60-G29),F29*60+G29)) -> 0 | J29: =IF(H29<30,0,IF(I29=0,0,IF(I29>15,0,32-I29*2))) -> 0 | K29: =IF(I29>100,0,H29+J29) -> 0 | L29: =IF(K29=0,0,K29/K32*1000) -> 0
A30: 7 | B30: 510 | C30: =VLOOKUP(E30,Dorsales!A:I,2,FALSE) -> ------- | H30: =IF((F30*60+G30)>B30,0,IF(F30>=A30,((A30*60*2)-F30*60-G30),F30*60+G30)) -> 0 | J30: =IF(H30<30,0,IF(I30=0,0,IF(I30>15,0,32-I30*2))) -> 0 | K30: =IF(I30>100,0,H30+J30) -> 0 | L30: =IF(K30=0,0,K30/K32*1000) -> 0
D32: Tiempo de Vuelo | F32: =A21 -> 7 | H32: Max. Ptos.Reales | K32: =MAX(K21:K30) -> 446.85
D39: Vuelo 4 | G39: MINIMANGA 2
C40: Concursante | D40: Juez | E40: DORSAL | F40: minutos | G40: segundos | H40: P.Vuelo | I40: m.Toma | J40: P.Toma | K40: P.Reales | L40: P.FAI
A41: 7 | B41: 510 | C41: =VLOOKUP(E41,Dorsales!A:I,2,FALSE) -> ------- | D41: 1 | H41: =IF((F41*60+G41)>B41,0,IF(F41>=A41,((A41*60*2)-F41*60-G41),F41*60+G41)) -> 0 | J41: =IF(H41<30,0,IF(I41=0,0,IF(I41>15,0,32-I41*2))) -> 0 | K41: =IF(I41>100,0,H41+J41) -> 0 | L41: =IF(K41=0,0,K41/K52*1000) -> 0
A42: 7 | B42: 510 | C42: =VLOOKUP(E42,Dorsales!A:I,2,FALSE) -> ------- | D42: 2 | H42: =IF((F42*60+G42)>B42,0,IF(F42>=A42,((A42*60*2)-F42*60-G42),F42*60+G42)) -> 0 | J42: =IF(H42<30,0,IF(I42=0,0,IF(I42>15,0,32-I42*2))) -> 0 | K42: =IF(I42>100,0,H42+J42) -> 0 | L42: =IF(K42=0,0,K42/K52*1000) -> 0
A43: 7 | B43: 510 | C43: =VLOOKUP(E43,Dorsales!A:I,2,FALSE) -> ------- | D43: 3 | H43: =IF((F43*60+G43)>B43,0,IF(F43>=A43,((A43*60*2)-F43*60-G43),F43*60+G43)) -> 0 | J43: =IF(H43<30,0,IF(I43=0,0,IF(I43>15,0,32-I43*2))) -> 0 | K43: =IF(I43>100,0,H43+J43) -> 0 | L43: =IF(K43=0,0,K43/K52*1000) -> 0
A44: 7 | B44: 510 | C44: =VLOOKUP(E44,Dorsales!A:I,2,FALSE) -> ------- | D44: 4 | H44: =IF((F44*60+G44)>B44,0,IF(F44>=A44,((A44*60*2)-F44*60-G44),F44*60+G44)) -> 0 | J44: =IF(H44<30,0,IF(I44=0,0,IF(I44>15,0,32-I44*2))) -> 0 | K44: =IF(I44>100,0,H44+J44) -> 0 | L44: =IF(K44=0,0,K44/K52*1000) -> 0
A45: 7 | B45: 510 | C45: =VLOOKUP(E45,Dorsales!A:I,2,FALSE) -> ------- | D45: 5 | H45: =IF((F45*60+G45)>B45,0,IF(F45>=A45,((A45*60*2)-F45*60-G45),F45*60+G45)) -> 0 | J45: =IF(H45<30,0,IF(I45=0,0,IF(I45>15,0,32-I45*2))) -> 0 | K45: =IF(I45>100,0,H45+J45) -> 0 | L45: =IF(K45=0,0,K45/K52*1000) -> 0
A46: 7 | B46: 510 | C46: =VLOOKUP(E46,Dorsales!A:I,2,FALSE) -> ------- | D46: 6 | H46: =IF((F46*60+G46)>B46,0,IF(F46>=A46,((A46*60*2)-F46*60-G46),F46*60+G46)) -> 0 | J46: =IF(H46<30,0,IF(I46=0,0,IF(I46>15,0,32-I46*2))) -> 0 | K46: =IF(I46>100,0,H46+J46) -> 0 | L46: =IF(K46=0,0,K46/K52*1000) -> 0
A47: 7 | B47: 510 | C47: =VLOOKUP(E47,Dorsales!A:I,2,FALSE) -> ------- | D47: 7 | H47: =IF((F47*60+G47)>B47,0,IF(F47>=A47,((A47*60*2)-F47*60-G47),F47*60+G47)) -> 0 | J47: =IF(H47<30,0,IF(I47=0,0,IF(I47>15,0,32-I47*2))) -> 0 | K47: =IF(I47>100,0,H47+J47) -> 0 | L47: =IF(K47=0,0,K47/K52*1000) -> 0
A48: 7 | B48: 510 | C48: =VLOOKUP(E48,Dorsales!A:I,2,FALSE) -> ------- | D48: 8 | H48: =IF((F48*60+G48)>B48,0,IF(F48>=A48,((A48*60*2)-F48*60-G48),F48*60+G48)) -> 0 | J48: =IF(H48<30,0,IF(I48=0,0,IF(I48>15,0,32-I48*2))) -> 0 | K48: =IF(I48>100,0,H48+J48) -> 0 | L48: =IF(K48=0,0,K48/K52*1000) -> 0
A49: 7 | B49: 510 | C49: =VLOOKUP(E49,Dorsales!A:I,2,FALSE) -> ------- | D49: 9 | H49: =IF((F49*60+G49)>B49,0,IF(F49>=A49,((A49*60*2)-F49*60-G49),F49*60+G49)) -> 0 | J49: =IF(H49<30,0,IF(I49=0,0,IF(I49>15,0,32-I49*2))) -> 0 | K49: =IF(I49>100,0,H49+J49) -> 0 | L49: =IF(K49=0,0,K49/K52*1000) -> 0
A50: 7 | B50: 510 | C50: =VLOOKUP(E50,Dorsales!A:I,2,FALSE) -> ------- | H50: =IF((F50*60+G50)>B50,0,IF(F50>=A50,((A50*60*2)-F50*60-G50),F50*60+G50)) -> 0 | J50: =IF(H50<30,0,IF(I50=0,0,IF(I50>15,0,32-I50*2))) -> 0 | K50: =IF(I50>100,0,H50+J50) -> 0 | L50: =IF(K50=0,0,K50/K52*1000) -> 0
D52: Tiempo de Vuelo | F52: =A41 -> 7 | H52: Max. Ptos.Reales | K52: =MAX(K41:K50) -> 0
D59: Vuelo 4 | G59: MINIMANGA 3
C60: Concursante | D60: Juez | E60: DORSAL | F60: minutos | G60: segundos | H60: P.Vuelo | I60: m.Toma | J60: P.Toma | K60: P.Reales | L60: P.FAI
A61: 7 | B61: 510 | C61: =VLOOKUP(E61,Dorsales!A:I,2,FALSE) -> ------- | D61: 1 | H61: =IF((F61*60+G61)>B61,0,IF(F61>=A61,((A61*60*2)-F61*60-G61),F61*60+G61)) -> 0 | J61: =IF(H61<30,0,IF(I61=0,0,IF(I61>15,0,32-I61*2))) -> 0 | K61: =IF(I61>100,0,H61+J61) -> 0 | L61: =IF(K61=0,0,K61/K72*1000) -> 0
A62: 7 | B62: 510 | C62: =VLOOKUP(E62,Dorsales!A:I,2,FALSE) -> ------- | D62: 2 | H62: =IF((F62*60+G62)>B62,0,IF(F62>=A62,((A62*60*2)-F62*60-G62),F62*60+G62)) -> 0 | J62: =IF(H62<30,0,IF(I62=0,0,IF(I62>15,0,32-I62*2))) -> 0 | K62: =IF(I62>100,0,H62+J62) -> 0 | L62: =IF(K62=0,0,K62/K72*1000) -> 0
A63: 7 | B63: 510 | C63: =VLOOKUP(E63,Dorsales!A:I,2,FALSE) -> ------- | D63: 3 | H63: =IF((F63*60+G63)>B63,0,IF(F63>=A63,((A63*60*2)-F63*60-G63),F63*60+G63)) -> 0 | J63: =IF(H63<30,0,IF(I63=0,0,IF(I63>15,0,32-I63*2))) -> 0 | K63: =IF(I63>100,0,H63+J63) -> 0 | L63: =IF(K63=0,0,K63/K72*1000) -> 0
A64: 7 | B64: 510 | C64: =VLOOKUP(E64,Dorsales!A:I,2,FALSE) -> ------- | D64: 4 | H64: =IF((F64*60+G64)>B64,0,IF(F64>=A64,((A64*60*2)-F64*60-G64),F64*60+G64)) -> 0 | J64: =IF(H64<30,0,IF(I64=0,0,IF(I64>15,0,32-I64*2))) -> 0 | K64: =IF(I64>100,0,H64+J64) -> 0 | L64: =IF(K64=0,0,K64/K72*1000) -> 0
A65: 7 | B65: 510 | C65: =VLOOKUP(E65,Dorsales!A:I,2,FALSE) -> ------- | D65: 5 | H65: =IF((F65*60+G65)>B65,0,IF(F65>=A65,((A65*60*2)-F65*60-G65),F65*60+G65)) -> 0 | J65: =IF(H65<30,0,IF(I65=0,0,IF(I65>15,0,32-I65*2))) -> 0 | K65: =IF(I65>100,0,H65+J65) -> 0 | L65: =IF(K65=0,0,K65/K72*1000) -> 0
A66: 7 | B66: 510 | C66: =VLOOKUP(E66,Dorsales!A:I,2,FALSE) -> ------- | D66: 6 | H66: =IF((F66*60+G66)>B66,0,IF(F66>=A66,((A66*60*2)-F66*60-G66),F66*60+G66)) -> 0 | J66: =IF(H66<30,0,IF(I66=0,0,IF(I66>15,0,32-I66*2))) -> 0 | K66: =IF(I66>100,0,H66+J66) -> 0 | L66: =IF(K66=0,0,K66/K72*1000) -> 0
A67: 7 | B67: 510 | C67: =VLOOKUP(E67,Dorsales!A:I,2,FALSE) -> ------- | D67: 7 | H67: =IF((F67*60+G67)>B67,0,IF(F67>=A67,((A67*60*2)-F67*60-G67),F67*60+G67)) -> 0 | J67: =IF(H67<30,0,IF(I67=0,0,IF(I67>15,0,32-I67*2))) -> 0 | K67: =IF(I67>100,0,H67+J67) -> 0 | L67: =IF(K67=0,0,K67/K72*1000) -> 0
A68: 7 | B68: 510 | C68: =VLOOKUP(E68,Dorsales!A:I,2,FALSE) -> ------- | D68: 8 | H68: =IF((F68*60+G68)>B68,0,IF(F68>=A68,((A68*60*2)-F68*60-G68),F68*60+G68)) -> 0 | J68: =IF(H68<30,0,IF(I68=0,0,IF(I68>15,0,32-I68*2))) -> 0 | K68: =IF(I68>100,0,H68+J68) -> 0 | L68: =IF(K68=0,0,K68/K72*1000) -> 0
A69: 7 | B69: 510 | C69: =VLOOKUP(E69,Dorsales!A:I,2,FALSE) -> ------- | D69: 9 | H69: =IF((F69*60+G69)>B69,0,IF(F69>=A69,((A69*60*2)-F69*60-G69),F69*60+G69)) -> 0 | J69: =IF(H69<30,0,IF(I69=0,0,IF(I69>15,0,32-I69*2))) -> 0 | K69: =IF(I69>100,0,H69+J69) -> 0 | L69: =IF(K69=0,0,K69/K72*1000) -> 0
A70: 7 | B70: 510 | C70: =VLOOKUP(E70,Dorsales!A:I,2,FALSE) -> ------- | H70: =IF((F70*60+G70)>B70,0,IF(F70>=A70,((A70*60*2)-F70*60-G70),F70*60+G70)) -> 0 | J70: =IF(H70<30,0,IF(I70=0,0,IF(I70>15,0,32-I70*2))) -> 0 | K70: =IF(I70>100,0,H70+J70) -> 0 | L70: =IF(K70=0,0,K70/K72*1000) -> 0
D72: Tiempo de Vuelo | F72: =A61 -> 7 | H72: Max. Ptos.Reales | K72: =MAX(K61:K70) -> 0
D79: Vuelo 4 | G79: MINIMANGA 4
C80: Concursante | D80: Juez | E80: DORSAL | F80: minutos | G80: segundos | H80: P.Vuelo | I80: m.Toma | J80: P.Toma | K80: P.Reales | L80: P.FAI
A81: 7 | B81: 510 | C81: =VLOOKUP(E81,Dorsales!A:I,2,FALSE) -> ------- | H81: =IF((F81*60+G81)>B81,0,IF(F81>=A81,((A81*60*2)-F81*60-G81),F81*60+G81)) -> 0 | J81: =IF(H81<30,0,IF(I81=0,0,IF(I81>15,0,32-I81*2))) -> 0 | K81: =IF(I81>100,0,H81+J81) -> 0 | L81: =IF(K81=0,0,K81/K92*1000) -> 0
A82: 7 | B82: 510 | C82: =VLOOKUP(E82,Dorsales!A:I,2,FALSE) -> ------- | H82: =IF((F82*60+G82)>B82,0,IF(F82>=A82,((A82*60*2)-F82*60-G82),F82*60+G82)) -> 0 | J82: =IF(H82<30,0,IF(I82=0,0,IF(I82>15,0,32-I82*2))) -> 0 | K82: =IF(I82>100,0,H82+J82) -> 0 | L82: =IF(K82=0,0,K82/K92*1000) -> 0
A83: 7 | B83: 510 | C83: =VLOOKUP(E83,Dorsales!A:I,2,FALSE) -> ------- | H83: =IF((F83*60+G83)>B83,0,IF(F83>=A83,((A83*60*2)-F83*60-G83),F83*60+G83)) -> 0 | J83: =IF(H83<30,0,IF(I83=0,0,IF(I83>15,0,32-I83*2))) -> 0 | K83: =IF(I83>100,0,H83+J83) -> 0 | L83: =IF(K83=0,0,K83/K92*1000) -> 0
A84: 7 | B84: 510 | C84: =VLOOKUP(E84,Dorsales!A:I,2,FALSE) -> ------- | H84: =IF((F84*60+G84)>B84,0,IF(F84>=A84,((A84*60*2)-F84*60-G84),F84*60+G84)) -> 0 | J84: =IF(H84<30,0,IF(I84=0,0,IF(I84>15,0,32-I84*2))) -> 0 | K84: =IF(I84>100,0,H84+J84) -> 0 | L84: =IF(K84=0,0,K84/K92*1000) -> 0
A85: 7 | B85: 510 | C85: =VLOOKUP(E85,Dorsales!A:I,2,FALSE) -> ------- | H85: =IF((F85*60+G85)>B85,0,IF(F85>=A85,((A85*60*2)-F85*60-G85),F85*60+G85)) -> 0 | J85: =IF(H85<30,0,IF(I85=0,0,IF(I85>15,0,32-I85*2))) -> 0 | K85: =IF(I85>100,0,H85+J85) -> 0 | L85: =IF(K85=0,0,K85/K92*1000) -> 0
A86: 7 | B86: 510 | C86: =VLOOKUP(E86,Dorsales!A:I,2,FALSE) -> ------- | H86: =IF((F86*60+G86)>B86,0,IF(F86>=A86,((A86*60*2)-F86*60-G86),F86*60+G86)) -> 0 | J86: =IF(H86<30,0,IF(I86=0,0,IF(I86>15,0,32-I86*2))) -> 0 | K86: =IF(I86>100,0,H86+J86) -> 0 | L86: =IF(K86=0,0,K86/K92*1000) -> 0
A87: 7 | B87: 510 | C87: =VLOOKUP(E87,Dorsales!A:I,2,FALSE) -> ------- | H87: =IF((F87*60+G87)>B87,0,IF(F87>=A87,((A87*60*2)-F87*60-G87),F87*60+G87)) -> 0 | J87: =IF(H87<30,0,IF(I87=0,0,IF(I87>15,0,32-I87*2))) -> 0 | K87: =IF(I87>100,0,H87+J87) -> 0 | L87: =IF(K87=0,0,K87/K92*1000) -> 0
A88: 7 | B88: 510 | C88: =VLOOKUP(E88,Dorsales!A:I,2,FALSE) -> ------- | H88: =IF((F88*60+G88)>B88,0,IF(F88>=A88,((A88*60*2)-F88*60-G88),F88*60+G88)) -> 0 | J88: =IF(H88<30,0,IF(I88=0,0,IF(I88>15,0,32-I88*2))) -> 0 | K88: =IF(I88>100,0,H88+J88) -> 0 | L88: =IF(K88=0,0,K88/K92*1000) -> 0
A89: 7 | B89: 510 | C89: =VLOOKUP(E89,Dorsales!A:I,2,FALSE) -> ------- | H89: =IF((F89*60+G89)>B89,0,IF(F89>=A89,((A89*60*2)-F89*60-G89),F89*60+G89)) -> 0 | J89: =IF(H89<30,0,IF(I89=0,0,IF(I89>15,0,32-I89*2))) -> 0 | K89: =IF(I89>100,0,H89+J89) -> 0 | L89: =IF(K89=0,0,K89/K92*1000) -> 0
A90: 7 | B90: 510 | C90: =VLOOKUP(E90,Dorsales!A:I,2,FALSE) -> ------- | H90: =IF((F90*60+G90)>B90,0,IF(F90>=A90,((A90*60*2)-F90*60-G90),F90*60+G90)) -> 0 | J90: =IF(H90<30,0,IF(I90=0,0,IF(I90>15,0,32-I90*2))) -> 0 | K90: =IF(I90>100,0,H90+J90) -> 0 | L90: =IF(K90=0,0,K90/K92*1000) -> 0
D92: Tiempo de Vuelo | F92: =A81 -> 7 | H92: Max. Ptos.Reales | K92: =MAX(K81:K90) -> 0
E101: 1
E102: 2
E103: 3
E104: 4
E105: 5
E106: 6
E107: 7
E108: 8
E109: 9
E110: 10
E111: 11
E112: 12
... E140: 40

Sheet Vuelo 5
D1: Vuelo 5 | G1: MINIMANGA DE 'RE-FLIGHT' | P1: =IF((F7*60+G7)>Instrucciones!C14,0,IF(F7>=Instrucciones!B10,((Instrucciones!B10*60*2)-F7*60-G7),F7*60+G7)) -> 0
C2: Concursante | D2: Juez | E2: DORSAL* | F2: minutos | G2: segundos | H2: P.Vuelo | I2: m.Toma | J2: P.Toma | K2: P.Reales | L2: P.FAI
A3: 7 | B3: 510 | C3: =VLOOKUP(E3,Dorsales!A:I,2,FALSE) -> ------- | H3: =IF((F3*60+G3)>B3,0,IF(F3>=A3,((A3*60*2)-F3*60-G3),F3*60+G3)) -> 0 | J3: =IF(H3<30,0,IF(I3=0,0,IF(I3>15,0,32-I3*2))) -> 0 | K3: =IF(I3>100,0,H3+J3) -> 0 | L3: =IF(K3=0,0,K3/K14*1000) -> 0
A4: 7 | B4: 510 | C4: =VLOOKUP(E4,Dorsales!A:I,2,FALSE) -> ------- | H4: =IF((F4*60+G4)>B4,0,IF(F4>=A4,((A4*60*2)-F4*60-G4),F4*60+G4)) -> 0 | J4: =IF(H4<30,0,IF(I4=0,0,IF(I4>15,0,32-I4*2))) -> 0 | K4: =IF(I4>100,0,H4+J4) -> 0 | L4: =IF(K4=0,0,K4/K14*1000) -> 0
A5: 7 | B5: 510 | C5: =VLOOKUP(E5,Dorsales!A:I,2,FALSE) -> ------- | H5: =IF((F5*60+G5)>B5,0,IF(F5>=A5,((A5*60*2)-F5*60-G5),F5*60+G5)) -> 0 | J5: =IF(H5<30,0,IF(I5=0,0,IF(I5>15,0,32-I5*2))) -> 0 | K5: =IF(I5>100,0,H5+J5) -> 0 | L5: =IF(K5=0,0,K5/K14*1000) -> 0
A6: 7 | B6: 510 | C6: =VLOOKUP(E6,Dorsales!A:I,2,FALSE) -> ------- | H6: =IF((F6*60+G6)>B6,0,IF(F6>=A6,((A6*60*2)-F6*60-G6),F6*60+G6)) -> 0 | J6: =IF(H6<30,0,IF(I6=0,0,IF(I6>15,0,32-I6*2))) -> 0 | K6: =IF(I6>100,0,H6+J6) -> 0 | L6: =IF(K6=0,0,K6/K14*1000) -> 0
A7: 7 | B7: 510 | C7: =VLOOKUP(E7,Dorsales!A:I,2,FALSE) -> ------- | H7: =IF((F7*60+G7)>B7,0,IF(F7>=A7,((A7*60*2)-F7*60-G7),F7*60+G7)) -> 0 | J7: =IF(H7<30,0,IF(I7=0,0,IF(I7>15,0,32-I7*2))) -> 0 | K7: =IF(I7>100,0,H7+J7) -> 0 | L7: =IF(K7=0,0,K7/K14*1000) -> 0
A8: 7 | B8: 510 | C8: =VLOOKUP(E8,Dorsales!A:I,2,FALSE) -> ------- | H8: =IF((F8*60+G8)>B8,0,IF(F8>=A8,((A8*60*2)-F8*60-G8),F8*60+G8)) -> 0 | J8: =IF(H8<30,0,IF(I8=0,0,IF(I8>15,0,32-I8*2))) -> 0 | K8: =IF(I8>100,0,H8+J8) -> 0 | L8: =IF(K8=0,0,K8/K14*1000) -> 0
A9: 7 | B9: 510 | C9: =VLOOKUP(E9,Dorsales!A:I,2,FALSE) -> ------- | H9: =IF((F9*60+G9)>B9,0,IF(F9>=A9,((A9*60*2)-F9*60-G9),F9*60+G9)) -> 0 | J9: =IF(H9<30,0,IF(I9=0,0,IF(I9>15,0,32-I9*2))) -> 0 | K9: =IF(I9>100,0,H9+J9) -> 0 | L9: =IF(K9=0,0,K9/K14*1000) -> 0
A10: 7 | B10: 510 | C10: =VLOOKUP(E10,Dorsales!A:I,2,FALSE) -> ------- | H10: =IF((F10*60+G10)>B10,0,IF(F10>=A10,((A10*60*2)-F10*60-G10),F10*60+G10)) -> 0 | J10: =IF(H10<30,0,IF(I10=0,0,IF(I10>15,0,32-I10*2))) -> 0 | K10: =IF(I10>100,0,H10+J10) -> 0 | L10: =IF(K10=0,0,K10/K14*1000) -> 0
A11: 7 | B11: 510 | C11: =VLOOKUP(E11,Dorsales!A:I,2,FALSE) -> ------- | H11: =IF((F11*60+G11)>B11,0,IF(F11>=A11,((A11*60*2)-F11*60-G11),F11*60+G11)) -> 0 | J11: =IF(H11<30,0,IF(I11=0,0,IF(I11>15,0,32-I11*2))) -> 0 | K11: =IF(I11>100,0,H11+J11) -> 0 | L11: =IF(K11=0,0,K11/K14*1000) -> 0
A12: 7 | B12: 510 | C12: =VLOOKUP(E12,Dorsales!A:I,2,FALSE) -> ------- | H12: =IF((F12*60+G12)>B12,0,IF(F12>=A12,((A12*60*2)-F12*60-G12),F12*60+G12)) -> 0 | J12: =IF(H12<30,0,IF(I12=0,0,IF(I12>15,0,32-I12*2))) -> 0 | K12: =IF(I12>100,0,H12+J12) -> 0 | L12: =IF(K12=0,0,K12/K14*1000) -> 0
D13: *A los dorsales cuya puntuacion no sea la valida se les sumara 50
D14: Tiempo de Vuelo | F14: =A3 -> 7 | H14: Max. Ptos.Reales | K14: =MAX(K3:K12) -> 0
D19: Vuelo 5 | G19: MINIMANGA 1
C20: Concursante | D20: Juez | E20: DORSAL | F20: minutos | G20: segundos | H20: P.Vuelo | I20: m.Toma | J20: P.Toma | K20: P.Reales | L20: P.FAI
A21: 7 | B21: 510 | C21: =VLOOKUP(E21,Dorsales!A:I,2,FALSE) -> Miguel de la Torre | E21: 1 | F21: 6 | G21: 45.25 | H21: =IF((F21*60+G21)>B21,0,IF(F21>=A21,((A21*60*2)-F21*60-G21),F21*60+G21)) -> 405.25 | I21: 13 | J21: =IF(H21<30,0,IF(I21=0,0,IF(I21>15,0,32-I21*2))) -> 6 | K21: =IF(I21>100,0,H21+J21) -> 411.25 | L21: =IF(K21=0,0,K21/K32*1000) -> 917.06806
A22: 7 | B22: 510 | C22: =VLOOKUP(E22,Dorsales!A:I,2,FALSE) -> José Antonio Papin | E22: 2 | F22: 6 | G22: 35.44 | H22: =IF((F22*60+G22)>B22,0,IF(F22>=A22,((A22*60*2)-F22*60-G22),F22*60+G22)) -> 395.44 | I22: 13 | J22: =IF(H22<30,0,IF(I22=0,0,IF(I22>15,0,32-I22*2))) -> 6 | K22: =IF(I22>100,0,H22+J22) -> 401.44 | L22: =IF(K22=0,0,K22/K32*1000) -> 895.19222
A23: 7 | B23: 510 | C23: =VLOOKUP(E23,Dorsales!A:I,2,FALSE) -> José Antonio Orviz | E23: 3 | F23: 6 | G23: 58.44 | H23: =IF((F23*60+G23)>B23,0,IF(F23>=A23,((A23*60*2)-F23*60-G23),F23*60+G23)) -> 418.44 | I23: 1 | J23: =IF(H23<30,0,IF(I23=0,0,IF(I23>15,0,32-I23*2))) -> 30 | K23: =IF(I23>100,0,H23+J23) -> 448.44 | L23: =IF(K23=0,0,K23/K32*1000) -> 1000
A24: 7 | B24: 510 | C24: =VLOOKUP(E24,Dorsales!A:I,2,FALSE) -> Luis Antonio Presol | E24: 4 | F24: 7 | G24: 5.03 | H24: =IF((F24*60+G24)>B24,0,IF(F24>=A24,((A24*60*2)-F24*60-G24),F24*60+G24)) -> 414.97 | I24: 6 | J24: =IF(H24<30,0,IF(I24=0,0,IF(I24>15,0,32-I24*2))) -> 20 | K24: =IF(I24>100,0,H24+J24) -> 434.97 | L24: =IF(K24=0,0,K24/K32*1000) -> 969.96254
A25: 7 | B25: 510 | C25: =VLOOKUP(E25,Dorsales!A:I,2,FALSE) -> Alejandro Gil | E25: 5 | F25: 5 | G25: 37.22 | H25: =IF((F25*60+G25)>B25,0,IF(F25>=A25,((A25*60*2)-F25*60-G25),F25*60+G25)) -> 337.22 | I25: 0 | J25: =IF(H25<30,0,IF(I25=0,0,IF(I25>15,0,32-I25*2))) -> 0 | K25: =IF(I25>100,0,H25+J25) -> 337.22 | L25: =IF(K25=0,0,K25/K32*1000) -> 751.98466
A26: 7 | B26: 510 | C26: =VLOOKUP(E26,Dorsales!A:I,2,FALSE) -> ------- | H26: =IF((F26*60+G26)>B26,0,IF(F26>=A26,((A26*60*2)-F26*60-G26),F26*60+G26)) -> 0 | J26: =IF(H26<30,0,IF(I26=0,0,IF(I26>15,0,32-I26*2))) -> 0 | K26: =IF(I26>100,0,H26+J26) -> 0 | L26: =IF(K26=0,0,K26/K32*1000) -> 0
A27: 7 | B27: 510 | C27: =VLOOKUP(E27,Dorsales!A:I,2,FALSE) -> ------- | H27: =IF((F27*60+G27)>B27,0,IF(F27>=A27,((A27*60*2)-F27*60-G27),F27*60+G27)) -> 0 | J27: =IF(H27<30,0,IF(I27=0,0,IF(I27>15,0,32-I27*2))) -> 0 | K27: =IF(I27>100,0,H27+J27) -> 0 | L27: =IF(K27=0,0,K27/K32*1000) -> 0
A28: 7 | B28: 510 | C28: =VLOOKUP(E28,Dorsales!A:I,2,FALSE) -> ------- | H28: =IF((F28*60+G28)>B28,0,IF(F28>=A28,((A28*60*2)-F28*60-G28),F28*60+G28)) -> 0 | J28: =IF(H28<30,0,IF(I28=0,0,IF(I28>15,0,32-I28*2))) -> 0 | K28: =IF(I28>100,0,H28+J28) -> 0 | L28: =IF(K28=0,0,K28/K32*1000) -> 0
A29: 7 | B29: 510 | C29: =VLOOKUP(E29,Dorsales!A:I,2,FALSE) -> ------- | H29: =IF((F29*60+G29)>B29,0,IF(F29>=A29,((A29*60*2)-F29*60-G29),F29*60+G29)) -> 0 | J29: =IF(H29<30,0,IF(I29=0,0,IF(I29>15,0,32-I29*2))) -> 0 | K29: =IF(I29>100,0,H29+J29) -> 0 | L29: =IF(K29=0,0,K29/K32*1000) -> 0
A30: 7 | B30: 510 | C30: =VLOOKUP(E30,Dorsales!A:I,2,FALSE) -> ------- | H30: =IF((F30*60+G30)>B30,0,IF(F30>=A30,((A30*60*2)-F30*60-G30),F30*60+G30)) -> 0 | J30: =IF(H30<30,0,IF(I30=0,0,IF(I30>15,0,32-I30*2))) -> 0 | K30: =IF(I30>100,0,H30+J30) -> 0 | L30: =IF(K30=0,0,K30/K32*1000) -> 0
D32: Tiempo de Vuelo | F32: =A21 -> 7 | H32: Max. Ptos.Reales | K32: =MAX(K21:K30) -> 448.44
D39: Vuelo 5 | G39: MINIMANGA 2
C40: Concursante | D40: Juez | E40: DORSAL | F40: minutos | G40: segundos | H40: P.Vuelo | I40: m.Toma | J40: P.Toma | K40: P.Reales | L40: P.FAI
A41: 7 | B41: 510 | C41: =VLOOKUP(E41,Dorsales!A:I,2,FALSE) -> ------- | H41: =IF((F41*60+G41)>B41,0,IF(F41>=A41,((A41*60*2)-F41*60-G41),F41*60+G41)) -> 0 | J41: =IF(H41<30,0,IF(I41=0,0,IF(I41>15,0,32-I41*2))) -> 0 | K41: =IF(I41>100,0,H41+J41) -> 0 | L41: =IF(K41=0,0,K41/K52*1000) -> 0
A42: 7 | B42: 510 | C42: =VLOOKUP(E42,Dorsales!A:I,2,FALSE) -> ------- | H42: =IF((F42*60+G42)>B42,0,IF(F42>=A42,((A42*60*2)-F42*60-G42),F42*60+G42)) -> 0 | J42: =IF(H42<30,0,IF(I42=0,0,IF(I42>15,0,32-I42*2))) -> 0 | K42: =IF(I42>100,0,H42+J42) -> 0 | L42: =IF(K42=0,0,K42/K52*1000) -> 0
A43: 7 | B43: 510 | C43: =VLOOKUP(E43,Dorsales!A:I,2,FALSE) -> ------- | H43: =IF((F43*60+G43)>B43,0,IF(F43>=A43,((A43*60*2)-F43*60-G43),F43*60+G43)) -> 0 | J43: =IF(H43<30,0,IF(I43=0,0,IF(I43>15,0,32-I43*2))) -> 0 | K43: =IF(I43>100,0,H43+J43) -> 0 | L43: =IF(K43=0,0,K43/K52*1000) -> 0
A44: 7 | B44: 510 | C44: =VLOOKUP(E44,Dorsales!A:I,2,FALSE) -> ------- | H44: =IF((F44*60+G44)>B44,0,IF(F44>=A44,((A44*60*2)-F44*60-G44),F44*60+G44)) -> 0 | J44: =IF(H44<30,0,IF(I44=0,0,IF(I44>15,0,32-I44*2))) -> 0 | K44: =IF(I44>100,0,H44+J44) -> 0 | L44: =IF(K44=0,0,K44/K52*1000) -> 0
A45: 7 | B45: 510 | C45: =VLOOKUP(E45,Dorsales!A:I,2,FALSE) -> ------- | H45: =IF((F45*60+G45)>B45,0,IF(F45>=A45,((A45*60*2)-F45*60-G45),F45*60+G45)) -> 0 | J45: =IF(H45<30,0,IF(I45=0,0,IF(I45>15,0,32-I45*2))) -> 0 | K45: =IF(I45>100,0,H45+J45) -> 0 | L45: =IF(K45=0,0,K45/K52*1000) -> 0
A46: 7 | B46: 510 | C46: =VLOOKUP(E46,Dorsales!A:I,2,FALSE) -> ------- | H46: =IF((F46*60+G46)>B46,0,IF(F46>=A46,((A46*60*2)-F46*60-G46),F46*60+G46)) -> 0 | J46: =IF(H46<30,0,IF(I46=0,0,IF(I46>15,0,32-I46*2))) -> 0 | K46: =IF(I46>100,0,H46+J46) -> 0 | L46: =IF(K46=0,0,K46/K52*1000) -> 0
A47: 7 | B47: 510 | C47: =VLOOKUP(E47,Dorsales!A:I,2,FALSE) -> ------- | H47: =IF((F47*60+G47)>B47,0,IF(F47>=A47,((A47*60*2)-F47*60-G47),F47*60+G47)) -> 0 | J47: =IF(H47<30,0,IF(I47=0,0,IF(I47>15,0,32-I47*2))) -> 0 | K47: =IF(I47>100,0,H47+J47) -> 0 | L47: =IF(K47=0,0,K47/K52*1000) -> 0
A48: 7 | B48: 510 | C48: =VLOOKUP(E48,Dorsales!A:I,2,FALSE) -> ------- | H48: =IF((F48*60+G48)>B48,0,IF(F48>=A48,((A48*60*2)-F48*60-G48),F48*60+G48)) -> 0 | J48: =IF(H48<30,0,IF(I48=0,0,IF(I48>15,0,32-I48*2))) -> 0 | K48: =IF(I48>100,0,H48+J48) -> 0 | L48: =IF(K48=0,0,K48/K52*1000) -> 0
A49: 7 | B49: 510 | C49: =VLOOKUP(E49,Dorsales!A:I,2,FALSE) -> ------- | H49: =IF((F49*60+G49)>B49,0,IF(F49>=A49,((A49*60*2)-F49*60-G49),F49*60+G49)) -> 0 | J49: =IF(H49<30,0,IF(I49=0,0,IF(I49>15,0,32-I49*2))) -> 0 | K49: =IF(I49>100,0,H49+J49) -> 0 | L49: =IF(K49=0,0,K49/K52*1000) -> 0
A50: 7 | B50: 510 | C50: =VLOOKUP(E50,Dorsales!A:I,2,FALSE) -> ------- | H50: =IF((F50*60+G50)>B50,0,IF(F50>=A50,((A50*60*2)-F50*60-G50),F50*60+G50)) -> 0 | J50: =IF(H50<30,0,IF(I50=0,0,IF(I50>15,0,32-I50*2))) -> 0 | K50: =IF(I50>100,0,H50+J50) -> 0 | L50: =IF(K50=0,0,K50/K52*1000) -> 0
D52: Tiempo de Vuelo | F52: =A41 -> 7 | H52: Max. Ptos.Reales | K52: =MAX(K41:K50) -> 0
D59: Vuelo 5 | G59: MINIMANGA 3
C60: Concursante | D60: Juez | E60: DORSAL | F60: minutos | G60: segundos | H60: P.Vuelo | I60: m.Toma | J60: P.Toma | K60: P.Reales | L60: P.FAI
A61: 7 | B61: 510 | C61: =VLOOKUP(E61,Dorsales!A:I,2,FALSE) -> ------- | H61: =IF((F61*60+G61)>B61,0,IF(F61>=A61,((A61*60*2)-F61*60-G61),F61*60+G61)) -> 0 | J61: =IF(H61<30,0,IF(I61=0,0,IF(I61>15,0,32-I61*2))) -> 0 | K61: =IF(I61>100,0,H61+J61) -> 0 | L61: =IF(K61=0,0,K61/K72*1000) -> 0
A62: 7 | B62: 510 | C62: =VLOOKUP(E62,Dorsales!A:I,2,FALSE) -> ------- | H62: =IF((F62*60+G62)>B62,0,IF(F62>=A62,((A62*60*2)-F62*60-G62),F62*60+G62)) -> 0 | J62: =IF(H62<30,0,IF(I62=0,0,IF(I62>15,0,32-I62*2))) -> 0 | K62: =IF(I62>100,0,H62+J62) -> 0 | L62: =IF(K62=0,0,K62/K72*1000) -> 0
A63: 7 | B63: 510 | C63: =VLOOKUP(E63,Dorsales!A:I,2,FALSE) -> ------- | H63: =IF((F63*60+G63)>B63,0,IF(F63>=A63,((A63*60*2)-F63*60-G63),F63*60+G63)) -> 0 | J63: =IF(H63<30,0,IF(I63=0,0,IF(I63>15,0,32-I63*2))) -> 0 | K63: =IF(I63>100,0,H63+J63) -> 0 | L63: =IF(K63=0,0,K63/K72*1000) -> 0
A64: 7 | B64: 510 | C64: =VLOOKUP(E64,Dorsales!A:I,2,FALSE) -> ------- | H64: =IF((F64*60+G64)>B64,0,IF(F64>=A64,((A64*60*2)-F64*60-G64),F64*60+G64)) -> 0 | J64: =IF(H64<30,0,IF(I64=0,0,IF(I64>15,0,32-I64*2))) -> 0 | K64: =IF(I64>100,0,H64+J64) -> 0 | L64: =IF(K64=0,0,K64/K72*1000) -> 0
A65: 7 | B65: 510 | C65: =VLOOKUP(E65,Dorsales!A:I,2,FALSE) -> ------- | H65: =IF((F65*60+G65)>B65,0,IF(F65>=A65,((A65*60*2)-F65*60-G65),F65*60+G65)) -> 0 | J65: =IF(H65<30,0,IF(I65=0,0,IF(I65>15,0,32-I65*2))) -> 0 | K65: =IF(I65>100,0,H65+J65) -> 0 | L65: =IF(K65=0,0,K65/K72*1000) -> 0
A66: 7 | B66: 510 | C66: =VLOOKUP(E66,Dorsales!A:I,2,FALSE) -> ------- | H66: =IF((F66*60+G66)>B66,0,IF(F66>=A66,((A66*60*2)-F66*60-G66),F66*60+G66)) -> 0 | J66: =IF(H66<30,0,IF(I66=0,0,IF(I66>15,0,32-I66*2))) -> 0 | K66: =IF(I66>100,0,H66+J66) -> 0 | L66: =IF(K66=0,0,K66/K72*1000) -> 0
A67: 7 | B67: 510 | C67: =VLOOKUP(E67,Dorsales!A:I,2,FALSE) -> ------- | H67: =IF((F67*60+G67)>B67,0,IF(F67>=A67,((A67*60*2)-F67*60-G67),F67*60+G67)) -> 0 | J67: =IF(H67<30,0,IF(I67=0,0,IF(I67>15,0,32-I67*2))) -> 0 | K67: =IF(I67>100,0,H67+J67) -> 0 | L67: =IF(K67=0,0,K67/K72*1000) -> 0
A68: 7 | B68: 510 | C68: =VLOOKUP(E68,Dorsales!A:I,2,FALSE) -> ------- | H68: =IF((F68*60+G68)>B68,0,IF(F68>=A68,((A68*60*2)-F68*60-G68),F68*60+G68)) -> 0 | J68: =IF(H68<30,0,IF(I68=0,0,IF(I68>15,0,32-I68*2))) -> 0 | K68: =IF(I68>100,0,H68+J68) -> 0 | L68: =IF(K68=0,0,K68/K72*1000) -> 0
A69: 7 | B69: 510 | C69: =VLOOKUP(E69,Dorsales!A:I,2,FALSE) -> ------- | H69: =IF((F69*60+G69)>B69,0,IF(F69>=A69,((A69*60*2)-F69*60-G69),F69*60+G69)) -> 0 | J69: =IF(H69<30,0,IF(I69=0,0,IF(I69>15,0,32-I69*2))) -> 0 | K69: =IF(I69>100,0,H69+J69) -> 0 | L69: =IF(K69=0,0,K69/K72*1000) -> 0
A70: 7 | B70: 510 | C70: =VLOOKUP(E70,Dorsales!A:I,2,FALSE) -> ------- | H70: =IF((F70*60+G70)>B70,0,IF(F70>=A70,((A70*60*2)-F70*60-G70),F70*60+G70)) -> 0 | J70: =IF(H70<30,0,IF(I70=0,0,IF(I70>15,0,32-I70*2))) -> 0 | K70: =IF(I70>100,0,H70+J70) -> 0 | L70: =IF(K70=0,0,K70/K72*1000) -> 0
D72: Tiempo de Vuelo | F72: =A61 -> 7 | H72: Max. Ptos.Reales | K72: =MAX(K61:K70) -> 0
D79: Vuelo 5 | G79: MINIMANGA 4
C80: Concursante | D80: Juez | E80: DORSAL | F80: minutos | G80: segundos | H80: P.Vuelo | I80: m.Toma | J80: P.Toma | K80: P.Reales | L80: P.FAI
A81: 7 | B81: 510 | C81: =VLOOKUP(E81,Dorsales!A:I,2,FALSE) -> ------- | H81: =IF((F81*60+G81)>B81,0,IF(F81>=A81,((A81*60*2)-F81*60-G81),F81*60+G81)) -> 0 | J81: =IF(H81<30,0,IF(I81=0,0,IF(I81>15,0,32-I81*2))) -> 0 | K81: =IF(I81>100,0,H81+J81) -> 0 | L81: =IF(K81=0,0,K81/K92*1000) -> 0
A82: 7 | B82: 510 | C82: =VLOOKUP(E82,Dorsales!A:I,2,FALSE) -> ------- | H82: =IF((F82*60+G82)>B82,0,IF(F82>=A82,((A82*60*2)-F82*60-G82),F82*60+G82)) -> 0 | J82: =IF(H82<30,0,IF(I82=0,0,IF(I82>15,0,32-I82*2))) -> 0 | K82: =IF(I82>100,0,H82+J82) -> 0 | L82: =IF(K82=0,0,K82/K92*1000) -> 0
A83: 7 | B83: 510 | C83: =VLOOKUP(E83,Dorsales!A:I,2,FALSE) -> ------- | H83: =IF((F83*60+G83)>B83,0,IF(F83>=A83,((A83*60*2)-F83*60-G83),F83*60+G83)) -> 0 | J83: =IF(H83<30,0,IF(I83=0,0,IF(I83>15,0,32-I83*2))) -> 0 | K83: =IF(I83>100,0,H83+J83) -> 0 | L83: =IF(K83=0,0,K83/K92*1000) -> 0
A84: 7 | B84: 510 | C84: =VLOOKUP(E84,Dorsales!A:I,2,FALSE) -> ------- | H84: =IF((F84*60+G84)>B84,0,IF(F84>=A84,((A84*60*2)-F84*60-G84),F84*60+G84)) -> 0 | J84: =IF(H84<30,0,IF(I84=0,0,IF(I84>15,0,32-I84*2))) -> 0 | K84: =IF(I84>100,0,H84+J84) -> 0 | L84: =IF(K84=0,0,K84/K92*1000) -> 0
A85: 7 | B85: 510 | C85: =VLOOKUP(E85,Dorsales!A:I,2,FALSE) -> ------- | H85: =IF((F85*60+G85)>B85,0,IF(F85>=A85,((A85*60*2)-F85*60-G85),F85*60+G85)) -> 0 | J85: =IF(H85<30,0,IF(I85=0,0,IF(I85>15,0,32-I85*2))) -> 0 | K85: =IF(I85>100,0,H85+J85) -> 0 | L85: =IF(K85=0,0,K85/K92*1000) -> 0
A86: 7 | B86: 510 | C86: =VLOOKUP(E86,Dorsales!A:I,2,FALSE) -> ------- | H86: =IF((F86*60+G86)>B86,0,IF(F86>=A86,((A86*60*2)-F86*60-G86),F86*60+G86)) -> 0 | J86: =IF(H86<30,0,IF(I86=0,0,IF(I86>15,0,32-I86*2))) -> 0 | K86: =IF(I86>100,0,H86+J86) -> 0 | L86: =IF(K86=0,0,K86/K92*1000) -> 0
A87: 7 | B87: 510 | C87: =VLOOKUP(E87,Dorsales!A:I,2,FALSE) -> ------- | H87: =IF((F87*60+G87)>B87,0,IF(F87>=A87,((A87*60*2)-F87*60-G87),F87*60+G87)) -> 0 | J87: =IF(H87<30,0,IF(I87=0,0,IF(I87>15,0,32-I87*2))) -> 0 | K87: =IF(I87>100,0,H87+J87) -> 0 | L87: =IF(K87=0,0,K87/K92*1000) -> 0
A88: 7 | B88: 510 | C88: =VLOOKUP(E88,Dorsales!A:I,2,FALSE) -> ------- | H88: =IF((F88*60+G88)>B88,0,IF(F88>=A88,((A88*60*2)-F88*60-G88),F88*60+G88)) -> 0 | J88: =IF(H88<30,0,IF(I88=0,0,IF(I88>15,0,32-I88*2))) -> 0 | K88: =IF(I88>100,0,H88+J88) -> 0 | L88: =IF(K88=0,0,K88/K92*1000) -> 0
A89: 7 | B89: 510 | C89: =VLOOKUP(E89,Dorsales!A:I,2,FALSE) -> ------- | H89: =IF((F89*60+G89)>B89,0,IF(F89>=A89,((A89*60*2)-F89*60-G89),F89*60+G89)) -> 0 | J89: =IF(H89<30,0,IF(I89=0,0,IF(I89>15,0,32-I89*2))) -> 0 | K89: =IF(I89>100,0,H89+J89) -> 0 | L89: =IF(K89=0,0,K89/K92*1000) -> 0
A90: 7 | B90: 510 | C90: =VLOOKUP(E90,Dorsales!A:I,2,FALSE) -> ------- | H90: =IF((F90*60+G90)>B90,0,IF(F90>=A90,((A90*60*2)-F90*60-G90),F90*60+G90)) -> 0 | J90: =IF(H90<30,0,IF(I90=0,0,IF(I90>15,0,32-I90*2))) -> 0 | K90: =IF(I90>100,0,H90+J90) -> 0 | L90: =IF(K90=0,0,K90/K92*1000) -> 0
D92: Tiempo de Vuelo | F92: =A81 -> 7 | H92: Max. Ptos.Reales | K92: =MAX(K81:K90) -> 0
E101: 1
E102: 2
E103: 3
E104: 4
E105: 5
E106: 6
E107: 7
E108: 8
E109: 9
E110: 10
E111: 11
E112: 12
... E140: 40

Sheet Vuelo 6
D1: Vuelo 6 | G1: MINIMANGA DE 'RE-FLIGHT' | P1: =IF((F7*60+G7)>Instrucciones!C14,0,IF(F7>=Instrucciones!B10,((Instrucciones!B10*60*2)-F7*60-G7),F7*60+G7)) -> 0
C2: Concursante | D2: Juez | E2: DORSAL* | F2: minutos | G2: segundos | H2: P.Vuelo | I2: m.Toma | J2: P.Toma | K2: P.Reales | L2: P.FAI
A3: 6 | B3: 450 | C3: =VLOOKUP(E3,Dorsales!A:I,2,FALSE) -> ------- | H3: =IF((F3*60+G3)>B3,0,IF(F3>=A3,((A3*60*2)-F3*60-G3),F3*60+G3)) -> 0 | J3: =IF(H3<30,0,IF(I3=0,0,IF(I3>15,0,32-I3*2))) -> 0 | K3: =IF(I3>100,0,H3+J3) -> 0 | L3: =IF(K3=0,0,K3/K14*1000) -> 0
A4: 6 | B4: 450 | C4: =VLOOKUP(E4,Dorsales!A:I,2,FALSE) -> ------- | H4: =IF((F4*60+G4)>B4,0,IF(F4>=A4,((A4*60*2)-F4*60-G4),F4*60+G4)) -> 0 | J4: =IF(H4<30,0,IF(I4=0,0,IF(I4>15,0,32-I4*2))) -> 0 | K4: =IF(I4>100,0,H4+J4) -> 0 | L4: =IF(K4=0,0,K4/K14*1000) -> 0
A5: 6 | B5: 450 | C5: =VLOOKUP(E5,Dorsales!A:I,2,FALSE) -> ------- | H5: =IF((F5*60+G5)>B5,0,IF(F5>=A5,((A5*60*2)-F5*60-G5),F5*60+G5)) -> 0 | J5: =IF(H5<30,0,IF(I5=0,0,IF(I5>15,0,32-I5*2))) -> 0 | K5: =IF(I5>100,0,H5+J5) -> 0 | L5: =IF(K5=0,0,K5/K14*1000) -> 0
A6: 6 | B6: 450 | C6: =VLOOKUP(E6,Dorsales!A:I,2,FALSE) -> ------- | H6: =IF((F6*60+G6)>B6,0,IF(F6>=A6,((A6*60*2)-F6*60-G6),F6*60+G6)) -> 0 | J6: =IF(H6<30,0,IF(I6=0,0,IF(I6>15,0,32-I6*2))) -> 0 | K6: =IF(I6>100,0,H6+J6) -> 0 | L6: =IF(K6=0,0,K6/K14*1000) -> 0
A7: 6 | B7: 450 | C7: =VLOOKUP(E7,Dorsales!A:I,2,FALSE) -> ------- | H7: =IF((F7*60+G7)>B7,0,IF(F7>=A7,((A7*60*2)-F7*60-G7),F7*60+G7)) -> 0 | J7: =IF(H7<30,0,IF(I7=0,0,IF(I7>15,0,32-I7*2))) -> 0 | K7: =IF(I7>100,0,H7+J7) -> 0 | L7: =IF(K7=0,0,K7/K14*1000) -> 0
A8: 6 | B8: 450 | C8: =VLOOKUP(E8,Dorsales!A:I,2,FALSE) -> ------- | H8: =IF((F8*60+G8)>B8,0,IF(F8>=A8,((A8*60*2)-F8*60-G8),F8*60+G8)) -> 0 | J8: =IF(H8<30,0,IF(I8=0,0,IF(I8>15,0,32-I8*2))) -> 0 | K8: =IF(I8>100,0,H8+J8) -> 0 | L8: =IF(K8=0,0,K8/K14*1000) -> 0
A9: 6 | B9: 450 | C9: =VLOOKUP(E9,Dorsales!A:I,2,FALSE) -> ------- | H9: =IF((F9*60+G9)>B9,0,IF(F9>=A9,((A9*60*2)-F9*60-G9),F9*60+G9)) -> 0 | J9: =IF(H9<30,0,IF(I9=0,0,IF(I9>15,0,32-I9*2))) -> 0 | K9: =IF(I9>100,0,H9+J9) -> 0 | L9: =IF(K9=0,0,K9/K14*1000) -> 0
A10: 6 | B10: 450 | C10: =VLOOKUP(E10,Dorsales!A:I,2,FALSE) -> ------- | H10: =IF((F10*60+G10)>B10,0,IF(F10>=A10,((A10*60*2)-F10*60-G10),F10*60+G10)) -> 0 | J10: =IF(H10<30,0,IF(I10=0,0,IF(I10>15,0,32-I10*2))) -> 0 | K10: =IF(I10>100,0,H10+J10) -> 0 | L10: =IF(K10=0,0,K10/K14*1000) -> 0
A11: 6 | B11: 450 | C11: =VLOOKUP(E11,Dorsales!A:I,2,FALSE) -> ------- | H11: =IF((F11*60+G11)>B11,0,IF(F11>=A11,((A11*60*2)-F11*60-G11),F11*60+G11)) -> 0 | J11: =IF(H11<30,0,IF(I11=0,0,IF(I11>15,0,32-I11*2))) -> 0 | K11: =IF(I11>100,0,H11+J11) -> 0 | L11: =IF(K11=0,0,K11/K14*1000) -> 0
A12: 6 | B12: 450 | C12: =VLOOKUP(E12,Dorsales!A:I,2,FALSE) -> ------- | H12: =IF((F12*60+G12)>B12,0,IF(F12>=A12,((A12*60*2)-F12*60-G12),F12*60+G12)) -> 0 | J12: =IF(H12<30,0,IF(I12=0,0,IF(I12>15,0,32-I12*2))) -> 0 | K12: =IF(I12>100,0,H12+J12) -> 0 | L12: =IF(K12=0,0,K12/K14*1000) -> 0
D13: *A los dorsales cuya puntuacion no sea la valida se les sumara 50
D14: Tiempo de Vuelo | F14: =A3 -> 6 | H14: Max. Ptos.Reales | K14: =MAX(K3:K12) -> 0
D19: Vuelo 6 | G19: MINIMANGA 1
C20: Concursante | D20: Juez | E20: DORSAL | F20: minutos | G20: segundos | H20: P.Vuelo | I20: m.Toma | J20: P.Toma | K20: P.Reales | L20: P.FAI
A21: 7 | B21: 510 | C21: =VLOOKUP(E21,Dorsales!A:I,2,FALSE) -> Miguel de la Torre | E21: 1 | F21: 5 | G21: 59.78 | H21: =IF((F21*60+G21)>B21,0,IF(F21>=A21,((A21*60*2)-F21*60-G21),F21*60+G21)) -> 359.78 | I21: 2 | J21: =IF(H21<30,0,IF(I21=0,0,IF(I21>15,0,32-I21*2))) -> 28 | K21: =IF(I21>100,0,H21+J21) -> 387.78 | L21: =IF(K21=0,0,K21/K32*1000) -> 925.6881
A22: 7 | B22: 510 | C22: =VLOOKUP(E22,Dorsales!A:I,2,FALSE) -> José Antonio Papin | E22: 2 | F22: 6 | G22: 30.91 | H22: =IF((F22*60+G22)>B22,0,IF(F22>=A22,((A22*60*2)-F22*60-G22),F22*60+G22)) -> 390.91 | I22: 2 | J22: =IF(H22<30,0,IF(I22=0,0,IF(I22>15,0,32-I22*2))) -> 28 | K22: =IF(I22>100,0,H22+J22) -> 418.91 | L22: =IF(K22=0,0,K22/K32*1000) -> 1000
A23: 7 | B23: 510 | C23: =VLOOKUP(E23,Dorsales!A:I,2,FALSE) -> José Antonio Orviz | E23: 3 | F23: 5 | G23: 39.53 | H23: =IF((F23*60+G23)>B23,0,IF(F23>=A23,((A23*60*2)-F23*60-G23),F23*60+G23)) -> 339.53 | I23: 8 | J23: =IF(H23<30,0,IF(I23=0,0,IF(I23>15,0,32-I23*2))) -> 16 | K23: =IF(I23>100,0,H23+J23) -> 355.53 | L23: =IF(K23=0,0,K23/K32*1000) -> 848.70259
A24: 7 | B24: 510 | C24: =VLOOKUP(E24,Dorsales!A:I,2,FALSE) -> Luis Antonio Presol | E24: 4 | F24: 5 | G24: 59.58 | H24: =IF((F24*60+G24)>B24,0,IF(F24>=A24,((A24*60*2)-F24*60-G24),F24*60+G24)) -> 359.58 | I24: 7 | J24: =IF(H24<30,0,IF(I24=0,0,IF(I24>15,0,32-I24*2))) -> 18 | K24: =IF(I24>100,0,H24+J24) -> 377.58 | L24: =IF(K24=0,0,K24/K32*1000) -> 901.33919
A25: 7 | B25: 510 | C25: =VLOOKUP(E25,Dorsales!A:I,2,FALSE) -> Alejandro Gil | E25: 5 | H25: =IF((F25*60+G25)>B25,0,IF(F25>=A25,((A25*60*2)-F25*60-G25),F25*60+G25)) -> 0 | J25: =IF(H25<30,0,IF(I25=0,0,IF(I25>15,0,32-I25*2))) -> 0 | K25: =IF(I25>100,0,H25+J25) -> 0 | L25: =IF(K25=0,0,K25/K32*1000) -> 0
A26: 7 | B26: 510 | C26: =VLOOKUP(E26,Dorsales!A:I,2,FALSE) -> ------- | H26: =IF((F26*60+G26)>B26,0,IF(F26>=A26,((A26*60*2)-F26*60-G26),F26*60+G26)) -> 0 | J26: =IF(H26<30,0,IF(I26=0,0,IF(I26>15,0,32-I26*2))) -> 0 | K26: =IF(I26>100,0,H26+J26) -> 0 | L26: =IF(K26=0,0,K26/K32*1000) -> 0
A27: 7 | B27: 510 | C27: =VLOOKUP(E27,Dorsales!A:I,2,FALSE) -> ------- | H27: =IF((F27*60+G27)>B27,0,IF(F27>=A27,((A27*60*2)-F27*60-G27),F27*60+G27)) -> 0 | J27: =IF(H27<30,0,IF(I27=0,0,IF(I27>15,0,32-I27*2))) -> 0 | K27: =IF(I27>100,0,H27+J27) -> 0 | L27: =IF(K27=0,0,K27/K32*1000) -> 0
A28: 7 | B28: 510 | C28: =VLOOKUP(E28,Dorsales!A:I,2,FALSE) -> ------- | H28: =IF((F28*60+G28)>B28,0,IF(F28>=A28,((A28*60*2)-F28*60-G28),F28*60+G28)) -> 0 | J28: =IF(H28<30,0,IF(I28=0,0,IF(I28>15,0,32-I28*2))) -> 0 | K28: =IF(I28>100,0,H28+J28) -> 0 | L28: =IF(K28=0,0,K28/K32*1000) -> 0
A29: 7 | B29: 510 | C29: =VLOOKUP(E29,Dorsales!A:I,2,FALSE) -> ------- | H29: =IF((F29*60+G29)>B29,0,IF(F29>=A29,((A29*60*2)-F29*60-G29),F29*60+G29)) -> 0 | J29: =IF(H29<30,0,IF(I29=0,0,IF(I29>15,0,32-I29*2))) -> 0 | K29: =IF(I29>100,0,H29+J29) -> 0 | L29: =IF(K29=0,0,K29/K32*1000) -> 0
A30: 7 | B30: 510 | C30: =VLOOKUP(E30,Dorsales!A:I,2,FALSE) -> ------- | H30: =IF((F30*60+G30)>B30,0,IF(F30>=A30,((A30*60*2)-F30*60-G30),F30*60+G30)) -> 0 | J30: =IF(H30<30,0,IF(I30=0,0,IF(I30>15,0,32-I30*2))) -> 0 | K30: =IF(I30>100,0,H30+J30) -> 0 | L30: =IF(K30=0,0,K30/K32*1000) -> 0
D32: Tiempo de Vuelo | F32: =A21 -> 7 | H32: Max. Ptos.Reales | K32: =MAX(K21:K30) -> 418.91
D39: Vuelo 6 | G39: MINIMANGA 2
C40: Concursante | D40: Juez | E40: DORSAL | F40: minutos | G40: segundos | H40: P.Vuelo | I40: m.Toma | J40: P.Toma | K40: P.Reales | L40: P.FAI
A41: 7 | B41: 510 | C41: =VLOOKUP(E41,Dorsales!A:I,2,FALSE) -> ------- | H41: =IF((F41*60+G41)>B41,0,IF(F41>=A41,((A41*60*2)-F41*60-G41),F41*60+G41)) -> 0 | J41: =IF(H41<30,0,IF(I41=0,0,IF(I41>15,0,32-I41*2))) -> 0 | K41: =IF(I41>100,0,H41+J41) -> 0 | L41: =IF(K41=0,0,K41/K52*1000) -> 0
A42: 7 | B42: 510 | C42: =VLOOKUP(E42,Dorsales!A:I,2,FALSE) -> ------- | H42: =IF((F42*60+G42)>B42,0,IF(F42>=A42,((A42*60*2)-F42*60-G42),F42*60+G42)) -> 0 | J42: =IF(H42<30,0,IF(I42=0,0,IF(I42>15,0,32-I42*2))) -> 0 | K42: =IF(I42>100,0,H42+J42) -> 0 | L42: =IF(K42=0,0,K42/K52*1000) -> 0
A43: 7 | B43: 510 | C43: =VLOOKUP(E43,Dorsales!A:I,2,FALSE) -> ------- | H43: =IF((F43*60+G43)>B43,0,IF(F43>=A43,((A43*60*2)-F43*60-G43),F43*60+G43)) -> 0 | J43: =IF(H43<30,0,IF(I43=0,0,IF(I43>15,0,32-I43*2))) -> 0 | K43: =IF(I43>100,0,H43+J43) -> 0 | L43: =IF(K43=0,0,K43/K52*1000) -> 0
A44: 7 | B44: 510 | C44: =VLOOKUP(E44,Dorsales!A:I,2,FALSE) -> ------- | H44: =IF((F44*60+G44)>B44,0,IF(F44>=A44,((A44*60*2)-F44*60-G44),F44*60+G44)) -> 0 | J44: =IF(H44<30,0,IF(I44=0,0,IF(I44>15,0,32-I44*2))) -> 0 | K44: =IF(I44>100,0,H44+J44) -> 0 | L44: =IF(K44=0,0,K44/K52*1000) -> 0
A45: 7 | B45: 510 | C45: =VLOOKUP(E45,Dorsales!A:I,2,FALSE) -> ------- | H45: =IF((F45*60+G45)>B45,0,IF(F45>=A45,((A45*60*2)-F45*60-G45),F45*60+G45)) -> 0 | J45: =IF(H45<30,0,IF(I45=0,0,IF(I45>15,0,32-I45*2))) -> 0 | K45: =IF(I45>100,0,H45+J45) -> 0 | L45: =IF(K45=0,0,K45/K52*1000) -> 0
A46: 7 | B46: 510 | C46: =VLOOKUP(E46,Dorsales!A:I,2,FALSE) -> ------- | H46: =IF((F46*60+G46)>B46,0,IF(F46>=A46,((A46*60*2)-F46*60-G46),F46*60+G46)) -> 0 | J46: =IF(H46<30,0,IF(I46=0,0,IF(I46>15,0,32-I46*2))) -> 0 | K46: =IF(I46>100,0,H46+J46) -> 0 | L46: =IF(K46=0,0,K46/K52*1000) -> 0
A47: 7 | B47: 510 | C47: =VLOOKUP(E47,Dorsales!A:I,2,FALSE) -> ------- | H47: =IF((F47*60+G47)>B47,0,IF(F47>=A47,((A47*60*2)-F47*60-G47),F47*60+G47)) -> 0 | J47: =IF(H47<30,0,IF(I47=0,0,IF(I47>15,0,32-I47*2))) -> 0 | K47: =IF(I47>100,0,H47+J47) -> 0 | L47: =IF(K47=0,0,K47/K52*1000) -> 0
A48: 7 | B48: 510 | C48: =VLOOKUP(E48,Dorsales!A:I,2,FALSE) -> ------- | H48: =IF((F48*60+G48)>B48,0,IF(F48>=A48,((A48*60*2)-F48*60-G48),F48*60+G48)) -> 0 | J48: =IF(H48<30,0,IF(I48=0,0,IF(I48>15,0,32-I48*2))) -> 0 | K48: =IF(I48>100,0,H48+J48) -> 0 | L48: =IF(K48=0,0,K48/K52*1000) -> 0
A49: 7 | B49: 510 | C49: =VLOOKUP(E49,Dorsales!A:I,2,FALSE) -> ------- | H49: =IF((F49*60+G49)>B49,0,IF(F49>=A49,((A49*60*2)-F49*60-G49),F49*60+G49)) -> 0 | J49: =IF(H49<30,0,IF(I49=0,0,IF(I49>15,0,32-I49*2))) -> 0 | K49: =IF(I49>100,0,H49+J49) -> 0 | L49: =IF(K49=0,0,K49/K52*1000) -> 0
A50: 7 | B50: 510 | C50: =VLOOKUP(E50,Dorsales!A:I,2,FALSE) -> ------- | H50: =IF((F50*60+G50)>B50,0,IF(F50>=A50,((A50*60*2)-F50*60-G50),F50*60+G50)) -> 0 | J50: =IF(H50<30,0,IF(I50=0,0,IF(I50>15,0,32-I50*2))) -> 0 | K50: =IF(I50>100,0,H50+J50) -> 0 | L50: =IF(K50=0,0,K50/K52*1000) -> 0
D52: Tiempo de Vuelo | F52: =A41 -> 7 | H52: Max. Ptos.Reales | K52: =MAX(K41:K50) -> 0
D59: Vuelo 6 | G59: MINIMANGA 3
C60: Concursante | D60: Juez | E60: DORSAL | F60: minutos | G60: segundos | H60: P.Vuelo | I60: m.Toma | J60: P.Toma | K60: P.Reales | L60: P.FAI
A61: 7 | B61: 510 | C61: =VLOOKUP(E61,Dorsales!A:I,2,FALSE) -> ------- | H61: =IF((F61*60+G61)>B61,0,IF(F61>=A61,((A61*60*2)-F61*60-G61),F61*60+G61)) -> 0 | J61: =IF(H61<30,0,IF(I61=0,0,IF(I61>15,0,32-I61*2))) -> 0 | K61: =IF(I61>100,0,H61+J61) -> 0 | L61: =IF(K61=0,0,K61/K72*1000) -> 0
A62: 7 | B62: 510 | C62: =VLOOKUP(E62,Dorsales!A:I,2,FALSE) -> ------- | H62: =IF((F62*60+G62)>B62,0,IF(F62>=A62,((A62*60*2)-F62*60-G62),F62*60+G62)) -> 0 | J62: =IF(H62<30,0,IF(I62=0,0,IF(I62>15,0,32-I62*2))) -> 0 | K62: =IF(I62>100,0,H62+J62) -> 0 | L62: =IF(K62=0,0,K62/K72*1000) -> 0
A63: 7 | B63: 510 | C63: =VLOOKUP(E63,Dorsales!A:I,2,FALSE) -> ------- | H63: =IF((F63*60+G63)>B63,0,IF(F63>=A63,((A63*60*2)-F63*60-G63),F63*60+G63)) -> 0 | J63: =IF(H63<30,0,IF(I63=0,0,IF(I63>15,0,32-I63*2))) -> 0 | K63: =IF(I63>100,0,H63+J63) -> 0 | L63: =IF(K63=0,0,K63/K72*1000) -> 0
A64: 7 | B64: 510 | C64: =VLOOKUP(E64,Dorsales!A:I,2,FALSE) -> ------- | H64: =IF((F64*60+G64)>B64,0,IF(F64>=A64,((A64*60*2)-F64*60-G64),F64*60+G64)) -> 0 | J64: =IF(H64<30,0,IF(I64=0,0,IF(I64>15,0,32-I64*2))) -> 0 | K64: =IF(I64>100,0,H64+J64) -> 0 | L64: =IF(K64=0,0,K64/K72*1000) -> 0
A65: 7 | B65: 510 | C65: =VLOOKUP(E65,Dorsales!A:I,2,FALSE) -> ------- | H65: =IF((F65*60+G65)>B65,0,IF(F65>=A65,((A65*60*2)-F65*60-G65),F65*60+G65)) -> 0 | J65: =IF(H65<30,0,IF(I65=0,0,IF(I65>15,0,32-I65*2))) -> 0 | K65: =IF(I65>100,0,H65+J65) -> 0 | L65: =IF(K65=0,0,K65/K72*1000) -> 0
A66: 7 | B66: 510 | C66: =VLOOKUP(E66,Dorsales!A:I,2,FALSE) -> ------- | H66: =IF((F66*60+G66)>B66,0,IF(F66>=A66,((A66*60*2)-F66*60-G66),F66*60+G66)) -> 0 | J66: =IF(H66<30,0,IF(I66=0,0,IF(I66>15,0,32-I66*2))) -> 0 | K66: =IF(I66>100,0,H66+J66) -> 0 | L66: =IF(K66=0,0,K66/K72*1000) -> 0
A67: 7 | B67: 510 | C67: =VLOOKUP(E67,Dorsales!A:I,2,FALSE) -> ------- | H67: =IF((F67*60+G67)>B67,0,IF(F67>=A67,((A67*60*2)-F67*60-G67),F67*60+G67)) -> 0 | J67: =IF(H67<30,0,IF(I67=0,0,IF(I67>15,0,32-I67*2))) -> 0 | K67: =IF(I67>100,0,H67+J67) -> 0 | L67: =IF(K67=0,0,K67/K72*1000) -> 0
A68: 7 | B68: 510 | C68: =VLOOKUP(E68,Dorsales!A:I,2,FALSE) -> ------- | H68: =IF((F68*60+G68)>B68,0,IF(F68>=A68,((A68*60*2)-F68*60-G68),F68*60+G68)) -> 0 | J68: =IF(H68<30,0,IF(I68=0,0,IF(I68>15,0,32-I68*2))) -> 0 | K68: =IF(I68>100,0,H68+J68) -> 0 | L68: =IF(K68=0,0,K68/K72*1000) -> 0
A69: 7 | B69: 510 | C69: =VLOOKUP(E69,Dorsales!A:I,2,FALSE) -> ------- | H69: =IF((F69*60+G69)>B69,0,IF(F69>=A69,((A69*60*2)-F69*60-G69),F69*60+G69)) -> 0 | J69: =IF(H69<30,0,IF(I69=0,0,IF(I69>15,0,32-I69*2))) -> 0 | K69: =IF(I69>100,0,H69+J69) -> 0 | L69: =IF(K69=0,0,K69/K72*1000) -> 0
A70: 7 | B70: 510 | C70: =VLOOKUP(E70,Dorsales!A:I,2,FALSE) -> ------- | H70: =IF((F70*60+G70)>B70,0,IF(F70>=A70,((A70*60*2)-F70*60-G70),F70*60+G70)) -> 0 | J70: =IF(H70<30,0,IF(I70=0,0,IF(I70>15,0,32-I70*2))) -> 0 | K70: =IF(I70>100,0,H70+J70) -> 0 | L70: =IF(K70=0,0,K70/K72*1000) -> 0
D72: Tiempo de Vuelo | F72: =A61 -> 7 | H72: Max. Ptos.Reales | K72: =MAX(K61:K70) -> 0
D79: Vuelo 6 | G79: MINIMANGA 4
C80: Concursante | D80: Juez | E80: DORSAL | F80: minutos | G80: segundos | H80: P.Vuelo | I80: m.Toma | J80: P.Toma | K80: P.Reales | L80: P.FAI
A81: 7 | B81: 510 | C81: =VLOOKUP(E81,Dorsales!A:I,2,FALSE) -> ------- | H81: =IF((F81*60+G81)>B81,0,IF(F81>=A81,((A81*60*2)-F81*60-G81),F81*60+G81)) -> 0 | J81: =IF(H81<30,0,IF(I81=0,0,IF(I81>15,0,32-I81*2))) -> 0 | K81: =IF(I81>100,0,H81+J81) -> 0 | L81: =IF(K81=0,0,K81/K92*1000) -> 0
A82: 7 | B82: 510 | C82: =VLOOKUP(E82,Dorsales!A:I,2,FALSE) -> ------- | H82: =IF((F82*60+G82)>B82,0,IF(F82>=A82,((A82*60*2)-F82*60-G82),F82*60+G82)) -> 0 | J82: =IF(H82<30,0,IF(I82=0,0,IF(I82>15,0,32-I82*2))) -> 0 | K82: =IF(I82>100,0,H82+J82) -> 0 | L82: =IF(K82=0,0,K82/K92*1000) -> 0
A83: 7 | B83: 510 | C83: =VLOOKUP(E83,Dorsales!A:I,2,FALSE) -> ------- | H83: =IF((F83*60+G83)>B83,0,IF(F83>=A83,((A83*60*2)-F83*60-G83),F83*60+G83)) -> 0 | J83: =IF(H83<30,0,IF(I83=0,0,IF(I83>15,0,32-I83*2))) -> 0 | K83: =IF(I83>100,0,H83+J83) -> 0 | L83: =IF(K83=0,0,K83/K92*1000) -> 0
A84: 7 | B84: 510 | C84: =VLOOKUP(E84,Dorsales!A:I,2,FALSE) -> ------- | H84: =IF((F84*60+G84)>B84,0,IF(F84>=A84,((A84*60*2)-F84*60-G84),F84*60+G84)) -> 0 | J84: =IF(H84<30,0,IF(I84=0,0,IF(I84>15,0,32-I84*2))) -> 0 | K84: =IF(I84>100,0,H84+J84) -> 0 | L84: =IF(K84=0,0,K84/K92*1000) -> 0
A85: 7 | B85: 510 | C85: =VLOOKUP(E85,Dorsales!A:I,2,FALSE) -> ------- | H85: =IF((F85*60+G85)>B85,0,IF(F85>=A85,((A85*60*2)-F85*60-G85),F85*60+G85)) -> 0 | J85: =IF(H85<30,0,IF(I85=0,0,IF(I85>15,0,32-I85*2))) -> 0 | K85: =IF(I85>100,0,H85+J85) -> 0 | L85: =IF(K85=0,0,K85/K92*1000) -> 0
A86: 7 | B86: 510 | C86: =VLOOKUP(E86,Dorsales!A:I,2,FALSE) -> ------- | H86: =IF((F86*60+G86)>B86,0,IF(F86>=A86,((A86*60*2)-F86*60-G86),F86*60+G86)) -> 0 | J86: =IF(H86<30,0,IF(I86=0,0,IF(I86>15,0,32-I86*2))) -> 0 | K86: =IF(I86>100,0,H86+J86) -> 0 | L86: =IF(K86=0,0,K86/K92*1000) -> 0
A87: 7 | B87: 510 | C87: =VLOOKUP(E87,Dorsales!A:I,2,FALSE) -> ------- | H87: =IF((F87*60+G87)>B87,0,IF(F87>=A87,((A87*60*2)-F87*60-G87),F87*60+G87)) -> 0 | J87: =IF(H87<30,0,IF(I87=0,0,IF(I87>15,0,32-I87*2))) -> 0 | K87: =IF(I87>100,0,H87+J87) -> 0 | L87: =IF(K87=0,0,K87/K92*1000) -> 0
A88: 7 | B88: 510 | C88: =VLOOKUP(E88,Dorsales!A:I,2,FALSE) -> ------- | H88: =IF((F88*60+G88)>B88,0,IF(F88>=A88,((A88*60*2)-F88*60-G88),F88*60+G88)) -> 0 | J88: =IF(H88<30,0,IF(I88=0,0,IF(I88>15,0,32-I88*2))) -> 0 | K88: =IF(I88>100,0,H88+J88) -> 0 | L88: =IF(K88=0,0,K88/K92*1000) -> 0
A89: 7 | B89: 510 | C89: =VLOOKUP(E89,Dorsales!A:I,2,FALSE) -> ------- | H89: =IF((F89*60+G89)>B89,0,IF(F89>=A89,((A89*60*2)-F89*60-G89),F89*60+G89)) -> 0 | J89: =IF(H89<30,0,IF(I89=0,0,IF(I89>15,0,32-I89*2))) -> 0 | K89: =IF(I89>100,0,H89+J89) -> 0 | L89: =IF(K89=0,0,K89/K92*1000) -> 0
A90: 7 | B90: 510 | C90: =VLOOKUP(E90,Dorsales!A:I,2,FALSE) -> ------- | H90: =IF((F90*60+G90)>B90,0,IF(F90>=A90,((A90*60*2)-F90*60-G90),F90*60+G90)) -> 0 | J90: =IF(H90<30,0,IF(I90=0,0,IF(I90>15,0,32-I90*2))) -> 0 | K90: =IF(I90>100,0,H90+J90) -> 0 | L90: =IF(K90=0,0,K90/K92*1000) -> 0
D92: Tiempo de Vuelo | F92: =A81 -> 7 | H92: Max. Ptos.Reales | K92: =MAX(K81:K90) -> 0
E101: 1
E102: 2
E103: 3
E104: 4
E105: 5
E106: 6
E107: 7
E108: 8
E109: 9
E110: 10
E111: 11
E112: 12
... E140: 40

Sheet Clasificacion
C1: =Dorsales!A1 -> F5J -2013, Nuevo Alastur 24/05/13, Campeonato de Asturias y 2ª de la Liga
C3: DOR | D3: Vuelo 1 | F3: Vuelo 2 | H3: Vuelo 3 | J3: Vuelo 4 | L3: Vuelo 5 | N3: Vuelo 6 | P3: FAI | Q3: Amb. | S3: FAI
A4: Puesto | B4: NOMBRE | C4: SAL | D4: Real | E4: FAI | F4: Real | G4: FAI | H4: Real | I4: FAI | J4: Real | K4: FAI | L4: Real | M4: FAI | N4: Real | O4: FAI | P4: TOTAL | Q4: Lic.(*) | S4: Prueba
A5: 1 | B5: =VLOOKUP(C5,Dorsales!A:I,2,FALSE) -> José Antonio Orviz | C5: 3 | D5: 430.24 | E5: 1000 | F5: 313.6 | G5: 958.58169 | H5: 330.07 | I5: 928.12755 | J5: 446.85 | K5: 1000 | L5: 448.44 | M5: 1000 | N5: 355.53 | O5: 848.70259 | P5: 5735.4118 | Q5: =VLOOKUP(C5,Dorsales!A:L,4,FALSE) -> 0 | S5: 1000
A6: 2 | B6: =VLOOKUP(C6,Dorsales!A:I,2,FALSE) -> Miguel de la Torre | C6: 1 | D6: 325.57 | E6: 756.71718 | F6: 314.3 | G6: 960.72138 | H6: 355.5 | I6: 999.63445 | J6: 442.81 | K6: 990.95893 | L6: 411.25 | M6: 917.06806 | N6: 387.78 | O6: 925.6881 | P6: 5550.7881 | Q6: =VLOOKUP(C6,Dorsales!A:L,4,FALSE) -> 0 | S6: =IF(P6>0,P6*1000/P$5,0) -> 967.80986
A7: 3 | B7: =VLOOKUP(C7,Dorsales!A:I,2,FALSE) -> José Antonio Papin | C7: 2 | D7: 387.91 | E7: 901.61305 | F7: 327.15 | G7: 1000 | H7: 268.15 | I7: 754.014 | J7: 440.03 | K7: 984.73761 | L7: 401.44 | M7: 895.19222 | N7: 418.91 | O7: 1000 | P7: 5535.5569 | Q7: =VLOOKUP(C7,Dorsales!A:L,4,FALSE) -> 0 | S7: =IF(P7>0,P7*1000/P$5,0) -> 965.15421
A8: 4 | B8: =VLOOKUP(C8,Dorsales!A:I,2,FALSE) -> Luis Antonio Presol | C8: 4 | D8: 299.81 | E8: 696.84362 | F8: 321.72 | G8: 983.40211 | H8: 355.63 | I8: 1000 | J8: 437.44 | K8: 978.94148 | L8: 434.97 | M8: 969.96254 | N8: 377.58 | O8: 901.33919 | P8: 5530.4889 | Q8: =VLOOKUP(C8,Dorsales!A:L,4,FALSE) -> 0 | S8: =IF(P8>0,P8*1000/P$5,0) -> 964.27059
A9: 5 | B9: =VLOOKUP(C9,Dorsales!A:I,2,FALSE) -> Alejandro Gil | C9: 5 | D9: 357.85 | E9: 831.74507 | F9: 259.28 | G9: 792.54165 | H9: 211.47 | I9: 594.63487 | J9: 415.24 | K9: 929.26038 | L9: 337.22 | M9: 751.98466 | N9: 0 | O9: 0 | P9: 3900.1666 | Q9: =VLOOKUP(C9,Dorsales!A:L,4,FALSE) -> 0 | S9: =IF(P9>0,P9*1000/P$5,0) -> 680.0151
A10: 6 | B10: =VLOOKUP(C10,Dorsales!A:I,2,FALSE) -> 0 | C10: 6 | D10: 0 | E10: 0 | F10: 0 | G10: 0 | H10: 0 | I10: 0 | J10: 0 | K10: 0 | L10: 0 | M10: 0 | N10: 0 | O10: 0 | P10: 0 | Q10: =VLOOKUP(C10,Dorsales!A:L,4,FALSE) -> 0 | S10: =IF(P10>0,P10*1000/P$5,0) -> 0
A11: 7 | B11: =VLOOKUP(C11,Dorsales!A:I,2,FALSE) -> 0 | C11: 7 | D11: 0 | E11: 0 | F11: 0 | G11: 0 | H11: 0 | I11: 0 | J11: 0 | K11: 0 | L11: 0 | M11: 0 | N11: 0 | O11: 0 | P11: 0 | Q11: =VLOOKUP(C11,Dorsales!A:L,4,FALSE) -> 0 | S11: =IF(P11>0,P11*1000/P$5,0) -> 0
A12: 8 | B12: =VLOOKUP(C12,Dorsales!A:I,2,FALSE) -> 0 | C12: 8 | D12: 0 | E12: 0 | F12: 0 | G12: 0 | H12: 0 | I12: 0 | J12: 0 | K12: 0 | L12: 0 | M12: 0 | N12: 0 | O12: 0 | P12: 0 | Q12: =VLOOKUP(C12,Dorsales!A:L,4,FALSE) -> 0 | S12: =IF(P12>0,P12*1000/P$5,0) -> 0
A13: 9 | B13: =VLOOKUP(C13,Dorsales!A:I,2,FALSE) -> 0 | C13: 9 | D13: 0 | E13: 0 | F13: 0 | G13: 0 | H13: 0 | I13: 0 | J13: 0 | K13: 0 | L13: 0 | M13: 0 | N13: 0 | O13: 0 | P13: 0 | Q13: =VLOOKUP(C13,Dorsales!A:L,4,FALSE) -> 0 | S13: =IF(P13>0,P13*1000/P$5,0) -> 0
A14: 10 | B14: =VLOOKUP(C14,Dorsales!A:I,2,FALSE) -> 0 | C14: 10 | D14: 0 | E14: 0 | F14: 0 | G14: 0 | H14: 0 | I14: 0 | J14: 0 | K14: 0 | L14: 0 | M14: 0 | N14: 0 | O14: 0 | P14: 0 | Q14: =VLOOKUP(C14,Dorsales!A:L,4,FALSE) -> 0 | S14: =IF(P14>0,P14*1000/P$5,0) -> 0
A15: 11 | B15: =VLOOKUP(C15,Dorsales!A:I,2,FALSE) -> 0 | C15: 11 | D15: 0 | E15: 0 | F15: 0 | G15: 0 | H15: 0 | I15: 0 | J15: 0 | K15: 0 | L15: 0 | M15: 0 | N15: 0 | O15: 0 | P15: 0 | Q15: =VLOOKUP(C15,Dorsales!A:L,4,FALSE) -> 0 | S15: =IF(P15>0,P15*1000/P$5,0) -> 0
A16: 12 | B16: =VLOOKUP(C16,Dorsales!A:I,2,FALSE) -> 0 | C16: 12 | D16: 0 | E16: 0 | F16: 0 | G16: 0 | H16: 0 | I16: 0 | J16: 0 | K16: 0 | L16: 0 | M16: 0 | N16: 0 | O16: 0 | P16: 0 | Q16: =VLOOKUP(C16,Dorsales!A:L,4,FALSE) -> 0 | S16: =IF(P16>0,P16*1000/P$5,0) -> 0
A17: 13 | B17: =VLOOKUP(C17,Dorsales!A:I,2,FALSE) -> 0 | C17: 13 | D17: 0 | E17: 0 | F17: 0 | G17: 0 | H17: 0 | I17: 0 | J17: 0 | K17: 0 | L17: 0 | M17: 0 | N17: 0 | O17: 0 | P17: 0 | Q17: =VLOOKUP(C17,Dorsales!A:L,4,FALSE) -> 0 | S17: =IF(P17>0,P17*1000/P$5,0) -> 0
... A44: 40 | B44: =VLOOKUP(C44,Dorsales!A:I,2,FALSE) | C44: 40 | D44: 0 | E44: 0 | F44: 0 | G44: 0 | H44: 0 | I44: 0 | J44: 0 | K44: 0 | L44: 0 | M44: 0 | N44: 0 | O44: 0 | P44: 0 | Q44: =VLOOKUP(C44,Dorsales!A:L,4,FALSE) | S44: =IF(P44>0,P44*1000/P$5,0) -> 0
L46: El director de competición:
B47: (*) Comienzan con 'N' las licencias de carácter Nacional y con 'A' las de carácter autonómico

Sheet Puntuaciones
A1: =Dorsales!A1 -> F5J -2013, Nuevo Alastur 24/05/13, Campeonato de Asturias y 2ª de la Liga
B2: DOR | C2: Vuelo 1 | E2: Vuelo 2 | G2: Vuelo 3 | I2: Vuelo 4 | K2: Vuelo 5 | M2: Vuelo 6 | O2: Total
A3: NOMBRE | B3: SAL | C3: Real | D3: FAI | E3: Real | F3: FAI | G3: Real | H3: FAI | I3: Real | J3: FAI | K3: Real | L3: FAI | M3: Real | N3: FAI | O3: FAI
A4: =VLOOKUP(B4,Dorsales!A:B,2) -> Miguel de la Torre | B4: 1 | C4: =VLOOKUP(B4,'Vuelo 1'!E:K,7,FALSE) -> 325.57 | D4: =VLOOKUP(B4,'Vuelo 1'!E:L,8,FALSE) -> 756.71718 | E4: =VLOOKUP(B4,'Vuelo 2'!E:K,7,FALSE) -> 314.3 | F4: =VLOOKUP(B4,'Vuelo 2'!E:L,8,FALSE) -> 960.72138 | G4: =VLOOKUP(B4,'Vuelo 3'!E:K,7,FALSE) -> 355.5 | H4: =VLOOKUP(B4,'Vuelo 3'!E:L,8,FALSE) -> 999.63445 | I4: =VLOOKUP(B4,'Vuelo 4'!E:K,7,FALSE) -> 442.81 | J4: =VLOOKUP(B4,'Vuelo 4'!E:L,8,FALSE) -> 990.95893 | K4: =VLOOKUP(B4,'Vuelo 5'!E:K,7,FALSE) -> 411.25 | L4: =VLOOKUP(B4,'Vuelo 5'!E:L,8,FALSE) -> 917.06806 | M4: =VLOOKUP(B4,'Vuelo 6'!E:K,7,FALSE) -> 387.78 | N4: =VLOOKUP(B4,'Vuelo 6'!E:L,8,FALSE) -> 925.6881 | O4: =D4+F4+H4+J4+L4+N4 -> 5550.7881
A5: =VLOOKUP(B5,Dorsales!A:B,2) -> José Antonio Papin | B5: 2 | C5: =VLOOKUP(B5,'Vuelo 1'!E:K,7,FALSE) -> 387.91 | D5: =VLOOKUP(B5,'Vuelo 1'!E:L,8,FALSE) -> 901.61305 | E5: =VLOOKUP(B5,'Vuelo 2'!E:K,7,FALSE) -> 327.15 | F5: =VLOOKUP(B5,'Vuelo 2'!E:L,8,FALSE) -> 1000 | G5: =VLOOKUP(B5,'Vuelo 3'!E:K,7,FALSE) -> 268.15 | H5: =VLOOKUP(B5,'Vuelo 3'!E:L,8,FALSE) -> 754.014 | I5: =VLOOKUP(B5,'Vuelo 4'!E:K,7,FALSE) -> 440.03 | J5: =VLOOKUP(B5,'Vuelo 4'!E:L,8,FALSE) -> 984.73761 | K5: =VLOOKUP(B5,'Vuelo 5'!E:K,7,FALSE) -> 401.44 | L5: =VLOOKUP(B5,'Vuelo 5'!E:L,8,FALSE) -> 895.19222 | M5: =VLOOKUP(B5,'Vuelo 6'!E:K,7,FALSE) -> 418.91 | N5: =VLOOKUP(B5,'Vuelo 6'!E:L,8,FALSE) -> 1000 | O5: =D5+F5+H5+J5+L5+N5 -> 5535.5569
A6: =VLOOKUP(B6,Dorsales!A:B,2) -> José Antonio Orviz | B6: 3 | C6: =VLOOKUP(B6,'Vuelo 1'!E:K,7,FALSE) -> 430.24 | D6: =VLOOKUP(B6,'Vuelo 1'!E:L,8,FALSE) -> 1000 | E6: =VLOOKUP(B6,'Vuelo 2'!E:K,7,FALSE) -> 313.6 | F6: =VLOOKUP(B6,'Vuelo 2'!E:L,8,FALSE) -> 958.58169 | G6: =VLOOKUP(B6,'Vuelo 3'!E:K,7,FALSE) -> 330.07 | H6: =VLOOKUP(B6,'Vuelo 3'!E:L,8,FALSE) -> 928.12755 | I6: =VLOOKUP(B6,'Vuelo 4'!E:K,7,FALSE) -> 446.85 | J6: =VLOOKUP(B6,'Vuelo 4'!E:L,8,FALSE) -> 1000 | K6: =VLOOKUP(B6,'Vuelo 5'!E:K,7,FALSE) -> 448.44 | L6: =VLOOKUP(B6,'Vuelo 5'!E:L,8,FALSE) -> 1000 | M6: =VLOOKUP(B6,'Vuelo 6'!E:K,7,FALSE) -> 355.53 | N6: =VLOOKUP(B6,'Vuelo 6'!E:L,8,FALSE) -> 848.70259 | O6: =D6+F6+H6+J6+L6+N6 -> 5735.4118
A7: =VLOOKUP(B7,Dorsales!A:B,2) -> Luis Antonio Presol | B7: 4 | C7: =VLOOKUP(B7,'Vuelo 1'!E:K,7,FALSE) -> 299.81 | D7: =VLOOKUP(B7,'Vuelo 1'!E:L,8,FALSE) -> 696.84362 | E7: =VLOOKUP(B7,'Vuelo 2'!E:K,7,FALSE) -> 321.72 | F7: =VLOOKUP(B7,'Vuelo 2'!E:L,8,FALSE) -> 983.40211 | G7: =VLOOKUP(B7,'Vuelo 3'!E:K,7,FALSE) -> 355.63 | H7: =VLOOKUP(B7,'Vuelo 3'!E:L,8,FALSE) -> 1000 | I7: =VLOOKUP(B7,'Vuelo 4'!E:K,7,FALSE) -> 437.44 | J7: =VLOOKUP(B7,'Vuelo 4'!E:L,8,FALSE) -> 978.94148 | K7: =VLOOKUP(B7,'Vuelo 5'!E:K,7,FALSE) -> 434.97 | L7: =VLOOKUP(B7,'Vuelo 5'!E:L,8,FALSE) -> 969.96254 | M7: =VLOOKUP(B7,'Vuelo 6'!E:K,7,FALSE) -> 377.58 | N7: =VLOOKUP(B7,'Vuelo 6'!E:L,8,FALSE) -> 901.33919 | O7: =D7+F7+H7+J7+L7+N7 -> 5530.4889
A8: =VLOOKUP(B8,Dorsales!A:B,2) -> Alejandro Gil | B8: 5 | C8: =VLOOKUP(B8,'Vuelo 1'!E:K,7,FALSE) -> 357.85 | D8: =VLOOKUP(B8,'Vuelo 1'!E:L,8,FALSE) -> 831.74507 | E8: =VLOOKUP(B8,'Vuelo 2'!E:K,7,FALSE) -> 259.28 | F8: =VLOOKUP(B8,'Vuelo 2'!E:L,8,FALSE) -> 792.54165 | G8: =VLOOKUP(B8,'Vuelo 3'!E:K,7,FALSE) -> 211.47 | H8: =VLOOKUP(B8,'Vuelo 3'!E:L,8,FALSE) -> 594.63487 | I8: =VLOOKUP(B8,'Vuelo 4'!E:K,7,FALSE) -> 415.24 | J8: =VLOOKUP(B8,'Vuelo 4'!E:L,8,FALSE) -> 929.26038 | K8: =VLOOKUP(B8,'Vuelo 5'!E:K,7,FALSE) -> 337.22 | L8: =VLOOKUP(B8,'Vuelo 5'!E:L,8,FALSE) -> 751.98466 | M8: =VLOOKUP(B8,'Vuelo 6'!E:K,7,FALSE) -> 0 | N8: =VLOOKUP(B8,'Vuelo 6'!E:L,8,FALSE) -> 0 | O8: =D8+F8+H8+J8+L8+N8 -> 3900.1666
A9: =VLOOKUP(B9,Dorsales!A:B,2) -> 0 | B9: 6 | C9: =VLOOKUP(B9,'Vuelo 1'!E:K,7,FALSE) -> 0 | D9: =VLOOKUP(B9,'Vuelo 1'!E:L,8,FALSE) -> 0 | E9: =VLOOKUP(B9,'Vuelo 2'!E:K,7,FALSE) -> 0 | F9: =VLOOKUP(B9,'Vuelo 2'!E:L,8,FALSE) -> 0 | G9: =VLOOKUP(B9,'Vuelo 3'!E:K,7,FALSE) -> 0 | H9: =VLOOKUP(B9,'Vuelo 3'!E:L,8,FALSE) -> 0 | I9: =VLOOKUP(B9,'Vuelo 4'!E:K,7,FALSE) -> 0 | J9: =VLOOKUP(B9,'Vuelo 4'!E:L,8,FALSE) -> 0 | K9: =VLOOKUP(B9,'Vuelo 5'!E:K,7,FALSE) -> 0 | L9: =VLOOKUP(B9,'Vuelo 5'!E:L,8,FALSE) -> 0 | M9: =VLOOKUP(B9,'Vuelo 6'!E:K,7,FALSE) -> 0 | N9: =VLOOKUP(B9,'Vuelo 6'!E:L,8,FALSE) -> 0 | O9: =D9+F9+H9+J9+L9+N9 -> 0
A10: =VLOOKUP(B10,Dorsales!A:B,2) -> 0 | B10: 7 | C10: =VLOOKUP(B10,'Vuelo 1'!E:K,7,FALSE) -> 0 | D10: =VLOOKUP(B10,'Vuelo 1'!E:L,8,FALSE) -> 0 | E10: =VLOOKUP(B10,'Vuelo 2'!E:K,7,FALSE) -> 0 | F10: =VLOOKUP(B10,'Vuelo 2'!E:L,8,FALSE) -> 0 | G10: =VLOOKUP(B10,'Vuelo 3'!E:K,7,FALSE) -> 0 | H10: =VLOOKUP(B10,'Vuelo 3'!E:L,8,FALSE) -> 0 | I10: =VLOOKUP(B10,'Vuelo 4'!E:K,7,FALSE) -> 0 | J10: =VLOOKUP(B10,'Vuelo 4'!E:L,8,FALSE) -> 0 | K10: =VLOOKUP(B10,'Vuelo 5'!E:K,7,FALSE) -> 0 | L10: =VLOOKUP(B10,'Vuelo 5'!E:L,8,FALSE) -> 0 | M10: =VLOOKUP(B10,'Vuelo 6'!E:K,7,FALSE) -> 0 | N10: =VLOOKUP(B10,'Vuelo 6'!E:L,8,FALSE) -> 0 | O10: =D10+F10+H10+J10+L10+N10 -> 0
A11: =VLOOKUP(B11,Dorsales!A:B,2) -> 0 | B11: 8 | C11: =VLOOKUP(B11,'Vuelo 1'!E:K,7,FALSE) -> 0 | D11: =VLOOKUP(B11,'Vuelo 1'!E:L,8,FALSE) -> 0 | E11: =VLOOKUP(B11,'Vuelo 2'!E:K,7,FALSE) -> 0 | F11: =VLOOKUP(B11,'Vuelo 2'!E:L,8,FALSE) -> 0 | G11: =VLOOKUP(B11,'Vuelo 3'!E:K,7,FALSE) -> 0 | H11: =VLOOKUP(B11,'Vuelo 3'!E:L,8,FALSE) -> 0 | I11: =VLOOKUP(B11,'Vuelo 4'!E:K,7,FALSE) -> 0 | J11: =VLOOKUP(B11,'Vuelo 4'!E:L,8,FALSE) -> 0 | K11: =VLOOKUP(B11,'Vuelo 5'!E:K,7,FALSE) -> 0 | L11: =VLOOKUP(B11,'Vuelo 5'!E:L,8,FALSE) -> 0 | M11: =VLOOKUP(B11,'Vuelo 6'!E:K,7,FALSE) -> 0 | N11: =VLOOKUP(B11,'Vuelo 6'!E:L,8,FALSE) -> 0 | O11: =D11+F11+H11+J11+L11+N11 -> 0
A12: =VLOOKUP(B12,Dorsales!A:B,2) -> 0 | B12: 9 | C12: =VLOOKUP(B12,'Vuelo 1'!E:K,7,FALSE) -> 0 | D12: =VLOOKUP(B12,'Vuelo 1'!E:L,8,FALSE) -> 0 | E12: =VLOOKUP(B12,'Vuelo 2'!E:K,7,FALSE) -> 0 | F12: =VLOOKUP(B12,'Vuelo 2'!E:L,8,FALSE) -> 0 | G12: =VLOOKUP(B12,'Vuelo 3'!E:K,7,FALSE) -> 0 | H12: =VLOOKUP(B12,'Vuelo 3'!E:L,8,FALSE) -> 0 | I12: =VLOOKUP(B12,'Vuelo 4'!E:K,7,FALSE) -> 0 | J12: =VLOOKUP(B12,'Vuelo 4'!E:L,8,FALSE) -> 0 | K12: =VLOOKUP(B12,'Vuelo 5'!E:K,7,FALSE) -> 0 | L12: =VLOOKUP(B12,'Vuelo 5'!E:L,8,FALSE) -> 0 | M12: =VLOOKUP(B12,'Vuelo 6'!E:K,7,FALSE) -> 0 | N12: =VLOOKUP(B12,'Vuelo 6'!E:L,8,FALSE) -> 0 | O12: =D12+F12+H12+J12+L12+N12 -> 0
A13: =VLOOKUP(B13,Dorsales!A:B,2) -> 0 | B13: 10 | C13: =VLOOKUP(B13,'Vuelo 1'!E:K,7,FALSE) -> 0 | D13: =VLOOKUP(B13,'Vuelo 1'!E:L,8,FALSE) -> 0 | E13: =VLOOKUP(B13,'Vuelo 2'!E:K,7,FALSE) -> 0 | F13: =VLOOKUP(B13,'Vuelo 2'!E:L,8,FALSE) -> 0 | G13: =VLOOKUP(B13,'Vuelo 3'!E:K,7,FALSE) -> 0 | H13: =VLOOKUP(B13,'Vuelo 3'!E:L,8,FALSE) -> 0 | I13: =VLOOKUP(B13,'Vuelo 4'!E:K,7,FALSE) -> 0 | J13: =VLOOKUP(B13,'Vuelo 4'!E:L,8,FALSE) -> 0 | K13: =VLOOKUP(B13,'Vuelo 5'!E:K,7,FALSE) -> 0 | L13: =VLOOKUP(B13,'Vuelo 5'!E:L,8,FALSE) -> 0 | M13: =VLOOKUP(B13,'Vuelo 6'!E:K,7,FALSE) -> 0 | N13: =VLOOKUP(B13,'Vuelo 6'!E:L,8,FALSE) -> 0 | O13: =D13+F13+H13+J13+L13+N13 -> 0
A14: =VLOOKUP(B14,Dorsales!A:B,2) -> 0 | B14: 11 | C14: =VLOOKUP(B14,'Vuelo 1'!E:K,7,FALSE) -> 0 | D14: =VLOOKUP(B14,'Vuelo 1'!E:L,8,FALSE) -> 0 | E14: =VLOOKUP(B14,'Vuelo 2'!E:K,7,FALSE) -> 0 | F14: =VLOOKUP(B14,'Vuelo 2'!E:L,8,FALSE) -> 0 | G14: =VLOOKUP(B14,'Vuelo 3'!E:K,7,FALSE) -> 0 | H14: =VLOOKUP(B14,'Vuelo 3'!E:L,8,FALSE) -> 0 | I14: =VLOOKUP(B14,'Vuelo 4'!E:K,7,FALSE) -> 0 | J14: =VLOOKUP(B14,'Vuelo 4'!E:L,8,FALSE) -> 0 | K14: =VLOOKUP(B14,'Vuelo 5'!E:K,7,FALSE) -> 0 | L14: =VLOOKUP(B14,'Vuelo 5'!E:L,8,FALSE) -> 0 | M14: =VLOOKUP(B14,'Vuelo 6'!E:K,7,FALSE) -> 0 | N14: =VLOOKUP(B14,'Vuelo 6'!E:L,8,FALSE) -> 0 | O14: =D14+F14+H14+J14+L14+N14 -> 0
A15: =VLOOKUP(B15,Dorsales!A:B,2) -> 0 | B15: 12 | C15: =VLOOKUP(B15,'Vuelo 1'!E:K,7,FALSE) -> 0 | D15: =VLOOKUP(B15,'Vuelo 1'!E:L,8,FALSE) -> 0 | E15: =VLOOKUP(B15,'Vuelo 2'!E:K,7,FALSE) -> 0 | F15: =VLOOKUP(B15,'Vuelo 2'!E:L,8,FALSE) -> 0 | G15: =VLOOKUP(B15,'Vuelo 3'!E:K,7,FALSE) -> 0 | H15: =VLOOKUP(B15,'Vuelo 3'!E:L,8,FALSE) -> 0 | I15: =VLOOKUP(B15,'Vuelo 4'!E:K,7,FALSE) -> 0 | J15: =VLOOKUP(B15,'Vuelo 4'!E:L,8,FALSE) -> 0 | K15: =VLOOKUP(B15,'Vuelo 5'!E:K,7,FALSE) -> 0 | L15: =VLOOKUP(B15,'Vuelo 5'!E:L,8,FALSE) -> 0 | M15: =VLOOKUP(B15,'Vuelo 6'!E:K,7,FALSE) -> 0 | N15: =VLOOKUP(B15,'Vuelo 6'!E:L,8,FALSE) -> 0 | O15: =D15+F15+H15+J15+L15+N15 -> 0
... A43: =VLOOKUP(B43,Dorsales!A:B,2) | B43: 40 | C43: =VLOOKUP(B43,'Vuelo 1'!E:K,7,FALSE) -> 0 | D43: =VLOOKUP(B43,'Vuelo 1'!E:L,8,FALSE) -> 0 | E43: =VLOOKUP(B43,'Vuelo 2'!E:K,7,FALSE) -> 0 | F43: =VLOOKUP(B43,'Vuelo 2'!E:L,8,FALSE) -> 0 | G43: =VLOOKUP(B43,'Vuelo 3'!E:K,7,FALSE) -> 0 | H43: =VLOOKUP(B43,'Vuelo 3'!E:L,8,FALSE) -> 0 | I43: =VLOOKUP(B43,'Vuelo 4'!E:K,7,FALSE) -> 0 | J43: =VLOOKUP(B43,'Vuelo 4'!E:L,8,FALSE) -> 0 | K43: =VLOOKUP(B43,'Vuelo 5'!E:K,7,FALSE) -> 0 | L43: =VLOOKUP(B43,'Vuelo 5'!E:L,8,FALSE) -> 0 | M43: =VLOOKUP(B43,'Vuelo 6'!E:K,7,FALSE) -> 0 | N43: =VLOOKUP(B43,'Vuelo 6'!E:L,8,FALSE) -> 0 | O43: =D43+F43+H43+J43+L43+N43 -> 0

Sheet Toma Datos
A1: JUEZ/BASE: | B1: 9 | D1: Vuelo: | F1: 6 | H1: Mini Manga: | J1: 3 | K1: Frecuencia: | M1: =VLOOKUP($B3,Dorsales!A:I,5,FALSE) -> 0
A3: DORSAL: | B3: 6 | D3: =VLOOKUP($B3,Dorsales!A:I,2,FALSE) -> 0
A6: Crono Total: | F6: Min. | H6: Seg. | J6: Centesimas
B8: Toma: | C8: De 1 a 15 | F8: metros (medidos al morro del avión)
C10: +15
C11: +100
A13: +
A15: JUEZ/BASE: | D15: Vuelo: | H15: Mini Manga: | K15: Frecuencia: | M15: =VLOOKUP($B17,Dorsales!A:I,5,FALSE) -> 0
A17: DORSAL: | D17: =VLOOKUP($B17,Dorsales!A:I,2,FALSE) -> -------
A20: Crono Total: | F20: Min. | H20: Seg. | J20: Centesimas
B22: Toma: | C22: De 1 a 15 | F22: metros (medidos al morro del avión)
C24: +15
C25: +100
A27: +
A29: JUEZ/BASE: | D29: Vuelo: | H29: Mini Manga: | K29: Frecuencia: | M29: =VLOOKUP($B31,Dorsales!A:I,5,FALSE) -> 0
A31: DORSAL: | D31: =VLOOKUP($B31,Dorsales!A:I,2,FALSE) -> -------
A34: Crono Total: | F34: Min. | H34: Seg. | J34: Centesimas
B36: Toma: | C36: De 1 a 15 | F36: metros (medidos al morro del avión)
C38: +15
C39: +100
A41: +
A43: JUEZ/BASE: | D43: Vuelo: | H43: Mini Manga: | K43: Frecuencia: | M43: =VLOOKUP($B45,Dorsales!A:I,5,FALSE) -> 0
A45: DORSAL: | D45: =VLOOKUP($B45,Dorsales!A:I,2,FALSE) -> -------
A48: Crono Total: | F48: Min. | H48: Seg. | J48: Centesimas
B50: Toma: | C50: De 1 a 15 | F50: metros (medidos al morro del avión)
C52: +15
C53: +100
A55: +
A57: JUEZ/BASE: | D57: Vuelo: | H57: Mini Manga: | K57: Frecuencia: | M57: =VLOOKUP($B59,Dorsales!A:I,5,FALSE) -> 0
A59: DORSAL: | D59: =VLOOKUP($B59,Dorsales!A:I,2,FALSE) -> -------
A62: Crono Total: | F62: Min. | H62: Seg. | J62: Centesimas
B64: Toma: | C64: De 1 a 15 | F64: metros (medidos al morro del avión)
C66: +15
C67: +100
A69: +
A71: JUEZ/BASE: | D71: Vuelo: | H71: Mini Manga: | K71: Frecuencia: | M71: =VLOOKUP($B73,Dorsales!A:I,5,FALSE) -> 0
A73: DORSAL: | D73: =VLOOKUP($B73,Dorsales!A:I,2,FALSE) -> -------
A76: Crono Total: | F76: Min. | H76: Seg. | J76: Centesimas
B78: Toma: | C78: De 1 a 15 | F78: metros (medidos al morro del avión)
C80: +15
C81: +100
A83: +
A85: JUEZ/BASE: | D85: Vuelo: | H85: Mini Manga: | K85: Frecuencia: | M85: =VLOOKUP($B87,Dorsales!A:I,5,FALSE) -> 0
A87: DORSAL: | D87: =VLOOKUP($B87,Dorsales!A:I,2,FALSE) -> -------
A90: Crono Total: | F90: Min. | H90: Seg. | J90: Centesimas
B92: Toma: | C92: De 1 a 15 | F92: metros (medidos al morro del avión)
C94: +15
C95: +100
A97: +

Sheet Hoja Participante
A1: Dorsal: | B1: 27 | C1: Nombre: | E1: =VLOOKUP($B1,Dorsales!A:I,2,FALSE) -> 0
A4: VUELO: | B4: 1 | C4: Minimanga: | E4: 3 | J4: Frecuencia: | M4: =VLOOKUP($B$1,Dorsales!A:I,5,FALSE) -> 0
A7: Crono Total: | F7: Min. | H7: Seg. | J7: Centesimas
B9: Toma: | C9: De 1 a 15 | F9: metros (medidos al morro del avión)
M10: Juez/Base: | O10: 9
C11: +15
C12: +100
A16: VUELO: | B16: 2 | C16: Minimanga: | E16: 2 | J16: Frecuencia: | M16: =VLOOKUP($B$1,Dorsales!A:I,5,FALSE) -> 0
A19: Crono Total: | F19: Min. | H19: Seg. | J19: Centesimas
B21: Toma: | C21: De 1 a 15 | F21: metros (medidos al morro del avión)
M22: Juez/Base: | O22: 8
C23: +15
C24: +100
A28: VUELO: | B28: 3 | C28: Minimanga: | E28: 3 | J28: Frecuencia: | M28: =VLOOKUP($B$1,Dorsales!A:I,5,FALSE) -> 0
A31: Crono Total: | F31: Min. | H31: Seg. | J31: Centesimas
B33: Toma: | C33: De 1 a 15 | F33: metros (medidos al morro del avión)
M34: Juez/Base: | O34: 7
C35: +15
C36: +100
A40: VUELO: | B40: 4 | C40: Minimanga: | E40: 2 | J40: Frecuencia: | M40: =VLOOKUP($B$1,Dorsales!A:I,5,FALSE) -> 0
A43: Crono Total: | F43: Min. | H43: Seg. | J43: Centesimas
B45: Toma: | C45: De 1 a 15 | F45: metros (medidos al morro del avión)
M46: Juez/Base: | O46: 3
C47: +15
C48: +100
A52: VUELO: | B52: 5 | C52: Minimanga: | E52: 1 | J52: Frecuencia: | M52: =VLOOKUP($B$1,Dorsales!A:I,5,FALSE) -> 0
A55: Crono Total: | F55: Min. | H55: Seg. | J55: Centesimas
B57: Toma: | C57: De 1 a 15 | F57: metros (medidos al morro del avión)
M58: Juez/Base: | O58: 4
C59: +15
C60: +100
A64: VUELO: | B64: 6 | C64: Minimanga: | E64: 2 | J64: Frecuencia: | M64: =VLOOKUP($B$1,Dorsales!A:I,5,FALSE) -> 0
A67: Crono Total: | F67: Min. | H67: Seg. | J67: Centesimas
B69: Toma: | C69: De 1 a 15 | F69: metros (medidos al morro del avión)
M70: Juez/Base: | O70: 6
C71: +15
C72: +100
A76: REPESCA | J76: Frecuencia: | M76: =VLOOKUP($B$1,Dorsales!A:I,5,FALSE) -> 0
A79: Crono Total: | F79: Min. | H79: Seg. | J79: Centesimas
B81: Toma: | C81: De 1 a 15 | F81: metros (medidos al morro del avión)
M82: Juez/Base:
C83: +15
C84: +100
