Workbook

Sheet Instrucciones
A2: Ultimo cambio:
A3: 28/Junio/2006: Las macros creadas se pueden ejecutar pulsando los 'botones' correspondientes para rellenar o borrar la Clasificación
A4: 20/Junio/2006: Se crea una macro en la hoja de 'Clasificación' para rellenar esta y sacar la clasificación. La macro se ejecuta con la combinación: Ctrl+Mayus+o. Se amplia con las centesimas el valor de los segundos de vuelo. Se modifica la hoja de toma de datos. Se añade un decimal a los puntos de vuelo y totales.
A7: 24/Mayo/2006: Si se pierde una parte o se aterriza a mas de 100 metros la puntuación es cero. No estaba recogido en el calculo automático, ni en la hojilla de toma de datos. Se incluye hoja datos participante.
A10: Las hojas estan protegidas. Solo se pueden introducir datos en las celdas que no se corresponden a calculos, aquellas que se usan para la toma de datos de los Jueces.
A12: DORSALES: Una vez cerrada la inscripción y sorteados los dorsales, se daran de alta los concursantes según el orden que les correspondió.
A14: Vuelo n: Hay seis hojas, una para cada vuelo de los concursantes. Estan divididas en cuatro minimangas, cada una de diez participantes. La introducción de los datos se hará según se realicen los vuelos, no importando el orden de los dorsales
A15: En cada una de las hojas de vuelos existe una primera 'minimanga' denominada "de repesca" que sólo se usará caso de realizarse ésta. Como de ésta minimanga sólo servirian las puntuaciones que mejoraran la anterior, a los concursantes que no le sirvan los punto obtenidos se sumará 50 a su número de dorsal
A17: Puntuaciones: En esta hoja tendremos el resumen de las puntuaciones de todos los participantes en todas las mangas
A19: Nota: En las filas 101 a 140 (ambas incluidas) de la columna D de las tablas de vuelos están 'escritos' los dorsales del 1 al 40 a los efectos de evitar mensajes en las celdas que, o no se introdujo dato, el dorsal no vuela, etc...
A21: Clasificación: Usar la combinación de teclas "" Control+Mayusculas+o (letra o) "", ejecuta una macro que realiza lo siguiente: En esta hoja COPIAREMOS de la hoja de Puntuaciones, todos los datos de los participantes (desde DORSAL hasta TOTAL FAI), con la opción copy.. Edit/Paste Special/Values. Luego procederemos a su clasificación por la columna de TOTAL FAI.
A23: Estas hojas, aunque están protegidas, no tiene contraseña.

Sheet Control Vuelos
B1: =Dorsales!A1 -> F5J -2013, Nuevo Alastur 24/05/13, Campeonato de Asturias y 2ª de la Liga
B3: Vuelo 1 | K3: Vuelo 4
A4: PUNTO TOMA | B4: MiniM 1 | C4: 0 | D4: MiniM 2 | E4: 0.0069444444 | F4: MiniM 3 | G4: 0.013888889 | H4: MiniM 4 | I4: ---- | J4: PUNTO TOMA | K4: MiniM 1 | L4: 0.0625 | M4: MiniM 2 | N4: 0.069444444 | O4: MiniM 3 | P4: 0.076388889 | Q4: MiniM 4 | R4: ----
B5: Dorsal | C5: Frec. | D5: Dorsal | E5: Frec. | F5: Dorsal | G5: Frec. | H5: Dorsal | I5: Frec. | K5: Dorsal | L5: Frec. | M5: Dorsal | N5: Frec. | O5: Dorsal | P5: Frec. | Q5: Dorsal | R5: Frec.
A6: 1 | B6: 19 | C6: =IF(VLOOKUP(B6,Dorsales!A:E,5,FALSE)=0,"",VLOOKUP(B6,Dorsales!A:E,5)) | D6: 2 | E6: =IF(VLOOKUP(D6,Dorsales!A:E,5,FALSE)=0,"",VLOOKUP(D6,Dorsales!A:E,5)) | F6: 8 | G6: =IF(VLOOKUP(F6,Dorsales!A:E,5,FALSE)=0,"",VLOOKUP(F6,Dorsales!A:E,5)) | I6: =IF(VLOOKUP(H6,Dorsales!A:E,5,FALSE)=0,"",VLOOKUP(H6,Dorsales!A:E,5)) | J6: 1 | K6: 16 | L6: =IF(VLOOKUP(K6,Dorsales!A:E,5,FALSE)=0,"",VLOOKUP(K6,Dorsales!A:E,5)) | M6: 26 | N6: =IF(VLOOKUP(M6,Dorsales!A:E,5,FALSE)=0,"",VLOOKUP(M6,Dorsales!A:E,5)) | O6: 22 | P6: =IF(VLOOKUP(O6,Dorsales!A:E,5,FALSE)=0,"",VLOOKUP(O6,Dorsales!A:E,5)) | R6: =IF(VLOOKUP(Q6,Dorsales!A:E,5,FALSE)=0,"",VLOOKUP(Q6,Dorsales!A:E,5))
A7: 2 | B7: 24 | C7: =IF(VLOOKUP(B7,Dorsales!A:E,5,FALSE)=0,"",VLOOKUP(B7,Dorsales!A:E,5)) | D7: 21 | E7: =IF(VLOOKUP(D7,Dorsales!A:E,5,FALSE)=0,"",VLOOKUP(D7,Dorsales!A:E,5)) | F7: 12 | G7: =IF(VLOOKUP(F7,Dorsales!A:E,5,FALSE)=0,"",VLOOKUP(F7,Dorsales!A:E,5)) | I7: =IF(VLOOKUP(H7,Dorsales!A:E,5,FALSE)=0,"",VLOOKUP(H7,Dorsales!A:E,5)) | J7: 2 | K7: 14 | L7: =IF(VLOOKUP(K7,Dorsales!A:E,5,FALSE)=0,"",VLOOKUP(K7,Dorsales!A:E,5)) | M7: 15 | N7: =IF(VLOOKUP(M7,Dorsales!A:E,5,FALSE)=0,"",VLOOKUP(M7,Dorsales!A:E,5)) | O7: 27 | P7: =IF(VLOOKUP(O7,Dorsales!A:E,5,FALSE)=0,"",VLOOKUP(O7,Dorsales!A:E,5)) | R7: =IF(VLOOKUP(Q7,Dorsales!A:E,5,FALSE)=0,"",VLOOKUP(Q7,Dorsales!A:E,5))
A8: 3 | B8: 16 | C8: =IF(VLOOKUP(B8,Dorsales!A:E,5,FALSE)=0,"",VLOOKUP(B8,Dorsales!A:E,5)) | D8: 11 | E8: =IF(VLOOKUP(D8,Dorsales!A:E,5,FALSE)=0,"",VLOOKUP(D8,Dorsales!A:E,5)) | F8: 5 | G8: =IF(VLOOKUP(F8,Dorsales!A:E,5,FALSE)=0,"",VLOOKUP(F8,Dorsales!A:E,5)) | I8: =IF(VLOOKUP(H8,Dorsales!A:E,5,FALSE)=0,"",VLOOKUP(H8,Dorsales!A:E,5)) | J8: 3 | K8: 5 | L8: =IF(VLOOKUP(K8,Dorsales!A:E,5,FALSE)=0,"",VLOOKUP(K8,Dorsales!A:E,5)) | M8: 12 | N8: =IF(VLOOKUP(M8,Dorsales!A:E,5,FALSE)=0,"",VLOOKUP(M8,Dorsales!A:E,5)) | O8: 19 | P8: =IF(VLOOKUP(O8,Dorsales!A:E,5,FALSE)=0,"",VLOOKUP(O8,Dorsales!A:E,5)) | R8: =IF(VLOOKUP(Q8,Dorsales!A:E,5,FALSE)=0,"",VLOOKUP(Q8,Dorsales!A:E,5))
A9: 4 | B9: 28 | C9: =IF(VLOOKUP(B9,Dorsales!A:E,5,FALSE)=0,"",VLOOKUP(B9,Dorsales!A:E,5)) | D9: 9 | E9: =IF(VLOOKUP(D9,Dorsales!A:E,5,FALSE)=0,"",VLOOKUP(D9,Dorsales!A:E,5)) | F9: 7 | G9: =IF(VLOOKUP(F9,Dorsales!A:E,5,FALSE)=0,"",VLOOKUP(F9,Dorsales!A:E,5)) | I9: =IF(VLOOKUP(H9,Dorsales!A:E,5,FALSE)=0,"",VLOOKUP(H9,Dorsales!A:E,5)) | J9: 4 | K9: 25 | L9: =IF(VLOOKUP(K9,Dorsales!A:E,5,FALSE)=0,"",VLOOKUP(K9,Dorsales!A:E,5)) | M9: 17 | N9: =IF(VLOOKUP(M9,Dorsales!A:E,5,FALSE)=0,"",VLOOKUP(M9,Dorsales!A:E,5)) | O9: 6 | P9: =IF(VLOOKUP(O9,Dorsales!A:E,5,FALSE)=0,"",VLOOKUP(O9,Dorsales!A:E,5)) | R9: =IF(VLOOKUP(Q9,Dorsales!A:E,5,FALSE)=0,"",VLOOKUP(Q9,Dorsales!A:E,5))
A10: 5 | B10: 23 | C10: =IF(VLOOKUP(B10,Dorsales!A:E,5,FALSE)=0,"",VLOOKUP(B10,Dorsales!A:E,5)) | D10: 13 | E10: =IF(VLOOKUP(D10,Dorsales!A:E,5,FALSE)=0,"",VLOOKUP(D10,Dorsales!A:E,5)) | F10: 29 | G10: =IF(VLOOKUP(F10,Dorsales!A:E,5,FALSE)=0,"",VLOOKUP(F10,Dorsales!A:E,5)) | I10: =IF(VLOOKUP(H10,Dorsales!A:E,5,FALSE)=0,"",VLOOKUP(H10,Dorsales!A:E,5)) | J10: 5 | K10: 28 | L10: =IF(VLOOKUP(K10,Dorsales!A:E,5,FALSE)=0,"",VLOOKUP(K10,Dorsales!A:E,5)) | M10: 29 | N10: =IF(VLOOKUP(M10,Dorsales!A:E,5,FALSE)=0,"",VLOOKUP(M10,Dorsales!A:E,5)) | O10: 8 | P10: =IF(VLOOKUP(O10,Dorsales!A:E,5,FALSE)=0,"",VLOOKUP(O10,Dorsales!A:E,5)) | R10: =IF(VLOOKUP(Q10,Dorsales!A:E,5,FALSE)=0,"",VLOOKUP(Q10,Dorsales!A:E,5))
A11: 6 | B11: 1 | C11: =IF(VLOOKUP(B11,Dorsales!A:E,5,FALSE)=0,"",VLOOKUP(B11,Dorsales!A:E,5)) | D11: 6 | E11: =IF(VLOOKUP(D11,Dorsales!A:E,5,FALSE)=0,"",VLOOKUP(D11,Dorsales!A:E,5)) | F11: 17 | G11: =IF(VLOOKUP(F11,Dorsales!A:E,5,FALSE)=0,"",VLOOKUP(F11,Dorsales!A:E,5)) | I11: =IF(VLOOKUP(H11,Dorsales!A:E,5,FALSE)=0,"",VLOOKUP(H11,Dorsales!A:E,5)) | J11: 6 | K11: 2 | L11: =IF(VLOOKUP(K11,Dorsales!A:E,5,FALSE)=0,"",VLOOKUP(K11,Dorsales!A:E,5)) | M11: 3 | N11: =IF(VLOOKUP(M11,Dorsales!A:E,5,FALSE)=0,"",VLOOKUP(M11,Dorsales!A:E,5)) | O11: 11 | P11: =IF(VLOOKUP(O11,Dorsales!A:E,5,FALSE)=0,"",VLOOKUP(O11,Dorsales!A:E,5)) | R11: =IF(VLOOKUP(Q11,Dorsales!A:E,5,FALSE)=0,"",VLOOKUP(Q11,Dorsales!A:E,5))
A12: 7 | B12: 27 | C12: =IF(VLOOKUP(B12,Dorsales!A:E,5,FALSE)=0,"",VLOOKUP(B12,Dorsales!A:E,5)) | D12: 15 | E12: =IF(VLOOKUP(D12,Dorsales!A:E,5,FALSE)=0,"",VLOOKUP(D12,Dorsales!A:E,5)) | F12: 26 | G12: =IF(VLOOKUP(F12,Dorsales!A:E,5,FALSE)=0,"",VLOOKUP(F12,Dorsales!A:E,5)) | I12: =IF(VLOOKUP(H12,Dorsales!A:E,5,FALSE)=0,"",VLOOKUP(H12,Dorsales!A:E,5)) | J12: 7 | K12: 13 | L12: =IF(VLOOKUP(K12,Dorsales!A:E,5,FALSE)=0,"",VLOOKUP(K12,Dorsales!A:E,5)) | M12: 21 | N12: =IF(VLOOKUP(M12,Dorsales!A:E,5,FALSE)=0,"",VLOOKUP(M12,Dorsales!A:E,5)) | O12: 23 | P12: =IF(VLOOKUP(O12,Dorsales!A:E,5,FALSE)=0,"",VLOOKUP(O12,Dorsales!A:E,5)) | R12: =IF(VLOOKUP(Q12,Dorsales!A:E,5,FALSE)=0,"",VLOOKUP(Q12,Dorsales!A:E,5))
A13: 8 | B13: 4 | C13: =IF(VLOOKUP(B13,Dorsales!A:E,5,FALSE)=0,"",VLOOKUP(B13,Dorsales!A:E,5)) | D13: 14 | E13: =IF(VLOOKUP(D13,Dorsales!A:E,5,FALSE)=0,"",VLOOKUP(D13,Dorsales!A:E,5)) | F13: 25 | G13: =IF(VLOOKUP(F13,Dorsales!A:E,5,FALSE)=0,"",VLOOKUP(F13,Dorsales!A:E,5)) | I13: =IF(VLOOKUP(H13,Dorsales!A:E,5,FALSE)=0,"",VLOOKUP(H13,Dorsales!A:E,5)) | J13: 8 | K13: 4 | L13: =IF(VLOOKUP(K13,Dorsales!A:E,5,FALSE)=0,"",VLOOKUP(K13,Dorsales!A:E,5)) | M13: 24 | N13: =IF(VLOOKUP(M13,Dorsales!A:E,5,FALSE)=0,"",VLOOKUP(M13,Dorsales!A:E,5)) | O13: 10 | P13: =IF(VLOOKUP(O13,Dorsales!A:E,5,FALSE)=0,"",VLOOKUP(O13,Dorsales!A:E,5)) | R13: =IF(VLOOKUP(Q13,Dorsales!A:E,5,FALSE)=0,"",VLOOKUP(Q13,Dorsales!A:E,5))
A14: 9 | B14: 10 | C14: =IF(VLOOKUP(B14,Dorsales!A:E,5,FALSE)=0,"",VLOOKUP(B14,Dorsales!A:E,5)) | D14: 3 | E14: =IF(VLOOKUP(D14,Dorsales!A:E,5,FALSE)=0,"",VLOOKUP(D14,Dorsales!A:E,5)) | F14: 22 | G14: =IF(VLOOKUP(F14,Dorsales!A:E,5,FALSE)=0,"",VLOOKUP(F14,Dorsales!A:E,5)) | I14: =IF(VLOOKUP(H14,Dorsales!A:E,5,FALSE)=0,"",VLOOKUP(H14,Dorsales!A:E,5)) | J14: 9 | K14: 1 | L14: =IF(VLOOKUP(K14,Dorsales!A:E,5,FALSE)=0,"",VLOOKUP(K14,Dorsales!A:E,5)) | M14: 9 | N14: =IF(VLOOKUP(M14,Dorsales!A:E,5,FALSE)=0,"",VLOOKUP(M14,Dorsales!A:E,5)) | O14: 7 | P14: =IF(VLOOKUP(O14,Dorsales!A:E,5,FALSE)=0,"",VLOOKUP(O14,Dorsales!A:E,5)) | R14: =IF(VLOOKUP(Q14,Dorsales!A:E,5,FALSE)=0,"",VLOOKUP(Q14,Dorsales!A:E,5))
A15: 10 | C15: =IF(VLOOKUP(B15,Dorsales!A:E,5,FALSE)=0,"",VLOOKUP(B15,Dorsales!A:E,5)) | E15: =IF(VLOOKUP(D15,Dorsales!A:E,5,FALSE)=0,"",VLOOKUP(D15,Dorsales!A:E,5)) | G15: =IF(VLOOKUP(F15,Dorsales!A:E,5,FALSE)=0,"",VLOOKUP(F15,Dorsales!A:E,5)) | I15: =IF(VLOOKUP(H15,Dorsales!A:E,5,FALSE)=0,"",VLOOKUP(H15,Dorsales!A:E,5)) | J15: 10 | L15: =IF(VLOOKUP(K15,Dorsales!A:E,5,FALSE)=0,"",VLOOKUP(K15,Dorsales!A:E,5)) | N15: =IF(VLOOKUP(M15,Dorsales!A:E,5,FALSE)=0,"",VLOOKUP(M15,Dorsales!A:E,5)) | P15: =IF(VLOOKUP(O15,Dorsales!A:E,5,FALSE)=0,"",VLOOKUP(O15,Dorsales!A:E,5)) | R15: =IF(VLOOKUP(Q15,Dorsales!A:E,5,FALSE)=0,"",VLOOKUP(Q15,Dorsales!A:E,5))
B18: Vuelo 2 | K18: Vuelo 5
A19: PUNTO TOMA | B19: MiniM 1 | C19: 0.020833333 | D19: MiniM 2 | E19: 0.027777778 | F19: MiniM 3 | G19: 0.034722222 | H19: MiniM 4 | I19: ---- | J19: PUNTO TOMA | K19: MiniM 1 | L19: 0.083333333 | M19: MiniM 2 | N19: 0.090277778 | O19: MiniM 3 | P19: 0.097222222 | Q19: MiniM 4 | R19: ----
B20: Dorsal | C20: Frec. | D20: Dorsal | E20: Frec. | F20: Dorsal | G20: Frec. | H20: Dorsal | I20: Frec. | K20: Dorsal | L20: Frec. | M20: Dorsal | N20: Frec. | O20: Dorsal | P20: Frec. | Q20: Dorsal | R20: Frec.
A21: 1 | B21: 8 | C21: =IF(VLOOKUP(B21,Dorsales!A:E,5,FALSE)=0,"",VLOOKUP(B21,Dorsales!A:E,5)) | D21: 5 | E21: =IF(VLOOKUP(D21,Dorsales!A:E,5,FALSE)=0,"",VLOOKUP(D21,Dorsales!A:E,5)) | F21: 16 | G21: =IF(VLOOKUP(F21,Dorsales!A:E,5,FALSE)=0,"",VLOOKUP(F21,Dorsales!A:E,5)) | I21: =IF(VLOOKUP(H21,Dorsales!A:E,5,FALSE)=0,"",VLOOKUP(H21,Dorsales!A:E,5)) | J21: 1 | K21: 1 | L21: =IF(VLOOKUP(K21,Dorsales!A:E,5,FALSE)=0,"",VLOOKUP(K21,Dorsales!A:E,5)) | M21: 13 | N21: =IF(VLOOKUP(M21,Dorsales!A:E,5,FALSE)=0,"",VLOOKUP(M21,Dorsales!A:E,5)) | O21: 10 | P21: =IF(VLOOKUP(O21,Dorsales!A:E,5,FALSE)=0,"",VLOOKUP(O21,Dorsales!A:E,5)) | R21: =IF(VLOOKUP(Q21,Dorsales!A:E,5,FALSE)=0,"",VLOOKUP(Q21,Dorsales!A:E,5))
A22: 2 | B22: 19 | C22: =IF(VLOOKUP(B22,Dorsales!A:E,5,FALSE)=0,"",VLOOKUP(B22,Dorsales!A:E,5)) | D22: 13 | E22: =IF(VLOOKUP(D22,Dorsales!A:E,5,FALSE)=0,"",VLOOKUP(D22,Dorsales!A:E,5)) | F22: 7 | G22: =IF(VLOOKUP(F22,Dorsales!A:E,5,FALSE)=0,"",VLOOKUP(F22,Dorsales!A:E,5)) | I22: =IF(VLOOKUP(H22,Dorsales!A:E,5,FALSE)=0,"",VLOOKUP(H22,Dorsales!A:E,5)) | J22: 2 | K22: 7 | L22: =IF(VLOOKUP(K22,Dorsales!A:E,5,FALSE)=0,"",VLOOKUP(K22,Dorsales!A:E,5)) | M22: 8 | N22: =IF(VLOOKUP(M22,Dorsales!A:E,5,FALSE)=0,"",VLOOKUP(M22,Dorsales!A:E,5)) | O22: 5 | P22: =IF(VLOOKUP(O22,Dorsales!A:E,5,FALSE)=0,"",VLOOKUP(O22,Dorsales!A:E,5)) | R22: =IF(VLOOKUP(Q22,Dorsales!A:E,5,FALSE)=0,"",VLOOKUP(Q22,Dorsales!A:E,5))
A23: 3 | B23: 2 | C23: =IF(VLOOKUP(B23,Dorsales!A:E,5,FALSE)=0,"",VLOOKUP(B23,Dorsales!A:E,5)) | D23: 4 | E23: =IF(VLOOKUP(D23,Dorsales!A:E,5,FALSE)=0,"",VLOOKUP(D23,Dorsales!A:E,5)) | F23: 10 | G23: =IF(VLOOKUP(F23,Dorsales!A:E,5,FALSE)=0,"",VLOOKUP(F23,Dorsales!A:E,5)) | I23: =IF(VLOOKUP(H23,Dorsales!A:E,5,FALSE)=0,"",VLOOKUP(H23,Dorsales!A:E,5)) | J23: 3 | K23: 12 | L23: =IF(VLOOKUP(K23,Dorsales!A:E,5,FALSE)=0,"",VLOOKUP(K23,Dorsales!A:E,5)) | M23: 25 | N23: =IF(VLOOKUP(M23,Dorsales!A:E,5,FALSE)=0,"",VLOOKUP(M23,Dorsales!A:E,5)) | O23: 24 | P23: =IF(VLOOKUP(O23,Dorsales!A:E,5,FALSE)=0,"",VLOOKUP(O23,Dorsales!A:E,5)) | R23: =IF(VLOOKUP(Q23,Dorsales!A:E,5,FALSE)=0,"",VLOOKUP(Q23,Dorsales!A:E,5))
A24: 4 | B24: 27 | C24: =IF(VLOOKUP(B24,Dorsales!A:E,5,FALSE)=0,"",VLOOKUP(B24,Dorsales!A:E,5)) | D24: 17 | E24: =IF(VLOOKUP(D24,Dorsales!A:E,5,FALSE)=0,"",VLOOKUP(D24,Dorsales!A:E,5)) | F24: 15 | G24: =IF(VLOOKUP(F24,Dorsales!A:E,5,FALSE)=0,"",VLOOKUP(F24,Dorsales!A:E,5)) | I24: =IF(VLOOKUP(H24,Dorsales!A:E,5,FALSE)=0,"",VLOOKUP(H24,Dorsales!A:E,5)) | J24: 4 | K24: 6 | L24: =IF(VLOOKUP(K24,Dorsales!A:E,5,FALSE)=0,"",VLOOKUP(K24,Dorsales!A:E,5)) | M24: 15 | N24: =IF(VLOOKUP(M24,Dorsales!A:E,5,FALSE)=0,"",VLOOKUP(M24,Dorsales!A:E,5)) | O24: 23 | P24: =IF(VLOOKUP(O24,Dorsales!A:E,5,FALSE)=0,"",VLOOKUP(O24,Dorsales!A:E,5)) | R24: =IF(VLOOKUP(Q24,Dorsales!A:E,5,FALSE)=0,"",VLOOKUP(Q24,Dorsales!A:E,5))
A25: 5 | B25: 11 | C25: =IF(VLOOKUP(B25,Dorsales!A:E,5,FALSE)=0,"",VLOOKUP(B25,Dorsales!A:E,5)) | D25: 22 | E25: =IF(VLOOKUP(D25,Dorsales!A:E,5,FALSE)=0,"",VLOOKUP(D25,Dorsales!A:E,5)) | F25: 14 | G25: =IF(VLOOKUP(F25,Dorsales!A:E,5,FALSE)=0,"",VLOOKUP(F25,Dorsales!A:E,5)) | I25: =IF(VLOOKUP(H25,Dorsales!A:E,5,FALSE)=0,"",VLOOKUP(H25,Dorsales!A:E,5)) | J25: 5 | K25: 26 | L25: =IF(VLOOKUP(K25,Dorsales!A:E,5,FALSE)=0,"",VLOOKUP(K25,Dorsales!A:E,5)) | M25: 2 | N25: =IF(VLOOKUP(M25,Dorsales!A:E,5,FALSE)=0,"",VLOOKUP(M25,Dorsales!A:E,5)) | O25: 9 | P25: =IF(VLOOKUP(O25,Dorsales!A:E,5,FALSE)=0,"",VLOOKUP(O25,Dorsales!A:E,5)) | R25: =IF(VLOOKUP(Q25,Dorsales!A:E,5,FALSE)=0,"",VLOOKUP(Q25,Dorsales!A:E,5))
A26: 6 | B26: 3 | C26: =IF(VLOOKUP(B26,Dorsales!A:E,5,FALSE)=0,"",VLOOKUP(B26,Dorsales!A:E,5)) | D26: 6 | E26: =IF(VLOOKUP(D26,Dorsales!A:E,5,FALSE)=0,"",VLOOKUP(D26,Dorsales!A:E,5)) | F26: 21 | G26: =IF(VLOOKUP(F26,Dorsales!A:E,5,FALSE)=0,"",VLOOKUP(F26,Dorsales!A:E,5)) | I26: =IF(VLOOKUP(H26,Dorsales!A:E,5,FALSE)=0,"",VLOOKUP(H26,Dorsales!A:E,5)) | J26: 6 | K26: 3 | L26: =IF(VLOOKUP(K26,Dorsales!A:E,5,FALSE)=0,"",VLOOKUP(K26,Dorsales!A:E,5)) | M26: 11 | N26: =IF(VLOOKUP(M26,Dorsales!A:E,5,FALSE)=0,"",VLOOKUP(M26,Dorsales!A:E,5)) | O26: 19 | P26: =IF(VLOOKUP(O26,Dorsales!A:E,5,FALSE)=0,"",VLOOKUP(O26,Dorsales!A:E,5)) | R26: =IF(VLOOKUP(Q26,Dorsales!A:E,5,FALSE)=0,"",VLOOKUP(Q26,Dorsales!A:E,5))
A27: 7 | B27: 9 | C27: =IF(VLOOKUP(B27,Dorsales!A:E,5,FALSE)=0,"",VLOOKUP(B27,Dorsales!A:E,5)) | D27: 26 | E27: =IF(VLOOKUP(D27,Dorsales!A:E,5,FALSE)=0,"",VLOOKUP(D27,Dorsales!A:E,5)) | F27: 29 | G27: =IF(VLOOKUP(F27,Dorsales!A:E,5,FALSE)=0,"",VLOOKUP(F27,Dorsales!A:E,5)) | I27: =IF(VLOOKUP(H27,Dorsales!A:E,5,FALSE)=0,"",VLOOKUP(H27,Dorsales!A:E,5)) | J27: 7 | K27: 21 | L27: =IF(VLOOKUP(K27,Dorsales!A:E,5,FALSE)=0,"",VLOOKUP(K27,Dorsales!A:E,5)) | M27: 29 | N27: =IF(VLOOKUP(M27,Dorsales!A:E,5,FALSE)=0,"",VLOOKUP(M27,Dorsales!A:E,5)) | O27: 16 | P27: =IF(VLOOKUP(O27,Dorsales!A:E,5,FALSE)=0,"",VLOOKUP(O27,Dorsales!A:E,5)) | R27: =IF(VLOOKUP(Q27,Dorsales!A:E,5,FALSE)=0,"",VLOOKUP(Q27,Dorsales!A:E,5))
A28: 8 | B28: 28 | C28: =IF(VLOOKUP(B28,Dorsales!A:E,5,FALSE)=0,"",VLOOKUP(B28,Dorsales!A:E,5)) | D28: 23 | E28: =IF(VLOOKUP(D28,Dorsales!A:E,5,FALSE)=0,"",VLOOKUP(D28,Dorsales!A:E,5)) | F28: 24 | G28: =IF(VLOOKUP(F28,Dorsales!A:E,5,FALSE)=0,"",VLOOKUP(F28,Dorsales!A:E,5)) | I28: =IF(VLOOKUP(H28,Dorsales!A:E,5,FALSE)=0,"",VLOOKUP(H28,Dorsales!A:E,5)) | J28: 8 | K28: 28 | L28: =IF(VLOOKUP(K28,Dorsales!A:E,5,FALSE)=0,"",VLOOKUP(K28,Dorsales!A:E,5)) | M28: 4 | N28: =IF(VLOOKUP(M28,Dorsales!A:E,5,FALSE)=0,"",VLOOKUP(M28,Dorsales!A:E,5)) | O28: 14 | P28: =IF(VLOOKUP(O28,Dorsales!A:E,5,FALSE)=0,"",VLOOKUP(O28,Dorsales!A:E,5)) | R28: =IF(VLOOKUP(Q28,Dorsales!A:E,5,FALSE)=0,"",VLOOKUP(Q28,Dorsales!A:E,5))
A29: 9 | B29: 12 | C29: =IF(VLOOKUP(B29,Dorsales!A:E,5,FALSE)=0,"",VLOOKUP(B29,Dorsales!A:E,5)) | D29: 1 | E29: =IF(VLOOKUP(D29,Dorsales!A:E,5,FALSE)=0,"",VLOOKUP(D29,Dorsales!A:E,5)) | F29: 25 | G29: =IF(VLOOKUP(F29,Dorsales!A:E,5,FALSE)=0,"",VLOOKUP(F29,Dorsales!A:E,5)) | I29: =IF(VLOOKUP(H29,Dorsales!A:E,5,FALSE)=0,"",VLOOKUP(H29,Dorsales!A:E,5)) | J29: 9 | K29: 22 | L29: =IF(VLOOKUP(K29,Dorsales!A:E,5,FALSE)=0,"",VLOOKUP(K29,Dorsales!A:E,5)) | M29: 27 | N29: =IF(VLOOKUP(M29,Dorsales!A:E,5,FALSE)=0,"",VLOOKUP(M29,Dorsales!A:E,5)) | O29: 17 | P29: =IF(VLOOKUP(O29,Dorsales!A:E,5,FALSE)=0,"",VLOOKUP(O29,Dorsales!A:E,5)) | R29: =IF(VLOOKUP(Q29,Dorsales!A:E,5,FALSE)=0,"",VLOOKUP(Q29,Dorsales!A:E,5))
A30: 10 | C30: =IF(VLOOKUP(B30,Dorsales!A:E,5,FALSE)=0,"",VLOOKUP(B30,Dorsales!A:E,5)) | E30: =IF(VLOOKUP(D30,Dorsales!A:E,5,FALSE)=0,"",VLOOKUP(D30,Dorsales!A:E,5)) | G30: =IF(VLOOKUP(F30,Dorsales!A:E,5,FALSE)=0,"",VLOOKUP(F30,Dorsales!A:E,5)) | I30: =IF(VLOOKUP(H30,Dorsales!A:E,5,FALSE)=0,"",VLOOKUP(H30,Dorsales!A:E,5)) | J30: 10 | L30: =IF(VLOOKUP(K30,Dorsales!A:E,5,FALSE)=0,"",VLOOKUP(K30,Dorsales!A:E,5)) | N30: =IF(VLOOKUP(M30,Dorsales!A:E,5,FALSE)=0,"",VLOOKUP(M30,Dorsales!A:E,5)) | P30: =IF(VLOOKUP(O30,Dorsales!A:E,5,FALSE)=0,"",VLOOKUP(O30,Dorsales!A:E,5)) | R30: =IF(VLOOKUP(Q30,Dorsales!A:E,5,FALSE)=0,"",VLOOKUP(Q30,Dorsales!A:E,5))
B33: Vuelo 3 | K33: Vuelo 6
A34: PUNTO TOMA | B34: MiniM 1 | C34: 0.041666667 | D34: MiniM 2 | E34: 0.048611111 | F34: MiniM 3 | G34: 0.055555556 | H34: MiniM 4 | J34: PUNTO TOMA | K34: MiniM 1 | L34: 0.10416667 | M34: MiniM 2 | N34: 0.11111111 | O34: MiniM 3 | P34: 0.11805556 | Q34: MiniM 4 | R34: ----
B35: Dorsal | C35: Frec. | D35: Dorsal | E35: Frec. | F35: Dorsal | G35: Frec. | H35: Dorsal | I35: Frec. | K35: Dorsal | L35: Frec. | M35: Dorsal | N35: Frec. | O35: Dorsal | P35: Frec. | Q35: Dorsal | R35: Frec.
A36: 1 | B36: 3 | C36: =IF(VLOOKUP(B36,Dorsales!A:E,5,FALSE)=0,"",VLOOKUP(B36,Dorsales!A:E,5)) | D36: 21 | E36: =IF(VLOOKUP(D36,Dorsales!A:E,5,FALSE)=0,"",VLOOKUP(D36,Dorsales!A:E,5)) | F36: 10 | G36: =IF(VLOOKUP(F36,Dorsales!A:E,5,FALSE)=0,"",VLOOKUP(F36,Dorsales!A:E,5)) | I36: =IF(VLOOKUP(H36,Dorsales!A:E,5,FALSE)=0,"",VLOOKUP(H36,Dorsales!A:E,5)) | J36: 1 | K36: 26 | L36: =IF(VLOOKUP(K36,Dorsales!A:E,5,FALSE)=0,"",VLOOKUP(K36,Dorsales!A:E,5)) | M36: 12 | N36: =IF(VLOOKUP(M36,Dorsales!A:E,5,FALSE)=0,"",VLOOKUP(M36,Dorsales!A:E,5)) | O36: 14 | P36: =IF(VLOOKUP(O36,Dorsales!A:E,5,FALSE)=0,"",VLOOKUP(O36,Dorsales!A:E,5)) | R36: =IF(VLOOKUP(Q36,Dorsales!A:E,5,FALSE)=0,"",VLOOKUP(Q36,Dorsales!A:E,5))
A37: 2 | B37: 23 | C37: =IF(VLOOKUP(B37,Dorsales!A:E,5,FALSE)=0,"",VLOOKUP(B37,Dorsales!A:E,5)) | D37: 28 | E37: =IF(VLOOKUP(D37,Dorsales!A:E,5,FALSE)=0,"",VLOOKUP(D37,Dorsales!A:E,5)) | F37: 2 | G37: =IF(VLOOKUP(F37,Dorsales!A:E,5,FALSE)=0,"",VLOOKUP(F37,Dorsales!A:E,5)) | I37: =IF(VLOOKUP(H37,Dorsales!A:E,5,FALSE)=0,"",VLOOKUP(H37,Dorsales!A:E,5)) | J37: 2 | K37: 8 | L37: =IF(VLOOKUP(K37,Dorsales!A:E,5,FALSE)=0,"",VLOOKUP(K37,Dorsales!A:E,5)) | M37: 25 | N37: =IF(VLOOKUP(M37,Dorsales!A:E,5,FALSE)=0,"",VLOOKUP(M37,Dorsales!A:E,5)) | O37: 17 | P37: =IF(VLOOKUP(O37,Dorsales!A:E,5,FALSE)=0,"",VLOOKUP(O37,Dorsales!A:E,5)) | R37: =IF(VLOOKUP(Q37,Dorsales!A:E,5,FALSE)=0,"",VLOOKUP(Q37,Dorsales!A:E,5))
A38: 3 | B38: 5 | C38: =IF(VLOOKUP(B38,Dorsales!A:E,5,FALSE)=0,"",VLOOKUP(B38,Dorsales!A:E,5)) | D38: 12 | E38: =IF(VLOOKUP(D38,Dorsales!A:E,5,FALSE)=0,"",VLOOKUP(D38,Dorsales!A:E,5)) | F38: 25 | G38: =IF(VLOOKUP(F38,Dorsales!A:E,5,FALSE)=0,"",VLOOKUP(F38,Dorsales!A:E,5)) | I38: =IF(VLOOKUP(H38,Dorsales!A:E,5,FALSE)=0,"",VLOOKUP(H38,Dorsales!A:E,5)) | J38: 3 | K38: 27 | L38: =IF(VLOOKUP(K38,Dorsales!A:E,5,FALSE)=0,"",VLOOKUP(K38,Dorsales!A:E,5)) | M38: 19 | N38: =IF(VLOOKUP(M38,Dorsales!A:E,5,FALSE)=0,"",VLOOKUP(M38,Dorsales!A:E,5)) | O38: 21 | P38: =IF(VLOOKUP(O38,Dorsales!A:E,5,FALSE)=0,"",VLOOKUP(O38,Dorsales!A:E,5)) | R38: =IF(VLOOKUP(Q38,Dorsales!A:E,5,FALSE)=0,"",VLOOKUP(Q38,Dorsales!A:E,5))
A39: 4 | B39: 15 | C39: =IF(VLOOKUP(B39,Dorsales!A:E,5,FALSE)=0,"",VLOOKUP(B39,Dorsales!A:E,5)) | D39: 16 | E39: =IF(VLOOKUP(D39,Dorsales!A:E,5,FALSE)=0,"",VLOOKUP(D39,Dorsales!A:E,5)) | F39: 19 | G39: =IF(VLOOKUP(F39,Dorsales!A:E,5,FALSE)=0,"",VLOOKUP(F39,Dorsales!A:E,5)) | I39: =IF(VLOOKUP(H39,Dorsales!A:E,5,FALSE)=0,"",VLOOKUP(H39,Dorsales!A:E,5)) | J39: 4 | K39: 16 | L39: =IF(VLOOKUP(K39,Dorsales!A:E,5,FALSE)=0,"",VLOOKUP(K39,Dorsales!A:E,5)) | M39: 9 | N39: =IF(VLOOKUP(M39,Dorsales!A:E,5,FALSE)=0,"",VLOOKUP(M39,Dorsales!A:E,5)) | O39: 11 | P39: =IF(VLOOKUP(O39,Dorsales!A:E,5,FALSE)=0,"",VLOOKUP(O39,Dorsales!A:E,5)) | R39: =IF(VLOOKUP(Q39,Dorsales!A:E,5,FALSE)=0,"",VLOOKUP(Q39,Dorsales!A:E,5))
A40: 5 | B40: 27 | C40: =IF(VLOOKUP(B40,Dorsales!A:E,5,FALSE)=0,"",VLOOKUP(B40,Dorsales!A:E,5)) | D40: 6 | E40: =IF(VLOOKUP(D40,Dorsales!A:E,5,FALSE)=0,"",VLOOKUP(D40,Dorsales!A:E,5)) | F40: 7 | G40: =IF(VLOOKUP(F40,Dorsales!A:E,5,FALSE)=0,"",VLOOKUP(F40,Dorsales!A:E,5)) | I40: =IF(VLOOKUP(H40,Dorsales!A:E,5,FALSE)=0,"",VLOOKUP(H40,Dorsales!A:E,5)) | J40: 5 | K40: 3 | L40: =IF(VLOOKUP(K40,Dorsales!A:E,5,FALSE)=0,"",VLOOKUP(K40,Dorsales!A:E,5)) | M40: 6 | N40: =IF(VLOOKUP(M40,Dorsales!A:E,5,FALSE)=0,"",VLOOKUP(M40,Dorsales!A:E,5)) | O40: 29 | P40: =IF(VLOOKUP(O40,Dorsales!A:E,5,FALSE)=0,"",VLOOKUP(O40,Dorsales!A:E,5)) | R40: =IF(VLOOKUP(Q40,Dorsales!A:E,5,FALSE)=0,"",VLOOKUP(Q40,Dorsales!A:E,5))
A41: 6 | B41: 9 | C41: =IF(VLOOKUP(B41,Dorsales!A:E,5,FALSE)=0,"",VLOOKUP(B41,Dorsales!A:E,5)) | D41: 24 | E41: =IF(VLOOKUP(D41,Dorsales!A:E,5,FALSE)=0,"",VLOOKUP(D41,Dorsales!A:E,5)) | F41: 1 | G41: =IF(VLOOKUP(F41,Dorsales!A:E,5,FALSE)=0,"",VLOOKUP(F41,Dorsales!A:E,5)) | I41: =IF(VLOOKUP(H41,Dorsales!A:E,5,FALSE)=0,"",VLOOKUP(H41,Dorsales!A:E,5)) | J41: 6 | K41: 13 | L41: =IF(VLOOKUP(K41,Dorsales!A:E,5,FALSE)=0,"",VLOOKUP(K41,Dorsales!A:E,5)) | M41: 28 | N41: =IF(VLOOKUP(M41,Dorsales!A:E,5,FALSE)=0,"",VLOOKUP(M41,Dorsales!A:E,5)) | O41: 7 | P41: =IF(VLOOKUP(O41,Dorsales!A:E,5,FALSE)=0,"",VLOOKUP(O41,Dorsales!A:E,5)) | R41: =IF(VLOOKUP(Q41,Dorsales!A:E,5,FALSE)=0,"",VLOOKUP(Q41,Dorsales!A:E,5))
A42: 7 | B42: 22 | C42: =IF(VLOOKUP(B42,Dorsales!A:E,5,FALSE)=0,"",VLOOKUP(B42,Dorsales!A:E,5)) | D42: 17 | E42: =IF(VLOOKUP(D42,Dorsales!A:E,5,FALSE)=0,"",VLOOKUP(D42,Dorsales!A:E,5)) | F42: 26 | G42: =IF(VLOOKUP(F42,Dorsales!A:E,5,FALSE)=0,"",VLOOKUP(F42,Dorsales!A:E,5)) | I42: =IF(VLOOKUP(H42,Dorsales!A:E,5,FALSE)=0,"",VLOOKUP(H42,Dorsales!A:E,5)) | J42: 7 | K42: 2 | L42: =IF(VLOOKUP(K42,Dorsales!A:E,5,FALSE)=0,"",VLOOKUP(K42,Dorsales!A:E,5)) | M42: 22 | N42: =IF(VLOOKUP(M42,Dorsales!A:E,5,FALSE)=0,"",VLOOKUP(M42,Dorsales!A:E,5)) | O42: 24 | P42: =IF(VLOOKUP(O42,Dorsales!A:E,5,FALSE)=0,"",VLOOKUP(O42,Dorsales!A:E,5)) | R42: =IF(VLOOKUP(Q42,Dorsales!A:E,5,FALSE)=0,"",VLOOKUP(Q42,Dorsales!A:E,5))
A43: 8 | B43: 13 | C43: =IF(VLOOKUP(B43,Dorsales!A:E,5,FALSE)=0,"",VLOOKUP(B43,Dorsales!A:E,5)) | D43: 8 | E43: =IF(VLOOKUP(D43,Dorsales!A:E,5,FALSE)=0,"",VLOOKUP(D43,Dorsales!A:E,5)) | F43: 11 | G43: =IF(VLOOKUP(F43,Dorsales!A:E,5,FALSE)=0,"",VLOOKUP(F43,Dorsales!A:E,5)) | I43: =IF(VLOOKUP(H43,Dorsales!A:E,5,FALSE)=0,"",VLOOKUP(H43,Dorsales!A:E,5)) | J43: 8 | K43: 1 | L43: =IF(VLOOKUP(K43,Dorsales!A:E,5,FALSE)=0,"",VLOOKUP(K43,Dorsales!A:E,5)) | M43: 4 | N43: =IF(VLOOKUP(M43,Dorsales!A:E,5,FALSE)=0,"",VLOOKUP(M43,Dorsales!A:E,5)) | O43: 5 | P43: =IF(VLOOKUP(O43,Dorsales!A:E,5,FALSE)=0,"",VLOOKUP(O43,Dorsales!A:E,5)) | R43: =IF(VLOOKUP(Q43,Dorsales!A:E,5,FALSE)=0,"",VLOOKUP(Q43,Dorsales!A:E,5))
A44: 9 | B44: 14 | C44: =IF(VLOOKUP(B44,Dorsales!A:E,5,FALSE)=0,"",VLOOKUP(B44,Dorsales!A:E,5)) | D44: 29 | E44: =IF(VLOOKUP(D44,Dorsales!A:E,5,FALSE)=0,"",VLOOKUP(D44,Dorsales!A:E,5)) | F44: 4 | G44: =IF(VLOOKUP(F44,Dorsales!A:E,5,FALSE)=0,"",VLOOKUP(F44,Dorsales!A:E,5)) | I44: =IF(VLOOKUP(H44,Dorsales!A:E,5,FALSE)=0,"",VLOOKUP(H44,Dorsales!A:E,5)) | J44: 9 | K44: 10 | L44: =IF(VLOOKUP(K44,Dorsales!A:E,5,FALSE)=0,"",VLOOKUP(K44,Dorsales!A:E,5)) | M44: 15 | N44: =IF(VLOOKUP(M44,Dorsales!A:E,5,FALSE)=0,"",VLOOKUP(M44,Dorsales!A:E,5)) | O44: 23 | P44: =IF(VLOOKUP(O44,Dorsales!A:E,5,FALSE)=0,"",VLOOKUP(O44,Dorsales!A:E,5)) | R44: =IF(VLOOKUP(Q44,Dorsales!A:E,5,FALSE)=0,"",VLOOKUP(Q44,Dorsales!A:E,5))
A45: 10 | C45: =IF(VLOOKUP(B45,Dorsales!A:E,5,FALSE)=0,"",VLOOKUP(B45,Dorsales!A:E,5)) | E45: =IF(VLOOKUP(D45,Dorsales!A:E,5,FALSE)=0,"",VLOOKUP(D45,Dorsales!A:E,5)) | G45: =IF(VLOOKUP(F45,Dorsales!A:E,5,FALSE)=0,"",VLOOKUP(F45,Dorsales!A:E,5)) | I45: =IF(VLOOKUP(H45,Dorsales!A:E,5,FALSE)=0,"",VLOOKUP(H45,Dorsales!A:E,5)) | J45: 10 | L45: =IF(VLOOKUP(K45,Dorsales!A:E,5,FALSE)=0,"",VLOOKUP(K45,Dorsales!A:E,5)) | N45: =IF(VLOOKUP(M45,Dorsales!A:E,5,FALSE)=0,"",VLOOKUP(M45,Dorsales!A:E,5)) | P45: =IF(VLOOKUP(O45,Dorsales!A:E,5,FALSE)=0,"",VLOOKUP(O45,Dorsales!A:E,5)) | R45: =IF(VLOOKUP(Q45,Dorsales!A:E,5,FALSE)=0,"",VLOOKUP(Q45,Dorsales!A:E,5))
...

Sheet Dorsales
A1: F5J -2013, Nuevo Alastur 24/05/13, Campeonato de Asturias y 2ª de la Liga
A2: DORSAL | B2: Nombre | C2: Licencia | D2: Ambito* | E2: FREC. 1 | F2: FREC ALT | G2: Club/Federación | H2: Teléfono/E-mail
A3: 1 | B3: Miguel de la Torre
A4: 2 | B4: José Antonio Papin
A5: 3 | B5: José Antonio Orviz
A6: 4 | B6: Luis Antonio Presol
A7: 5 | B7: Alejandro Gil
A8: 6
A9: 7
A10: 8
A11: 9
A12: 10
A13: 11
A14: 12
A15: 13
A16: 14
A17: 15
A18: 16
A19: 17
... A42: 40
A43: 0 | B43: -------
B45: (*) 'N' las licencias de carácter Nacional y 'A' las de carácter autonómico

Sheet Vuelo 1
D1: Vuelo 1 | G1: MINIMANGA DE 'RE-FLIGHT' | P1: =IF((F7*60+G7)>Instrucciones!C14,0,IF(F7>=Instrucciones!B10,((Instrucciones!B10*60*2)-F7*60-G7),F7*60+G7)) -> 0 | AZ1: =IF(Dorsales!B3<>0,Dorsales!A3,"") -> 1
C2: Concursante | D2: Juez | E2: DORSAL* | F2: minutos | G2: segundos | H2: P.Vuelo | I2: m.Toma | J2: P.Toma | K2: P.Reales | L2: P.FAI | AZ2: =IF(Dorsales!B9<>0,Dorsales!A4,"")
A3: 7 | B3: 510 | C3: =VLOOKUP(E3,Dorsales!A:I,2,FALSE) -> ------- | J3: =IF(H3<30,0,IF(I3=0,0,IF(I3>15,0,32-I3*2))) -> 0 | K3: =IF(I3>100,0,H3+J3) -> 0 | L3: =IF(K3=0,0,K3/K14*1000) -> 0 | AZ3: =IF(Dorsales!B8<>0,Dorsales!A5,"")
A4: 7 | B4: 510 | C4: =VLOOKUP(E4,Dorsales!A:I,2,FALSE) -> ------- | J4: =IF(H4<30,0,IF(I4=0,0,IF(I4>15,0,32-I4*2))) -> 0 | K4: =IF(I4>100,0,H4+J4) -> 0 | L4: =IF(K4=0,0,K4/K14*1000) -> 0 | AZ4: =IF(Dorsales!B16<>0,Dorsales!A6,"")
A5: 7 | B5: 510 | C5: =VLOOKUP(E5,Dorsales!A:I,2,FALSE) -> ------- | J5: =IF(H5<30,0,IF(I5=0,0,IF(I5>15,0,32-I5*2))) -> 0 | K5: =IF(I5>100,0,H5+J5) -> 0 | L5: =IF(K5=0,0,K5/K14*1000) -> 0 | AZ5: =IF(Dorsales!B10<>0,Dorsales!A7,"")
A6: 7 | B6: 510 | C6: =VLOOKUP(E6,Dorsales!A:I,2,FALSE) -> ------- | J6: =IF(H6<30,0,IF(I6=0,0,IF(I6>15,0,32-I6*2))) -> 0 | K6: =IF(I6>100,0,H6+J6) -> 0 | L6: =IF(K6=0,0,K6/K14*1000) -> 0 | AZ6: =IF(Dorsales!B18<>0,Dorsales!A8,"")
A7: 7 | B7: 510 | C7: =VLOOKUP(E7,Dorsales!A:I,2,FALSE) -> ------- | J7: =IF(H7<30,0,IF(I7=0,0,IF(I7>15,0,32-I7*2))) -> 0 | K7: =IF(I7>100,0,H7+J7) -> 0 | L7: =IF(K7=0,0,K7/K14*1000) -> 0 | AZ7: =IF(Dorsales!B12<>0,Dorsales!A9,"")
A8: 7 | B8: 510 | C8: =VLOOKUP(E8,Dorsales!A:I,2,FALSE) -> ------- | J8: =IF(H8<30,0,IF(I8=0,0,IF(I8>15,0,32-I8*2))) -> 0 | K8: =IF(I8>100,0,H8+J8) -> 0 | L8: =IF(K8=0,0,K8/K14*1000) -> 0 | AZ8: =IF(Dorsales!B20<>0,Dorsales!A10,"")
A9: 7 | B9: 510 | C9: =VLOOKUP(E9,Dorsales!A:I,2,FALSE) -> ------- | H9: =IF((F9*60+G9)>B9,0,IF(F9>=A9,((A9*60*2)-F9*60-G9),F9*60+G9)) -> 0 | J9: =IF(H9<30,0,IF(I9=0,0,IF(I9>15,0,32-I9*2))) -> 0 | K9: =IF(I9>100,0,H9+J9) -> 0 | L9: =IF(K9=0,0,K9/K14*1000) -> 0 | AZ9: =IF(Dorsales!B7<>0,Dorsales!A11,"") -> 9
A10: 7 | B10: 510 | C10: =VLOOKUP(E10,Dorsales!A:I,2,FALSE) -> ------- | H10: =IF((F10*60+G10)>B10,0,IF(F10>=A10,((A10*60*2)-F10*60-G10),F10*60+G10)) -> 0 | J10: =IF(H10<30,0,IF(I10=0,0,IF(I10>15,0,32-I10*2))) -> 0 | K10: =IF(I10>100,0,H10+J10) -> 0 | L10: =IF(K10=0,0,K10/K14*1000) -> 0 | AZ10: =IF(Dorsales!B11<>0,Dorsales!A12,"")
A11: 7 | B11: 510 | C11: =VLOOKUP(E11,Dorsales!A:I,2,FALSE) -> ------- | H11: =IF((F11*60+G11)>B11,0,IF(F11>=A11,((A11*60*2)-F11*60-G11),F11*60+G11)) -> 0 | J11: =IF(H11<30,0,IF(I11=0,0,IF(I11>15,0,32-I11*2))) -> 0 | K11: =IF(I11>100,0,H11+J11) -> 0 | L11: =IF(K11=0,0,K11/K14*1000) -> 0 | AZ11: =IF(Dorsales!B23<>0,Dorsales!A13,"")
A12: 7 | B12: 510 | C12: =VLOOKUP(E12,Dorsales!A:I,2,FALSE) -> ------- | H12: =IF((F12*60+G12)>B12,0,IF(F12>=A12,((A12*60*2)-F12*60-G12),F12*60+G12)) -> 0 | J12: =IF(H12<30,0,IF(I12=0,0,IF(I12>15,0,32-I12*2))) -> 0 | K12: =IF(I12>100,0,H12+J12) -> 0 | L12: =IF(K12=0,0,K12/K14*1000) -> 0 | AZ12: =IF(Dorsales!#REF!<>0,Dorsales!A14,"") -> #REF!
D13: *A los dorsales cuya puntuacion no sea la valida se les sumara 50 | AZ13: =IF(Dorsales!#REF!<>0,Dorsales!A15,"") -> #REF!
D14: Tiempo de Vuelo | F14: =A3 -> 7 | H14: Max. Ptos.Reales | K14: =MAX(K3:K12) -> 0 | AZ14: =IF(Dorsales!#REF!<>0,Dorsales!A16,"") -> #REF!
AZ15: =IF(Dorsales!#REF!<>0,Dorsales!A17,"") -> #REF!
AZ16: =IF(Dorsales!#REF!<>0,Dorsales!A18,"") -> #REF!
AZ17: =IF(Dorsales!#REF!<>0,Dorsales!A19,"") -> #REF!
AZ18: =IF(Dorsales!#REF!<>0,Dorsales!A20,"") -> #REF!
D19: Vuelo 1 | G19: MINIMANGA 1 | AZ19: =IF(Dorsales!#REF!<>0,Dorsales!A21,"") -> #REF!
C20: Concursante | D20: Juez | E20: DORSAL | F20: minutos | G20: segundos | H20: P.Vuelo | I20: m.Toma | J20: P.Toma | K20: P.Reales | L20: P.FAI | AZ20: =IF(Dorsales!#REF!<>0,Dorsales!A22,"") -> #REF!
A21: 7 | B21: 510 | C21: =VLOOKUP(E21,Dorsales!A:I,2,FALSE) -> Miguel de la Torre | D21: 1 | E21: 1 | F21: 5 | G21: 17.57 | H21: =IF((F21*60+G21)>B21,0,IF(F21>=A21,((A21*60*2)-F21*60-G21),F21*60+G21)) -> 317.57 | I21: 12 | J21: =IF(H21<30,0,IF(I21=0,0,IF(I21>15,0,32-I21*2))) -> 8 | K21: =IF(I21>100,0,H21+J21) -> 325.57 | L21: =IF(K21=0,0,K21/K32*1000) -> 756.71718 | AZ21: =IF(Dorsales!#REF!<>0,Dorsales!A23,"") -> #REF!
A22: 7 | B22: 510 | C22: =VLOOKUP(E22,Dorsales!A:I,2,FALSE) -> José Antonio Papin | D22: 2 | E22: 2 | F22: 6 | G22: 7.91 | H22: =IF((F22*60+G22)>B22,0,IF(F22>=A22,((A22*60*2)-F22*60-G22),F22*60+G22)) -> 367.91 | I22: 6 | J22: =IF(H22<30,0,IF(I22=0,0,IF(I22>15,0,32-I22*2))) -> 20 | K22: =IF(I22>100,0,H22+J22) -> 387.91 | L22: =IF(K22=0,0,K22/K32*1000) -> 901.61305 | AZ22: =IF(Dorsales!B25<>0,Dorsales!A24,"")
A23: 7 | B23: 510 | C23: =VLOOKUP(E23,Dorsales!A:I,2,FALSE) -> José Antonio Orviz | D23: 3 | E23: 3 | F23: 6 | G23: 56.24 | H23: =IF((F23*60+G23)>B23,0,IF(F23>=A23,((A23*60*2)-F23*60-G23),F23*60+G23)) -> 416.24 | I23: 9 | J23: =IF(H23<30,0,IF(I23=0,0,IF(I23>15,0,32-I23*2))) -> 14 | K23: =IF(I23>100,0,H23+J23) -> 430.24 | L23: =IF(K23=0,0,K23/K32*1000) -> 1000 | AZ23: =IF(Dorsales!B26<>0,Dorsales!A25,"")
A24: 7 | B24: 510 | C24: =VLOOKUP(E24,Dorsales!A:I,2,FALSE) -> Luis Antonio Presol | D24: 4 | E24: 4 | F24: 4 | G24: 37.81 | H24: =IF((F24*60+G24)>B24,0,IF(F24>=A24,((A24*60*2)-F24*60-G24),F24*60+G24)) -> 277.81 | I24: 5 | J24: =IF(H24<30,0,IF(I24=0,0,IF(I24>15,0,32-I24*2))) -> 22 | K24: =IF(I24>100,0,H24+J24) -> 299.81 | L24: =IF(K24=0,0,K24/K32*1000) -> 696.84362 | AZ24: =IF(Dorsales!B26<>0,Dorsales!A26,"")
A25: 7 | B25: 510 | C25: =VLOOKUP(E25,Dorsales!A:I,2,FALSE) -> Alejandro Gil | D25: 5 | E25: 5 | F25: 5 | G25: 45.85 | H25: =IF((F25*60+G25)>B25,0,IF(F25>=A25,((A25*60*2)-F25*60-G25),F25*60+G25)) -> 345.85 | I25: 10 | J25: =IF(H25<30,0,IF(I25=0,0,IF(I25>15,0,32-I25*2))) -> 12 | K25: =IF(I25>100,0,H25+J25) -> 357.85 | L25: =IF(K25=0,0,K25/K32*1000) -> 831.74507 | AZ25: =IF(Dorsales!B27<>0,Dorsales!A27,"")
A26: 7 | B26: 510 | C26: =VLOOKUP(E26,Dorsales!A:I,2,FALSE) -> ------- | D26: 6 | H26: =IF((F26*60+G26)>B26,0,IF(F26>=A26,((A26*60*2)-F26*60-G26),F26*60+G26)) -> 0 | J26: =IF(H26<30,0,IF(I26=0,0,IF(I26>15,0,32-I26*2))) -> 0 | K26: =IF(I26>100,0,H26+J26) -> 0 | L26: =IF(K26=0,0,K26/K32*1000) -> 0 | AZ26: =IF(Dorsales!B28<>0,Dorsales!A28,"")
A27: 7 | B27: 510 | C27: =VLOOKUP(E27,Dorsales!A:I,2,FALSE) -> ------- | D27: 7 | H27: =IF((F27*60+G27)>B27,0,IF(F27>=A27,((A27*60*2)-F27*60-G27),F27*60+G27)) -> 0 | J27: =IF(H27<30,0,IF(I27=0,0,IF(I27>15,0,32-I27*2))) -> 0 | K27: =IF(I27>100,0,H27+J27) -> 0 | L27: =IF(K27=0,0,K27/K32*1000) -> 0 | AZ27: =IF(Dorsales!B29<>0,Dorsales!A29,"")
A28: 7 | B28: 510 | C28: =VLOOKUP(E28,Dorsales!A:I,2,FALSE) -> ------- | D28: 8 | H28: =IF((F28*60+G28)>B28,0,IF(F28>=A28,((A28*60*2)-F28*60-G28),F28*60+G28)) -> 0 | J28: =IF(H28<30,0,IF(I28=0,0,IF(I28>15,0,32-I28*2))) -> 0 | K28: =IF(I28>100,0,H28+J28) -> 0 | L28: =IF(K28=0,0,K28/K32*1000) -> 0 | AZ28: =IF(Dorsales!B30<>0,Dorsales!A30,"")
A29: 7 | B29: 510 | C29: =VLOOKUP(E29,Dorsales!A:I,2,FALSE) -> ------- | D29: 9 | H29: =IF((F29*60+G29)>B29,0,IF(F29>=A29,((A29*60*2)-F29*60-G29),F29*60+G29)) -> 0 | J29: =IF(H29<30,0,IF(I29=0,0,IF(I29>15,0,32-I29*2))) -> 0 | K29: =IF(I29>100,0,H29+J29) -> 0 | L29: =IF(K29=0,0,K29/K32*1000) -> 0 | AZ29: =IF(Dorsales!B31<>0,Dorsales!A31,"")
A30: 7 | B30: 510 | C30: =VLOOKUP(E30,Dorsales!A:I,2,FALSE) -> ------- | H30: =IF((F30*60+G30)>B30,0,IF(F30>=A30,((A30*60*2)-F30*60-G30),F30*60+G30)) -> 0 | J30: =IF(H30<30,0,IF(I30=0,0,IF(I30>15,0,32-I30*2))) -> 0 | K30: =IF(I30>100,0,H30+J30) -> 0 | L30: =IF(K30=0,0,K30/K32*1000) -> 0
D32: Tiempo de Vuelo | F32: =A21 -> 7 | H32: Max. Ptos.Reales | K32: =MAX(K21:K30) -> 430.24
D39: Vuelo 1 | G39: MINIMANGA 2
C40: Concursante | D40: Juez | E40: DORSAL | F40: minutos | G40: segundos | H40: P.Vuelo | I40: m.Toma | J40: P.Toma | K40: P.Reales | L40: P.FAI
A41: 7 | B41: 510 | C41: =VLOOKUP(E41,Dorsales!A:I,2,FALSE) -> ------- | D41: 1 | H41: =IF((F41*60+G41)>B41,0,IF(F41>=A41,((A41*60*2)-F41*60-G41),F41*60+G41)) -> 0 | J41: =IF(H41<30,0,IF(I41=0,0,IF(I41>15,0,32-I41*2))) -> 0 | K41: =IF(I41>100,0,H41+J41) -> 0 | L41: =IF(K41=0,0,K41/K52*1000) -> 0
A42: 7 | B42: 510 | C42: =VLOOKUP(E42,Dorsales!A:I,2,FALSE) -> ------- | D42: 2 | H42: =IF((F42*60+G42)>B42,0,IF(F42>=A42,((A42*60*2)-F42*60-G42),F42*60+G42)) -> 0 | J42: =IF(H42<30,0,IF(I42=0,0,IF(I42>15,0,32-I42*2))) -> 0 | K42: =IF(I42>100,0,H42+J42) -> 0 | L42: =IF(K42=0,0,K42/K52*1000) -> 0
A43: 7 | B43: 510 | C43: =VLOOKUP(E43,Dorsales!A:I,2,FALSE) -> ------- | D43: 3 | H43: =IF((F43*60+G43)>B43,0,IF(F43>=A43,((A43*60*2)-F43*60-G43),F43*60+G43)) -> 0 | J43: =IF(H43<30,0,IF(I43=0,0,IF(I43>15,0,32-I43*2))) -> 0 | K43: =IF(I43>100,0,H43+J43) -> 0 | L43: =IF(K43=0,0,K43/K52*1000) -> 0
A44: 7 | B44: 510 | C44: =VLOOKUP(E44,Dorsales!A:I,2,FALSE) -> ------- | D44: 4 | H44: =IF((F44*60+G44)>B44,0,IF(F44>=A44,((A44*60*2)-F44*60-G44),F44*60+G44)) -> 0 | J44: =IF(H44<30,0,IF(I44=0,0,IF(I44>15,0,32-I44*2))) -> 0 | K44: =IF(I44>100,0,H44+J44) -> 0 | L44: =IF(K44=0,0,K44/K52*1000) -> 0 | AZ44: =IF(Dorsales!B46<>0,Dorsales!A46,"")
A45: 7 | B45: 510 | C45: =VLOOKUP(E45,Dorsales!A:I,2,FALSE) -> ------- | D45: 5 | H45: =IF((F45*60+G45)>B45,0,IF(F45>=A45,((A45*60*2)-F45*60-G45),F45*60+G45)) -> 0 | J45: =IF(H45<30,0,IF(I45=0,0,IF(I45>15,0,32-I45*2))) -> 0 | K45: =IF(I45>100,0,H45+J45) -> 0 | L45: =IF(K45=0,0,K45/K52*1000) -> 0 | AZ45: =IF(Dorsales!B47<>0,Dorsales!A47,"")
A46: 7 | B46: 510 | C46: =VLOOKUP(E46,Dorsales!A:I,2,FALSE) -> ------- | D46: 6 | H46: =IF((F46*60+G46)>B46,0,IF(F46>=A46,((A46*60*2)-F46*60-G46),F46*60+G46)) -> 0 | J46: =IF(H46<30,0,IF(I46=0,0,IF(I46>15,0,32-I46*2))) -> 0 | K46: =IF(I46>100,0,H46+J46) -> 0 | L46: =IF(K46=0,0,K46/K52*1000) -> 0 | AZ46: =IF(Dorsales!B29<>0,Dorsales!A29,"")
A47: 7 | B47: 510 | C47: =VLOOKUP(E47,Dorsales!A:I,2,FALSE) -> ------- | D47: 7 | H47: =IF((F47*60+G47)>B47,0,IF(F47>=A47,((A47*60*2)-F47*60-G47),F47*60+G47)) -> 0 | J47: =IF(H47<30,0,IF(I47=0,0,IF(I47>15,0,32-I47*2))) -> 0 | K47: =IF(I47>100,0,H47+J47) -> 0 | L47: =IF(K47=0,0,K47/K52*1000) -> 0 | AZ47: =IF(Dorsales!B30<>0,Dorsales!A30,"")
...

Sheet Vuelo 2
D1: Vuelo 2 | G1: MINIMANGA DE 'RE-FLIGHT' | P1: =IF((F7*60+G7)>Instrucciones!C14,0,IF(F7>=Instrucciones!B10,((Instrucciones!B10*60*2)-F7*60-G7),F7*60+G7)) -> 0
C2: Concursante | D2: Juez | E2: DORSAL* | F2: minutos | G2: segundos | H2: P.Vuelo | I2: m.Toma | J2: P.Toma | K2: P.Reales | L2: P.FAI
A3: 7 | B3: 510 | C3: =VLOOKUP(E3,Dorsales!A:I,2,FALSE) -> ------- | D3: 1 | H3: =IF((F3*60+G3)>B3,0,IF(F3>=A3,((A3*60*2)-F3*60-G3),F3*60+G3)) -> 0 | J3: =IF(H3<30,0,IF(I3=0,0,IF(I3>15,0,32-I3*2))) -> 0 | K3: =IF(I3>100,0,H3+J3) -> 0 | L3: =IF(K3=0,0,K3/K14*1000) -> 0
A4: 7 | B4: 510 | C4: =VLOOKUP(E4,Dorsales!A:I,2,FALSE) -> ------- | D4: 2 | H4: =IF((F4*60+G4)>B4,0,IF(F4>=A4,((A4*60*2)-F4*60-G4),F4*60+G4)) -> 0 | J4: =IF(H4<30,0,IF(I4=0,0,IF(I4>15,0,32-I4*2))) -> 0 | K4: =IF(I4>100,0,H4+J4) -> 0 | L4: =IF(K4=0,0,K4/K14*1000) -> 0
A5: 7 | B5: 510 | C5: =VLOOKUP(E5,Dorsales!A:I,2,FALSE) -> ------- | D5: 3 | H5: =IF((F5*60+G5)>B5,0,IF(F5>=A5,((A5*60*2)-F5*60-G5),F5*60+G5)) -> 0 | J5: =IF(H5<30,0,IF(I5=0,0,IF(I5>15,0,32-I5*2))) -> 0 | K5: =IF(I5>100,0,H5+J5) -> 0 | L5: =IF(K5=0,0,K5/K14*1000) -> 0
A6: 7 | B6: 510 | C6: =VLOOKUP(E6,Dorsales!A:I,2,FALSE) -> ------- | D6: 4 | H6: =IF((F6*60+G6)>B6,0,IF(F6>=A6,((A6*60*2)-F6*60-G6),F6*60+G6)) -> 0 | J6: =IF(H6<30,0,IF(I6=0,0,IF(I6>15,0,32-I6*2))) -> 0 | K6: =IF(I6>100,0,H6+J6) -> 0 | L6: =IF(K6=0,0,K6/K14*1000) -> 0
A7: 7 | B7: 510 | C7: =VLOOKUP(E7,Dorsales!A:I,2,FALSE) -> ------- | D7: 5 | H7: =IF((F7*60+G7)>B7,0,IF(F7>=A7,((A7*60*2)-F7*60-G7),F7*60+G7)) -> 0 | J7: =IF(H7<30,0,IF(I7=0,0,IF(I7>15,0,32-I7*2))) -> 0 | K7: =IF(I7>100,0,H7+J7) -> 0 | L7: =IF(K7=0,0,K7/K14*1000) -> 0
A8: 7 | B8: 510 | C8: =VLOOKUP(E8,Dorsales!A:I,2,FALSE) -> ------- | D8: 6 | H8: =IF((F8*60+G8)>B8,0,IF(F8>=A8,((A8*60*2)-F8*60-G8),F8*60+G8)) -> 0 | J8: =IF(H8<30,0,IF(I8=0,0,IF(I8>15,0,32-I8*2))) -> 0 | K8: =IF(I8>100,0,H8+J8) -> 0 | L8: =IF(K8=0,0,K8/K14*1000) -> 0
A9: 7 | B9: 510 | C9: =VLOOKUP(E9,Dorsales!A:I,2,FALSE) -> ------- | D9: 7 | H9: =IF((F9*60+G9)>B9,0,IF(F9>=A9,((A9*60*2)-F9*60-G9),F9*60+G9)) -> 0 | J9: =IF(H9<30,0,IF(I9=0,0,IF(I9>15,0,32-I9*2))) -> 0 | K9: =IF(I9>100,0,H9+J9) -> 0 | L9: =IF(K9=0,0,K9/K14*1000) -> 0
A10: 7 | B10: 510 | C10: =VLOOKUP(E10,Dorsales!A:I,2,FALSE) -> ------- | D10: 8 | H10: =IF((F10*60+G10)>B10,0,IF(F10>=A10,((A10*60*2)-F10*60-G10),F10*60+G10)) -> 0 | J10: =IF(H10<30,0,IF(I10=0,0,IF(I10>15,0,32-I10*2))) -> 0 | K10: =IF(I10>100,0,H10+J10) -> 0 | L10: =IF(K10=0,0,K10/K14*1000) -> 0
A11: 7 | B11: 510 | C11: =VLOOKUP(E11,Dorsales!A:I,2,FALSE) -> ------- | D11: 9 | H11: =IF((F11*60+G11)>B11,0,IF(F11>=A11,((A11*60*2)-F11*60-G11),F11*60+G11)) -> 0 | J11: =IF(H11<30,0,IF(I11=0,0,IF(I11>15,0,32-I11*2))) -> 0 | K11: =IF(I11>100,0,H11+J11) -> 0 | L11: =IF(K11=0,0,K11/K14*1000) -> 0
A12: 7 | B12: 510 | C12: =VLOOKUP(E12,Dorsales!A:I,2,FALSE) -> ------- | H12: =IF((F12*60+G12)>B12,0,IF(F12>=A12,((A12*60*2)-F12*60-G12),F12*60+G12)) -> 0 | J12: =IF(H12<30,0,IF(I12=0,0,IF(I12>15,0,32-I12*2))) -> 0 | K12: =IF(I12>100,0,H12+J12) -> 0 | L12: =IF(K12=0,0,K12/K14*1000) -> 0
D13: *A los dorsales cuya puntuacion no sea la valida se les sumara 50
D14: Tiempo de Vuelo | F14: =A3 -> 7 | H14: Max. Ptos.Reales | K14: =MAX(K3:K12) -> 0
D19: Vuelo 2 | G19: MINIMANGA 1
C20: Concursante | D20: Juez | E20: DORSAL | F20: minutos | G20: segundos | H20: P.Vuelo | I20: m.Toma | J20: P.Toma | K20: P.Reales | L20: P.FAI
A21: 7 | B21: 510 | C21: =VLOOKUP(E21,Dorsales!A:I,2,FALSE) -> Miguel de la Torre | D21: 1 | E21: 1 | F21: 5 | G21: 14.3 | H21: =IF((F21*60+G21)>B21,0,IF(F21>=A21,((A21*60*2)-F21*60-G21),F21*60+G21)) -> 314.3 | J21: =IF(H21<30,0,IF(I21=0,0,IF(I21>15,0,32-I21*2))) -> 0 | K21: =IF(I21>100,0,H21+J21) -> 314.3 | L21: =IF(K21=0,0,K21/K32*1000) -> 960.72138
A22: 7 | B22: 510 | C22: =VLOOKUP(E22,Dorsales!A:I,2,FALSE) -> José Antonio Papin | D22: 2 | E22: 2 | F22: 5 | G22: 27.15 | H22: =IF((F22*60+G22)>B22,0,IF(F22>=A22,((A22*60*2)-F22*60-G22),F22*60+G22)) -> 327.15 | J22: =IF(H22<30,0,IF(I22=0,0,IF(I22>15,0,32-I22*2))) -> 0 | K22: =IF(I22>100,0,H22+J22) -> 327.15 | L22: =IF(K22=0,0,K22/K32*1000) -> 1000
A23: 7 | B23: 510 | C23: =VLOOKUP(E23,Dorsales!A:I,2,FALSE) -> José Antonio Orviz | D23: 3 | E23: 3 | F23: 4 | G23: 53.6 | H23: =IF((F23*60+G23)>B23,0,IF(F23>=A23,((A23*60*2)-F23*60-G23),F23*60+G23)) -> 293.6 | I23: 6 | J23: =IF(H23<30,0,IF(I23=0,0,IF(I23>15,0,32-I23*2))) -> 20 | K23: =IF(I23>100,0,H23+J23) -> 313.6 | L23: =IF(K23=0,0,K23/K32*1000) -> 958.58169
A24: 7 | B24: 510 | C24: =VLOOKUP(E24,Dorsales!A:I,2,FALSE) -> Luis Antonio Presol | D24: 4 | E24: 4 | F24: 4 | G24: 57.72 | H24: =IF((F24*60+G24)>B24,0,IF(F24>=A24,((A24*60*2)-F24*60-G24),F24*60+G24)) -> 297.72 | I24: 4 | J24: =IF(H24<30,0,IF(I24=0,0,IF(I24>15,0,32-I24*2))) -> 24 | K24: =IF(I24>100,0,H24+J24) -> 321.72 | L24: =IF(K24=0,0,K24/K32*1000) -> 983.40211
A25: 7 | B25: 510 | C25: =VLOOKUP(E25,Dorsales!A:I,2,FALSE) -> Alejandro Gil | D25: 5 | E25: 5 | F25: 4 | G25: 19.28 | H25: =IF((F25*60+G25)>B25,0,IF(F25>=A25,((A25*60*2)-F25*60-G25),F25*60+G25)) -> 259.28 | J25: =IF(H25<30,0,IF(I25=0,0,IF(I25>15,0,32-I25*2))) -> 0 | K25: =IF(I25>100,0,H25+J25) -> 259.28 | L25: =IF(K25=0,0,K25/K32*1000) -> 792.54165
A26: 7 | B26: 510 | C26: =VLOOKUP(E26,Dorsales!A:I,2,FALSE) -> ------- | D26: 6 | H26: =IF((F26*60+G26)>B26,0,IF(F26>=A26,((A26*60*2)-F26*60-G26),F26*60+G26)) -> 0 | J26: =IF(H26<30,0,IF(I26=0,0,IF(I26>15,0,32-I26*2))) -> 0 | K26: =IF(I26>100,0,H26+J26) -> 0 | L26: =IF(K26=0,0,K26/K32*1000) -> 0
A27: 7 | B27: 510 | C27: =VLOOKUP(E27,Dorsales!A:I,2,FALSE) -> ------- | D27: 7 | H27: =IF((F27*60+G27)>B27,0,IF(F27>=A27,((A27*60*2)-F27*60-G27),F27*60+G27)) -> 0 | J27: =IF(H27<30,0,IF(I27=0,0,IF(I27>15,0,32-I27*2))) -> 0 | K27: =IF(I27>100,0,H27+J27) -> 0 | L27: =IF(K27=0,0,K27/K32*1000) -> 0
A28: 7 | B28: 510 | C28: =VLOOKUP(E28,Dorsales!A:I,2,FALSE) -> ------- | D28: 8 | H28: =IF((F28*60+G28)>B28,0,IF(F28>=A28,((A28*60*2)-F28*60-G28),F28*60+G28)) -> 0 | J28: =IF(H28<30,0,IF(I28=0,0,IF(I28>15,0,32-I28*2))) -> 0 | K28: =IF(I28>100,0,H28+J28) -> 0 | L28: =IF(K28=0,0,K28/K32*1000) -> 0
A29: 7 | B29: 510 | C29: =VLOOKUP(E29,Dorsales!A:I,2,FALSE) -> ------- | D29: 9 | H29: =IF((F29*60+G29)>B29,0,IF(F29>=A29,((A29*60*2)-F29*60-G29),F29*60+G29)) -> 0 | J29: =IF(H29<30,0,IF(I29=0,0,IF(I29>15,0,32-I29*2))) -> 0 | K29: =IF(I29>100,0,H29+J29) -> 0 | L29: =IF(K29=0,0,K29/K32*1000) -> 0
A30: 7 | B30: 510 | C30: =VLOOKUP(E30,Dorsales!A:I,2,FALSE) -> ------- | H30: =IF((F30*60+G30)>B30,0,IF(F30>=A30,((A30*60*2)-F30*60-G30),F30*60+G30)) -> 0 | J30: =IF(H30<30,0,IF(I30=0,0,IF(I30>15,0,32-I30*2))) -> 0 | K30: =IF(I30>100,0,H30+J30) -> 0 | L30: =IF(K30=0,0,K30/K32*1000) -> 0
D32: Tiempo de Vuelo | F32: =A21 -> 7 | H32: Max. Ptos.Reales | K32: =MAX(K21:K30) -> 327.15
D39: Vuelo 2 | G39: MINIMANGA 2
C40: Concursante | D40: Juez | E40: DORSAL | F40: minutos | G40: segundos | H40: P.Vuelo | I40: m.Toma | J40: P.Toma | K40: P.Reales | L40: P.FAI
A41: 7 | B41: 510 | C41: =VLOOKUP(E41,Dorsales!A:I,2,FALSE) -> ------- | D41: 1 | H41: =IF((F41*60+G41)>B41,0,IF(F41>=A41,((A41*60*2)-F41*60-G41),F41*60+G41)) -> 0 | J41: =IF(H41<30,0,IF(I41=0,0,IF(I41>15,0,32-I41*2))) -> 0 | K41: =IF(I41>100,0,H41+J41) -> 0 | L41: =IF(K41=0,0,K41/K52*1000) -> 0
A42: 7 | B42: 510 | C42: =VLOOKUP(E42,Dorsales!A:I,2,FALSE) -> ------- | D42: 2 | H42: =IF((F42*60+G42)>B42,0,IF(F42>=A42,((A42*60*2)-F42*60-G42),F42*60+G42)) -> 0 | J42: =IF(H42<30,0,IF(I42=0,0,IF(I42>15,0,32-I42*2))) -> 0 | K42: =IF(I42>100,0,H42+J42) -> 0 | L42: =IF(K42=0,0,K42/K52*1000) -> 0
A43: 7 | B43: 510 | C43: =VLOOKUP(E43,Dorsales!A:I,2,FALSE) -> ------- | D43: 3 | H43: =IF((F43*60+G43)>B43,0,IF(F43>=A43,((A43*60*2)-F43*60-G43),F43*60+G43)) -> 0 | J43: =IF(H43<30,0,IF(I43=0,0,IF(I43>15,0,32-I43*2))) -> 0 | K43: =IF(I43>100,0,H43+J43) -> 0 | L43: =IF(K43=0,0,K43/K52*1000) -> 0
A44: 7 | B44: 510 | C44: =VLOOKUP(E44,Dorsales!A:I,2,FALSE) -> ------- | D44: 4 | H44: =IF((F44*60+G44)>B44,0,IF(F44>=A44,((A44*60*2)-F44*60-G44),F44*60+G44)) -> 0 | J44: =IF(H44<30,0,IF(I44=0,0,IF(I44>15,0,32-I44*2))) -> 0 | K44: =IF(I44>100,0,H44+J44) -> 0 | L44: =IF(K44=0,0,K44/K52*1000) -> 0
A45: 7 | B45: 510 | C45: =VLOOKUP(E45,Dorsales!A:I,2,FALSE) -> ------- | D45: 5 | H45: =IF((F45*60+G45)>B45,0,IF(F45>=A45,((A45*60*2)-F45*60-G45),F45*60+G45)) -> 0 | J45: =IF(H45<30,0,IF(I45=0,0,IF(I45>15,0,32-I45*2))) -> 0 | K45: =IF(I45>100,0,H45+J45) -> 0 | L45: =IF(K45=0,0,K45/K52*1000) -> 0
A46: 7 | B46: 510 | C46: =VLOOKUP(E46,Dorsales!A:I,2,FALSE) -> ------- | D46: 6 | H46: =IF((F46*60+G46)>B46,0,IF(F46>=A46,((A46*60*2)-F46*60-G46),F46*60+G46)) -> 0 | J46: =IF(H46<30,0,IF(I46=0,0,IF(I46>15,0,32-I46*2))) -> 0 | K46: =IF(I46>100,0,H46+J46) -> 0 | L46: =IF(K46=0,0,K46/K52*1000) -> 0
A47: 7 | B47: 510 | C47: =VLOOKUP(E47,Dorsales!A:I,2,FALSE) -> ------- | D47: 7 | H47: =IF((F47*60+G47)>B47,0,IF(F47>=A47,((A47*60*2)-F47*60-G47),F47*60+G47)) -> 0 | J47: =IF(H47<30,0,IF(I47=0,0,IF(I47>15,0,32-I47*2))) -> 0 | K47: =IF(I47>100,0,H47+J47) -> 0 | L47: =IF(K47=0,0,K47/K52*1000) -> 0
A48: 7 | B48: 510 | C48: =VLOOKUP(E48,Dorsales!A:I,2,FALSE) -> ------- | D48: 8 | H48: =IF((F48*60+G48)>B48,0,IF(F48>=A48,((A48*60*2)-F48*60-G48),F48*60+G48)) -> 0 | J48: =IF(H48<30,0,IF(I48=0,0,IF(I48>15,0,32-I48*2))) -> 0 | K48: =IF(I48>100,0,H48+J48) -> 0 | L48: =IF(K48=0,0,K48/K52*1000) -> 0
A49: 7 | B49: 510 | C49: =VLOOKUP(E49,Dorsales!A:I,2,FALSE) -> ------- | D49: 9 | H49: =IF((F49*60+G49)>B49,0,IF(F49>=A49,((A49*60*2)-F49*60-G49),F49*60+G49)) -> 0 | J49: =IF(H49<30,0,IF(I49=0,0,IF(I49>15,0,32-I49*2))) -> 0 | K49: =IF(I49>100,0,H49+J49) -> 0 | L49: =IF(K49=0,0,K49/K52*1000) -> 0
A50: 7 | B50: 510 | C50: =VLOOKUP(E50,Dorsales!A:I,2,FALSE) -> ------- | H50: =IF((F50*60+G50)>B50,0,IF(F50>=A50,((A50*60*2)-F50*60-G50),F50*60+G50)) -> 0 | J50: =IF(H50<30,0,IF(I50=0,0,IF(I50>15,0,32-I50*2))) -> 0 | K50: =IF(I50>100,0,H50+J50) -> 0 | L50: =IF(K50=0,0,K50/K52*1000) -> 0
D52: Tiempo de Vuelo | F52: =A41 -> 7 | H52: Max. Ptos.Reales | K52: =MAX(K41:K50) -> 0
...

Sheet Vuelo 3
D1: Vuelo 3 | G1: MINIMANGA DE 'RE-FLIGHT' | P1: =IF((F7*60+G7)>Instrucciones!C14,0,IF(F7>=Instrucciones!B10,((Instrucciones!B10*60*2)-F7*60-G7),F7*60+G7)) -> 0
C2: Concursante | D2: Juez | E2: DORSAL* | F2: minutos | G2: segundos | H2: P.Vuelo | I2: m.Toma | J2: P.Toma | K2: P.Reales | L2: P.FAI
A3: 7 | B3: 510 | C3: =VLOOKUP(E3,Dorsales!A:I,2,FALSE) -> ------- | H3: =IF((F3*60+G3)>B3,0,IF(F3>=A3,((A3*60*2)-F3*60-G3),F3*60+G3)) -> 0 | J3: =IF(H3<30,0,IF(I3=0,0,IF(I3>15,0,32-I3*2))) -> 0 | K3: =IF(I3>100,0,H3+J3) -> 0 | L3: =IF(K3=0,0,K3/K14*1000) -> 0
A4: 7 | B4: 510 | C4: =VLOOKUP(E4,Dorsales!A:I,2,FALSE) -> ------- | H4: =IF((F4*60+G4)>B4,0,IF(F4>=A4,((A4*60*2)-F4*60-G4),F4*60+G4)) -> 0 | J4: =IF(H4<30,0,IF(I4=0,0,IF(I4>15,0,32-I4*2))) -> 0 | K4: =IF(I4>100,0,H4+J4) -> 0 | L4: =IF(K4=0,0,K4/K14*1000) -> 0
A5: 7 | B5: 510 | C5: =VLOOKUP(E5,Dorsales!A:I,2,FALSE) -> ------- | H5: =IF((F5*60+G5)>B5,0,IF(F5>=A5,((A5*60*2)-F5*60-G5),F5*60+G5)) -> 0 | J5: =IF(H5<30,0,IF(I5=0,0,IF(I5>15,0,32-I5*2))) -> 0 | K5: =IF(I5>100,0,H5+J5) -> 0 | L5: =IF(K5=0,0,K5/K14*1000) -> 0
A6: 7 | B6: 510 | C6: =VLOOKUP(E6,Dorsales!A:I,2,FALSE) -> ------- | H6: =IF((F6*60+G6)>B6,0,IF(F6>=A6,((A6*60*2)-F6*60-G6),F6*60+G6)) -> 0 | J6: =IF(H6<30,0,IF(I6=0,0,IF(I6>15,0,32-I6*2))) -> 0 | K6: =IF(I6>100,0,H6+J6) -> 0 | L6: =IF(K6=0,0,K6/K14*1000) -> 0
A7: 7 | B7: 510 | C7: =VLOOKUP(E7,Dorsales!A:I,2,FALSE) -> ------- | H7: =IF((F7*60+G7)>B7,0,IF(F7>=A7,((A7*60*2)-F7*60-G7),F7*60+G7)) -> 0 | J7: =IF(H7<30,0,IF(I7=0,0,IF(I7>15,0,32-I7*2))) -> 0 | K7: =IF(I7>100,0,H7+J7) -> 0 | L7: =IF(K7=0,0,K7/K14*1000) -> 0
A8: 7 | B8: 510 | C8: =VLOOKUP(E8,Dorsales!A:I,2,FALSE) -> ------- | H8: =IF((F8*60+G8)>B8,0,IF(F8>=A8,((A8*60*2)-F8*60-G8),F8*60+G8)) -> 0 | J8: =IF(H8<30,0,IF(I8=0,0,IF(I8>15,0,32-I8*2))) -> 0 | K8: =IF(I8>100,0,H8+J8) -> 0 | L8: =IF(K8=0,0,K8/K14*1000) -> 0
A9: 7 | B9: 510 | C9: =VLOOKUP(E9,Dorsales!A:I,2,FALSE) -> ------- | H9: =IF((F9*60+G9)>B9,0,IF(F9>=A9,((A9*60*2)-F9*60-G9),F9*60+G9)) -> 0 | J9: =IF(H9<30,0,IF(I9=0,0,IF(I9>15,0,32-I9*2))) -> 0 | K9: =IF(I9>100,0,H9+J9) -> 0 | L9: =IF(K9=0,0,K9/K14*1000) -> 0
A10: 7 | B10: 510 | C10: =VLOOKUP(E10,Dorsales!A:I,2,FALSE) -> ------- | H10: =IF((F10*60+G10)>B10,0,IF(F10>=A10,((A10*60*2)-F10*60-G10),F10*60+G10)) -> 0 | J10: =IF(H10<30,0,IF(I10=0,0,IF(I10>15,0,32-I10*2))) -> 0 | K10: =IF(I10>100,0,H10+J10) -> 0 | L10: =IF(K10=0,0,K10/K14*1000) -> 0
A11: 7 | B11: 510 | C11: =VLOOKUP(E11,Dorsales!A:I,2,FALSE) -> ------- | H11: =IF((F11*60+G11)>B11,0,IF(F11>=A11,((A11*60*2)-F11*60-G11),F11*60+G11)) -> 0 | J11: =IF(H11<30,0,IF(I11=0,0,IF(I11>15,0,32-I11*2))) -> 0 | K11: =IF(I11>100,0,H11+J11) -> 0 | L11: =IF(K11=0,0,K11/K14*1000) -> 0
A12: 7 | B12: 510 | C12: =VLOOKUP(E12,Dorsales!A:I,2,FALSE) -> ------- | H12: =IF((F12*60+G12)>B12,0,IF(F12>=A12,((A12*60*2)-F12*60-G12),F12*60+G12)) -> 0 | J12: =IF(H12<30,0,IF(I12=0,0,IF(I12>15,0,32-I12*2))) -> 0 | K12: =IF(I12>100,0,H12+J12) -> 0 | L12: =IF(K12=0,0,K12/K14*1000) -> 0
D13: *A los dorsales cuya puntuacion no sea la valida se les sumara 50
D14: Tiempo de Vuelo | F14: =A3 -> 7 | H14: Max. Ptos.Reales | K14: =MAX(K3:K12) -> 0
D19: Vuelo 3 | G19: MINIMANGA 1
C20: Concursante | D20: Juez | E20: DORSAL | F20: minutos | G20: segundos | H20: P.Vuelo | I20: m.Toma | J20: P.Toma | K20: P.Reales | L20: P.FAI
A21: 7 | B21: 510 | C21: =VLOOKUP(E21,Dorsales!A:I,2,FALSE) -> Miguel de la Torre | D21: 1 | E21: 1 | F21: 5 | G21: 29.5 | H21: =IF((F21*60+G21)>B21,0,IF(F21>=A21,((A21*60*2)-F21*60-G21),F21*60+G21)) -> 329.5 | I21: 3 | J21: =IF(H21<30,0,IF(I21=0,0,IF(I21>15,0,32-I21*2))) -> 26 | K21: =IF(I21>100,0,H21+J21) -> 355.5 | L21: =IF(K21=0,0,K21/K32*1000) -> 999.63445
A22: 7 | B22: 510 | C22: =VLOOKUP(E22,Dorsales!A:I,2,FALSE) -> José Antonio Papin | D22: 2 | E22: 2 | F22: 4 | G22: 0.15 | H22: =IF((F22*60+G22)>B22,0,IF(F22>=A22,((A22*60*2)-F22*60-G22),F22*60+G22)) -> 240.15 | I22: 2 | J22: =IF(H22<30,0,IF(I22=0,0,IF(I22>15,0,32-I22*2))) -> 28 | K22: =IF(I22>100,0,H22+J22) -> 268.15 | L22: =IF(K22=0,0,K22/K32*1000) -> 754.014
A23: 7 | B23: 510 | C23: =VLOOKUP(E23,Dorsales!A:I,2,FALSE) -> José Antonio Orviz | D23: 3 | E23: 3 | F23: 5 | G23: 0.07 | H23: =IF((F23*60+G23)>B23,0,IF(F23>=A23,((A23*60*2)-F23*60-G23),F23*60+G23)) -> 300.07 | I23: 1 | J23: =IF(H23<30,0,IF(I23=0,0,IF(I23>15,0,32-I23*2))) -> 30 | K23: =IF(I23>100,0,H23+J23) -> 330.07 | L23: =IF(K23=0,0,K23/K32*1000) -> 928.12755
A24: 7 | B24: 510 | C24: =VLOOKUP(E24,Dorsales!A:I,2,FALSE) -> Luis Antonio Presol | D24: 4 | E24: 4 | F24: 5 | G24: 27.63 | H24: =IF((F24*60+G24)>B24,0,IF(F24>=A24,((A24*60*2)-F24*60-G24),F24*60+G24)) -> 327.63 | I24: 2 | J24: =IF(H24<30,0,IF(I24=0,0,IF(I24>15,0,32-I24*2))) -> 28 | K24: =IF(I24>100,0,H24+J24) -> 355.63 | L24: =IF(K24=0,0,K24/K32*1000) -> 1000
A25: 7 | B25: 510 | C25: =VLOOKUP(E25,Dorsales!A:I,2,FALSE) -> Alejandro Gil | D25: 5 | E25: 5 | F25: 3 | G25: 31.47 | H25: =IF((F25*60+G25)>B25,0,IF(F25>=A25,((A25*60*2)-F25*60-G25),F25*60+G25)) -> 211.47 | J25: =IF(H25<30,0,IF(I25=0,0,IF(I25>15,0,32-I25*2))) -> 0 | K25: =IF(I25>100,0,H25+J25) -> 211.47 | L25: =IF(K25=0,0,K25/K32*1000) -> 594.63487
A26: 7 | B26: 510 | C26: =VLOOKUP(E26,Dorsales!A:I,2,FALSE) -> ------- | D26: 6 | H26: =IF((F26*60+G26)>B26,0,IF(F26>=A26,((A26*60*2)-F26*60-G26),F26*60+G26)) -> 0 | J26: =IF(H26<30,0,IF(I26=0,0,IF(I26>15,0,32-I26*2))) -> 0 | K26: =IF(I26>100,0,H26+J26) -> 0 | L26: =IF(K26=0,0,K26/K32*1000) -> 0
A27: 7 | B27: 510 | C27: =VLOOKUP(E27,Dorsales!A:I,2,FALSE) -> ------- | D27: 7 | H27: =IF((F27*60+G27)>B27,0,IF(F27>=A27,((A27*60*2)-F27*60-G27),F27*60+G27)) -> 0 | J27: =IF(H27<30,0,IF(I27=0,0,IF(I27>15,0,32-I27*2))) -> 0 | K27: =IF(I27>100,0,H27+J27) -> 0 | L27: =IF(K27=0,0,K27/K32*1000) -> 0
A28: 7 | B28: 510 | C28: =VLOOKUP(E28,Dorsales!A:I,2,FALSE) -> ------- | D28: 8 | H28: =IF((F28*60+G28)>B28,0,IF(F28>=A28,((A28*60*2)-F28*60-G28),F28*60+G28)) -> 0 | J28: =IF(H28<30,0,IF(I28=0,0,IF(I28>15,0,32-I28*2))) -> 0 | K28: =IF(I28>100,0,H28+J28) -> 0 | L28: =IF(K28=0,0,K28/K32*1000) -> 0
A29: 7 | B29: 510 | C29: =VLOOKUP(E29,Dorsales!A:I,2,FALSE) -> ------- | D29: 9 | H29: =IF((F29*60+G29)>B29,0,IF(F29>=A29,((A29*60*2)-F29*60-G29),F29*60+G29)) -> 0 | J29: =IF(H29<30,0,IF(I29=0,0,IF(I29>15,0,32-I29*2))) -> 0 | K29: =IF(I29>100,0,H29+J29) -> 0 | L29: =IF(K29=0,0,K29/K32*1000) -> 0
A30: 7 | B30: 510 | C30: =VLOOKUP(E30,Dorsales!A:I,2,FALSE) -> ------- | H30: =IF((F30*60+G30)>B30,0,IF(F30>=A30,((A30*60*2)-F30*60-G30),F30*60+G30)) -> 0 | J30: =IF(H30<30,0,IF(I30=0,0,IF(I30>15,0,32-I30*2))) -> 0 | K30: =IF(I30>100,0,H30+J30) -> 0 | L30: =IF(K30=0,0,K30/K32*1000) -> 0
D32: Tiempo de Vuelo | F32: =A21 -> 7 | H32: Max. Ptos.Reales | K32: =MAX(K21:K30) -> 355.63
D39: Vuelo 3 | G39: MINIMANGA 2
C40: Concursante | D40: Juez | E40: DORSAL | F40: minutos | G40: segundos | H40: P.Vuelo | I40: m.Toma | J40: P.Toma | K40: P.Reales | L40: P.FAI
A41: 7 | B41: 510 | C41: =VLOOKUP(E41,Dorsales!A:I,2,FALSE) -> ------- | D41: 1 | H41: =IF((F41*60+G41)>B41,0,IF(F41>=A41,((A41*60*2)-F41*60-G41),F41*60+G41)) -> 0 | J41: =IF(H41<30,0,IF(I41=0,0,IF(I41>15,0,32-I41*2))) -> 0 | K41: =IF(I41>100,0,H41+J41) -> 0 | L41: =IF(K41=0,0,K41/K52*1000) -> 0
A42: 7 | B42: 510 | C42: =VLOOKUP(E42,Dorsales!A:I,2,FALSE) -> ------- | D42: 2 | H42: =IF((F42*60+G42)>B42,0,IF(F42>=A42,((A42*60*2)-F42*60-G42),F42*60+G42)) -> 0 | J42: =IF(H42<30,0,IF(I42=0,0,IF(I42>15,0,32-I42*2))) -> 0 | K42: =IF(I42>100,0,H42+J42) -> 0 | L42: =IF(K42=0,0,K42/K52*1000) -> 0
A43: 7 | B43: 510 | C43: =VLOOKUP(E43,Dorsales!A:I,2,FALSE) -> ------- | D43: 3 | H43: =IF((F43*60+G43)>B43,0,IF(F43>=A43,((A43*60*2)-F43*60-G43),F43*60+G43)) -> 0 | J43: =IF(H43<30,0,IF(I43=0,0,IF(I43>15,0,32-I43*2))) -> 0 | K43: =IF(I43>100,0,H43+J43) -> 0 | L43: =IF(K43=0,0,K43/K52*1000) -> 0
A44: 7 | B44: 510 | C44: =VLOOKUP(E44,Dorsales!A:I,2,FALSE) -> ------- | D44: 4 | H44: =IF((F44*60+G44)>B44,0,IF(F44>=A44,((A44*60*2)-F44*60-G44),F44*60+G44)) -> 0 | J44: =IF(H44<30,0,IF(I44=0,0,IF(I44>15,0,32-I44*2))) -> 0 | K44: =IF(I44>100,0,H44+J44) -> 0 | L44: =IF(K44=0,0,K44/K52*1000) -> 0
A45: 7 | B45: 510 | C45: =VLOOKUP(E45,Dorsales!A:I,2,FALSE) -> ------- | D45: 5 | H45: =IF((F45*60+G45)>B45,0,IF(F45>=A45,((A45*60*2)-F45*60-G45),F45*60+G45)) -> 0 | J45: =IF(H45<30,0,IF(I45=0,0,IF(I45>15,0,32-I45*2))) -> 0 | K45: =IF(I45>100,0,H45+J45) -> 0 | L45: =IF(K45=0,0,K45/K52*1000) -> 0
A46: 7 | B46: 510 | C46: =VLOOKUP(E46,Dorsales!A:I,2,FALSE) -> ------- | D46: 6 | H46: =IF((F46*60+G46)>B46,0,IF(F46>=A46,((A46*60*2)-F46*60-G46),F46*60+G46)) -> 0 | J46: =IF(H46<30,0,IF(I46=0,0,IF(I46>15,0,32-I46*2))) -> 0 | K46: =IF(I46>100,0,H46+J46) -> 0 | L46: =IF(K46=0,0,K46/K52*1000) -> 0
A47: 7 | B47: 510 | C47: =VLOOKUP(E47,Dorsales!A:I,2,FALSE) -> ------- | D47: 7 | H47: =IF((F47*60+G47)>B47,0,IF(F47>=A47,((A47*60*2)-F47*60-G47),F47*60+G47)) -> 0 | J47: =IF(H47<30,0,IF(I47=0,0,IF(I47>15,0,32-I47*2))) -> 0 | K47: =IF(I47>100,0,H47+J47) -> 0 | L47: =IF(K47=0,0,K47/K52*1000) -> 0
A48: 7 | B48: 510 | C48: =VLOOKUP(E48,Dorsales!A:I,2,FALSE) -> ------- | D48: 8 | H48: =IF((F48*60+G48)>B48,0,IF(F48>=A48,((A48*60*2)-F48*60-G48),F48*60+G48)) -> 0 | J48: =IF(H48<30,0,IF(I48=0,0,IF(I48>15,0,32-I48*2))) -> 0 | K48: =IF(I48>100,0,H48+J48) -> 0 | L48: =IF(K48=0,0,K48/K52*1000) -> 0
A49: 7 | B49: 510 | C49: =VLOOKUP(E49,Dorsales!A:I,2,FALSE) -> ------- | D49: 9 | H49: =IF((F49*60+G49)>B49,0,IF(F49>=A49,((A49*60*2)-F49*60-G49),F49*60+G49)) -> 0 | J49: =IF(H49<30,0,IF(I49=0,0,IF(I49>15,0,32-I49*2))) -> 0 | K49: =IF(I49>100,0,H49+J49) -> 0 | L49: =IF(K49=0,0,K49/K52*1000) -> 0
A50: 7 | B50: 510 | C50: =VLOOKUP(E50,Dorsales!A:I,2,FALSE) -> ------- | H50: =IF((F50*60+G50)>B50,0,IF(F50>=A50,((A50*60*2)-F50*60-G50),F50*60+G50)) -> 0 | J50: =IF(H50<30,0,IF(I50=0,0,IF(I50>15,0,32-I50*2))) -> 0 | K50: =IF(I50>100,0,H50+J50) -> 0 | L50: =IF(K50=0,0,K50/K52*1000) -> 0
D52: Tiempo de Vuelo | F52: =A41 -> 7 | H52: Max. Ptos.Reales | K52: =MAX(K41:K50) -> 0
...

Sheet Vuelo 4
D1: Vuelo 4 | G1: MINIMANGA DE 'RE-FLIGHT' | P1: =IF((F7*60+G7)>Instrucciones!C14,0,IF(F7>=Instrucciones!B10,((Instrucciones!B10*60*2)-F7*60-G7),F7*60+G7)) -> 0
C2: Concursante | D2: Juez | E2: DORSAL* | F2: minutos | G2: segundos | H2: P.Vuelo | I2: m.Toma | J2: P.Toma | K2: P.Reales | L2: P.FAI
A3: 7 | B3: 510 | C3: =VLOOKUP(E3,Dorsales!A:I,2,FALSE) -> ------- | H3: =IF((F3*60+G3)>B3,0,IF(F3>=A3,((A3*60*2)-F3*60-G3),F3*60+G3)) -> 0 | J3: =IF(H3<30,0,IF(I3=0,0,IF(I3>15,0,32-I3*2))) -> 0 | K3: =IF(I3>100,0,H3+J3) -> 0 | L3: =IF(K3=0,0,K3/K14*1000) -> 0
A4: 7 | B4: 510 | C4: =VLOOKUP(E4,Dorsales!A:I,2,FALSE) -> ------- | H4: =IF((F4*60+G4)>B4,0,IF(F4>=A4,((A4*60*2)-F4*60-G4),F4*60+G4)) -> 0 | J4: =IF(H4<30,0,IF(I4=0,0,IF(I4>15,0,32-I4*2))) -> 0 | K4: =IF(I4>100,0,H4+J4) -> 0 | L4: =IF(K4=0,0,K4/K14*1000) -> 0
A5: 7 | B5: 510 | C5: =VLOOKUP(E5,Dorsales!A:I,2,FALSE) -> ------- | H5: =IF((F5*60+G5)>B5,0,IF(F5>=A5,((A5*60*2)-F5*60-G5),F5*60+G5)) -> 0 | J5: =IF(H5<30,0,IF(I5=0,0,IF(I5>15,0,32-I5*2))) -> 0 | K5: =IF(I5>100,0,H5+J5) -> 0 | L5: =IF(K5=0,0,K5/K14*1000) -> 0
A6: 7 | B6: 510 | C6: =VLOOKUP(E6,Dorsales!A:I,2,FALSE) -> ------- | H6: =IF((F6*60+G6)>B6,0,IF(F6>=A6,((A6*60*2)-F6*60-G6),F6*60+G6)) -> 0 | J6: =IF(H6<30,0,IF(I6=0,0,IF(I6>15,0,32-I6*2))) -> 0 | K6: =IF(I6>100,0,H6+J6) -> 0 | L6: =IF(K6=0,0,K6/K14*1000) -> 0
A7: 7 | B7: 510 | C7: =VLOOKUP(E7,Dorsales!A:I,2,FALSE) -> ------- | H7: =IF((F7*60+G7)>B7,0,IF(F7>=A7,((A7*60*2)-F7*60-G7),F7*60+G7)) -> 0 | J7: =IF(H7<30,0,IF(I7=0,0,IF(I7>15,0,32-I7*2))) -> 0 | K7: =IF(I7>100,0,H7+J7) -> 0 | L7: =IF(K7=0,0,K7/K14*1000) -> 0
A8: 7 | B8: 510 | C8: =VLOOKUP(E8,Dorsales!A:I,2,FALSE) -> ------- | H8: =IF((F8*60+G8)>B8,0,IF(F8>=A8,((A8*60*2)-F8*60-G8),F8*60+G8)) -> 0 | J8: =IF(H8<30,0,IF(I8=0,0,IF(I8>15,0,32-I8*2))) -> 0 | K8: =IF(I8>100,0,H8+J8) -> 0 | L8: =IF(K8=0,0,K8/K14*1000) -> 0
A9: 7 | B9: 510 | C9: =VLOOKUP(E9,Dorsales!A:I,2,FALSE) -> ------- | H9: =IF((F9*60+G9)>B9,0,IF(F9>=A9,((A9*60*2)-F9*60-G9),F9*60+G9)) -> 0 | J9: =IF(H9<30,0,IF(I9=0,0,IF(I9>15,0,32-I9*2))) -> 0 | K9: =IF(I9>100,0,H9+J9) -> 0 | L9: =IF(K9=0,0,K9/K14*1000) -> 0
A10: 7 | B10: 510 | C10: =VLOOKUP(E10,Dorsales!A:I,2,FALSE) -> ------- | H10: =IF((F10*60+G10)>B10,0,IF(F10>=A10,((A10*60*2)-F10*60-G10),F10*60+G10)) -> 0 | J10: =IF(H10<30,0,IF(I10=0,0,IF(I10>15,0,32-I10*2))) -> 0 | K10: =IF(I10>100,0,H10+J10) -> 0 | L10: =IF(K10=0,0,K10/K14*1000) -> 0
A11: 7 | B11: 510 | C11: =VLOOKUP(E11,Dorsales!A:I,2,FALSE) -> ------- | H11: =IF((F11*60+G11)>B11,0,IF(F11>=A11,((A11*60*2)-F11*60-G11),F11*60+G11)) -> 0 | J11: =IF(H11<30,0,IF(I11=0,0,IF(I11>15,0,32-I11*2))) -> 0 | K11: =IF(I11>100,0,H11+J11) -> 0 | L11: =IF(K11=0,0,K11/K14*1000) -> 0
A12: 7 | B12: 510 | C12: =VLOOKUP(E12,Dorsales!A:I,2,FALSE) -> ------- | H12: =IF((F12*60+G12)>B12,0,IF(F12>=A12,((A12*60*2)-F12*60-G12),F12*60+G12)) -> 0 | J12: =IF(H12<30,0,IF(I12=0,0,IF(I12>15,0,32-I12*2))) -> 0 | K12: =IF(I12>100,0,H12+J12) -> 0 | L12: =IF(K12=0,0,K12/K14*1000) -> 0
D13: *A los dorsales cuya puntuacion no sea la valida se les sumara 50
D14: Tiempo de Vuelo | F14: =A3 -> 7 | H14: Max. Ptos.Reales | K14: =MAX(K3:K12) -> 0
D19: Vuelo 4 | G19: MINIMANGA 1
C20: Concursante | D20: Juez | E20: DORSAL | F20: minutos | G20: segundos | H20: P.Vuelo | I20: m.Toma | J20: P.Toma | K20: P.Reales | L20: P.FAI
A21: 7 | B21: 510 | C21: =VLOOKUP(E21,Dorsales!A:I,2,FALSE) -> Miguel de la Torre | D21: 1 | E21: 1 | F21: 7 | G21: 3.19 | H21: =IF((F21*60+G21)>B21,0,IF(F21>=A21,((A21*60*2)-F21*60-G21),F21*60+G21)) -> 416.81 | I21: 3 | J21: =IF(H21<30,0,IF(I21=0,0,IF(I21>15,0,32-I21*2))) -> 26 | K21: =IF(I21>100,0,H21+J21) -> 442.81 | L21: =IF(K21=0,0,K21/K32*1000) -> 990.95893
A22: 7 | B22: 510 | C22: =VLOOKUP(E22,Dorsales!A:I,2,FALSE) -> José Antonio Papin | D22: 2 | E22: 2 | F22: 7 | G22: 1.97 | H22: =IF((F22*60+G22)>B22,0,IF(F22>=A22,((A22*60*2)-F22*60-G22),F22*60+G22)) -> 418.03 | I22: 5 | J22: =IF(H22<30,0,IF(I22=0,0,IF(I22>15,0,32-I22*2))) -> 22 | K22: =IF(I22>100,0,H22+J22) -> 440.03 | L22: =IF(K22=0,0,K22/K32*1000) -> 984.73761
